{"text_format":"1","workbook":"xlsx","n_sheets":34,"sheets":["Info","Conversion unités","Mise en forme- input","Macro1","Entrée de données","Résultats - Bilan de matière ","Résultats - Bilan de matière EE","Résultats- Mesures d'EE","Micro-modulation1 à 4","Réduction de la purge 1 à 4","Économiseurs 1 à 4 ","Récupération de la purge","Récup. évent dégazeur 1 à 4","Comb_1","Bilan_1","Comb_1 (micro)","Bilan_1 EE","Radiation_Convection_a_jour","Radition_Convection_Equations","Données vapeur surchauffée","Tableau complet Vapeur","Comb_2","Bilan_2","Comb_2 (micro)","Bilan_2 EE","Comb_3","Bilan_3","Comb_3 (micro)","Bilan_3 EE","Comb_4","Bilan_4","Comb_4 (micro)","Bilan_4 EE","Données vapeur"],"not_rendered":{"charts":52,"images":8,"macros":1,"external_links":6,"defined_names":489,"comments":17,"pivot_tables":0},"unopened":[],"bounds":{"document_bytes":16777216,"sheet_cells":100000,"rows_first":2000,"rows_last":500,"rows_between":2000,"halvings":0,"cell_chars":16384,"cell_head_chars":4096},"cells_cut":0,"cells_raw":0,"read":"whole","date_system":"1900"}

{"sheet":"Info","index":0,"n_rows":107,"n_cols":3,"rows_kept":107,"cut":false,"hidden":false,"merged":[[18,2,19,12],[58,2,59,12],[61,2,62,12],[80,2,81,12],[99,2,100,12],[48,2,48,12],[46,2,46,12]]}
[]
[]
[null,"Calculateur des centrales thermiques"]
[]
[null,"Guide de l'utilisateur"]
[]
[null,"Instructions"]
[]
[null,"1.","Si l'avertissement de sécurité apparaît, activez les macros en cliquant sur le bouton Activer les macros."]
[]
[]
[]
[]
[]
[]
[]
[]
[]
[null,"2.","Activez le calcul itératif en suivant les étapes suivantes:\nFichier → Options → Formules. Cocher la case: \"Activer le calcul itératif\" et entrez un nombre maximal d'itérations de 100."]
[]
[]
[]
[]
[]
[]
[]
[]
[]
[]
[]
[]
[]
[]
[]
[]
[]
[]
[]
[]
[]
[]
[]
[null,"3.","Sélectionnez l'onglet Entrée de données."]
[]
[null,"4.","Entrez les informations demandées, puis cliquer sur le bouton Étape suivante. Référez-vous à la section Définitions ci-bas."]
[]
[null,"5.","Entrez les nouvelles informations demandées, puis cliquer sur le bouton Calculer les économies d'énergie. Référez-vous à la section Définitions ci-bas."]
[]
[null,"6.","Sélectionnez les onglets Résultats - Bilan de matières, Résultats - Bilan de matières EE et Résultats - Mesures d'EE pour visualiser les résultats."]
[]
[null,"7.","Si vous effectuez des changements dans l'onglet Entrée de données, veuillez de nouveau cliquer sur le bouton Calculer les économies d'énergie  pour mettre à jour les résultats."]
[]
[null,"Définitions des termes techniques"]
[]
[null,"1.","Centrale thermique : Une centrale qui produit de la vapeur à l’aide d’une ou plusieurs chaudières à vapeur."]
[]
[null,"2.","Puissance installée du brûleur de la chaudière: Puissance du brûleur installé sur chacune des chaudières."]
[]
[null,"3.","Capacité de production de vapeur de la chaudière : Quantité maximale (kg/h ou lb/h) de vapeur produite par la chaudière. La capacité de production prend en compte la vapeur utilisée et la vapeur perdue par l’évent du dégazeur."]
[]
[]
[null,"4.","Production moyenne de vapeur de la chaudière : Quantité moyenne de vapeur produite en opération standard de la chaudière. La production moyenne de vapeur prend en compte la vapeur utilisée et la vapeur perdue par l’évent du dégazeur."]
[]
[]
[null,"5.","Eau d'appoint : Eau de ville."]
[]
[null,"6.","Eau d'alimentation : Eau alimentée à la chaudière. En général, l’eau d’alimentation est la somme du débit d’eau d’appoint et du débit d’eau de condensat."]
[]
[null,"7.","Efficacité de combustion : Efficacité des brûleurs prenant en compte les pertes par les fumées de combustion du gaz naturel."]
[]
[null,"8.","Efficacité de chauffe : Efficacité de la chaudière prenant en compte l’efficacité de combustion et les pertes par radiation."]
[]
[null,"Hypothèses considérées"]
[]
[null,"1."," Toutes les chaudières de la centrale thermique opèrent à une même pression."]
[]
[null,"2.","Les propriétés du condensat (température, % d’eau d’alimentation) sont les mêmes pour chacune des chaudières de la centrale thermique."]
[]
[null,"3.","L'ajout de la micro-modulation modifie l’efficacité de combustion de la chaudière. "]
[]
[null,"4.","L'efficacité de combustion initiale de la chaudière a été déterminée en fonction de la température du gaz naturel, de la température des fumées et du pourcentage d’excès d’air, selon un calculateur développé par le CTGN. "]
[]
[]
[null,"5.","Il est possible d’ajouter de la micro-modulation à chaque chaudière de la centrale thermique."]
[]
[null,"6.","Il est possible de réduire le taux de purge de chaque chaudière de la centrale thermique."]
[]
[null,"7.","Il est possible d’ajouter un économiseur à chaque chaudière de la centrale thermique."]
[]
[null,"8.","L'énergie récupérée par l’ajout d’un économiseur non-condensant permet de préchauffer l’eau d’alimentation de la chaudière."]
[]
[null,"9.","L'énergie récupérée par l’ajout d’un économiseur condensant permet de préchauffer l’eau d’appoint de la centrale."]
[]
[null,"10.","La totalité de l’énergie récupérée par l’économiseur sert à préchauffer l’eau d’alimentation ou l’eau d’appoint selon le type d’économiseur. "]
[]
[null,"11.","La récupération de l’énergie contenue dans la purge ne s’applique qu’à la centrale thermique. Il n’est pas possible d’ajouter un récupérateur par chaudière. "]
[]
[null,"12.","L'énergie récupérée dans les purges permet de préchauffer l’eau d’appoint de la centrale thermique."]
[]
[null,"13.","Il n’y a qu’un dégazeur pour l’ensemble de la centrale thermique. L’apport en vapeur au dégazeur est séparé équitablement entre le nombre de chaudières dans la centrale selon leur profil d’utilisation."]
[]
[]
[null,"14.","La récupération de l’énergie contenue dans l’évent du dégazeur ne s’applique qu’à la centrale thermique. "]
[]
[null,"15.","L'énergie récupérée dans l’évent du dégazeur permet de préchauffer l’eau d’appoint de la centrale thermique."]
[]
[null,"16.","L'ensemble des chaudières de la centrale thermique sont alimentées avec la même eau d’appoint et à la même température. "]

{"sheet":"Conversion unités","index":1,"n_rows":41,"n_cols":8,"rows_kept":41,"cut":false,"hidden":false,"merged":[[1,1,2,4],[3,1,4,4],[20,1,21,1],[20,2,21,2]]}
[]
[null,"Conversion des données"]
[]
[null,"Instructions :\nL'utilisateur peut utiliser les cellules ci-dessous pour effectuer la conversion des données sur les chaudières qui ne sont pas fournies en unités internationales ou dans l'unité désirée.\n1- Entrer les données d'origine (Cellules foncées)\n2- Sélectionner l'unité d'origine\n3- Utiliser la valeur convertie dans  l'onglet \"Entrée de données\" du calculateur."]
[]
[null,null,"Valeur d'origine","Sélection de l'unité d'origine","Valeur convertie pour utilisation du calculateur"]
[null,"Puissance (kW)",null,null,{"$f":"IF(C25=1,C7,IF(C25=2,C7*$C$27,IF(C25=3,C7*$C$28,\"-\")))","v":0}]
[null,"Puissance (BHP)",null,null,{"$f":"IF(E25=1,C8/C28*C26,IF(E25=2,C8/C28*C27,IF(E25=3,C8,\"-\")))","v":0}]
[null,"Pression (kPa)",null,null,{"$f":"IF(C30=1,C9,IF(C30=2,C9*$C$32,IF(C30=3,(C9+14.696)*$C$32,\"-\")))","v":101.3259808}]
[null,"Pression (psig)",null,null,{"$f":"IF(D30=1,C10/C32-14.696,IF(D30=2,C10-14.696,IF(D30=3,C10,\"-\")))","v":-14.696}]
[null,"Température (°C)",null,null,{"$f":"IF(C35=1,C11,IF(C35=2,(C11-32)/1.8,\"-\"))","v":0}]
[null,"Excès d'O2 (%)",null,null,{"$f":"IF(D39=1,200*C12/(852+9.52*C12),IF(D39=2,C12,\"-\"))","v":0}]
[null,"Excès d'air (%)",null,null,{"$f":"IF(C39=1,C13,IF(C39=2,(852*C13)/(200-9.52*C13),\"-\"))","v":0}]
[]
[null,"Tableau de conversion"]
[null,null,"Facteur de conversion"]
[null,"De Millions de Btu/h à kW",293.07]
[null,"De BHP à kW",9.8094999999999999]
[null,"De psi à kPa",6.8948]
[null,"De °F à °C","= (°F-32)/1,8"]
[null,"De %O2 sec à % d'excès d'air"]
[]
[]
[]
[null,null,2,2,1]
[null,"kW",1,"kW = 1 kW"]
[null,"Millions de Btu/h",293.07,"kW = 1 MMBTu/h "]
[null,"BHP",9.8094999999999999,"kW = 1 BHP"]
[]
[null,null,3,1]
[null,"kPa",1,"kPa = 1 kPa"]
[null,"psi",6.8948,"kPa= 1 psi"]
[null,"psig","psi + 14.696","kPa = 1 psig"]
[]
[null,null,1,1,1,1,2,1]
[null,"° C",1]
[null,"° F"]
[]
[null,null,2,1]
[null,"% d'excès d'air",1]
[null,"% d'O2 sec"]

{"sheet":"Mise en forme- input","index":2,"n_rows":26,"n_cols":11,"rows_kept":26,"cut":false,"hidden":true,"merged":[]}
[]
[null,"Lien entre les cases à cocher pour les mesures d'EE sélectionnées"]
[null,"Micro-ondulation",false,null,null,null,null,null,null,"Tout faux",{"$f":"IF(AND(C3=FALSE,C4=FALSE,C5=FALSE,C6=FALSE,C7=FALSE),\"X\",\"\")","v":"X"}]
[null,"Réduction de la purge",false,null,null,null,null,null,null,"Juste micro",{"$f":"IF(AND(C3=TRUE,C4=FALSE,C5=FALSE,C6=FALSE,C7=FALSE),\"X\",\"\")","v":""}]
[null,"Économiseur",false,null,null,null,null,null,null,"Juste reduc purge",{"$f":"IF(AND(C3=FALSE,C4=TRUE,C5=FALSE,C6=FALSE,C7=FALSE),\"X\",\"\")","v":""}]
[null,"Récupération d'énergie de la purge",false,null,null,null,null,null,null,"econo, reduc purge ou reduc event",{"$f":"IF(OR(C5=TRUE,C6=TRUE,C7=TRUE),\"X\",\"\")","v":""}]
[null,"Récup évent dégazeur",false]
[]
[null,"Lien entre les cases à cocher pour les chaudières avec la micro-ondulation",null,null,null,"nombre de chaudières sélectionnées:"]
[null,"Chaudière 1",false,null,null,{"$f":"COUNTIF(C10:C13,TRUE)","v":0}]
[null,"Chaudière 2",false]
[null,"Chaudière 3",false]
[null,"Chaudière 4",false]
[]
[null,"Lien entre les cases à cocher pour les chaudières avec économiseurs",null,null,null,"nombre de chaudières sélectionnées:",null,null,null,"Économiseur condensant"]
[null,"Chaudière 1",false,null,null,{"$f":"COUNTIF(C16:C19,TRUE)","v":0},null,null,null,{"$f":"IF('Entrée de données'!C111=2,TRUE,FALSE)","v":false}]
[null,"Chaudière 2",false,null,null,null,null,null,null,{"$f":"IF('Entrée de données'!D111=2,TRUE,FALSE)","v":false}]
[null,"Chaudière 3",false,null,null,null,null,null,null,{"$f":"IF('Entrée de données'!E111=2,TRUE,FALSE)","v":false}]
[null,"Chaudière 4",false,null,null,null,null,null,null,{"$f":"IF('Entrée de données'!F111=2,TRUE,FALSE)","v":false}]
[null,"Cheminé commune",false,null,null,null,null,null,null,"Au moins un économiseur condensant:",{"$f":"IF(OR(J16=TRUE,J17=TRUE,J18=TRUE,J19=TRUE),TRUE,FALSE)","v":false}]
[]
[null,"Lien entre les cases à cocher pour les chaudières avec réduction purge",null,null,null,"nombre de chaudières sélectionnées:"]
[null,"Chaudière 1",false,null,null,{"$f":"COUNTIF(C23:C26,TRUE)","v":0}]
[null,"Chaudière 2",false]
[null,"Chaudière 3",false]
[null,"Chaudière 4",false]

{"sheet":"Macro1","index":3,"n_rows":0,"n_cols":0,"rows_kept":0,"cut":false,"hidden":true,"merged":[]}

{"sheet":"Entrée de données","index":4,"n_rows":135,"n_cols":18,"rows_kept":135,"cut":false,"hidden":false,"merged":[[73,5,76,5],[65,3,68,4],[65,5,68,5],[102,1,102,5],[50,6,50,7],[51,6,51,7],[73,1,76,1],[60,1,64,1],[65,1,68,1],[73,3,76,4],[78,1,78,5],[91,1,91,5],[93,1,94,5],[80,1,81,5],[86,1,87,1],[82,1,82,5],[33,6,33,7],[34,6,34,7],[35,6,35,7],[36,6,36,8],[5,1,5,5],[20,3,20,4],[23,1,23,5],[13,2,13,5],[14,2,14,5],[15,2,15,5],[16,1,16,5],[18,1,19,5],[3,1,4,5],[1,1,2,5],[6,2,6,5],[7,2,7,5],[69,1,72,1],[69,3,72,4],[69,5,72,5],[8,1,8,5],[9,1,9,5],[10,2,10,5],[11,2,11,5],[12,2,12,5],[60,5,64,5],[53,1,53,5],[54,3,54,5],[58,1,59,5],[39,1,39,5],[46,1,46,5],[43,1,44,1],[24,1,25,1],[40,1,41,1],[83,1,83,5],[84,1,84,5],[120,1,120,5],[114,1,114,5],[119,1,119,5],[128,1,129,5],[130,1,130,5],[131,1,131,5],[132,1,132,5],[95,1,95,5],[104,1,105,5],[106,1,106,5],[107,1,107,5],[108,1,108,5],[96,1,96,5],[97,1,97,5],[116,1,117,5],[118,1,118,5],[126,1,126,5],[123,3,123,4]]}
[]
[null,"Formulaire d'entrée de données",null,null,null,null,null,null,null,null,null,null,null,"Retour de condensat","Caractéristique de la vapeur","% d'excès d'air","% de purge","Type de chaudière"]
[null,null,null,null,null,null,null,null,null,null,null,null,null,null,null,null,0]
[null,"Instructions :\nL'utilisateur doit avant tout saisir le nombre de chaudières qu'il souhaite analyser, puis il doit compléter les cases bleues correspondant à la chaudière étudiée, en utilisant les données nominales des équipements, ainsi que celles collectées lors de l'opération de la chaudière. L'utilisateur doit sélectionner certaines données à partir d'un menu déroulant. Pour les propriétés de la vapeur, il est nécessaire de saisir les données pour la vapeur saturée ou surchauffée, selon le cas.\nL'utilisateur doit ensuite entrer les données demandées associées aux mesures d'efficacité énergétique auxquelles il souhaite adhérer, une fois avoir cliqué sur le bouton « Section suivante ».\n\nL'utilisateur doit cliquer sur le bouton «Calculer les économies d'énergie » pour obtenir les résultats.\n\nLes résultats obtenus du bilan de matière avant l'ajout de mesures d'efficacité énergétique sont présentés dans l'onglet « Résultats - Bilan de matière». Ils incluent la quantité de vapeur utile pouvant être produite par chaque chaudière, ainsi que de l'efficacité de chauffe et de production de vapeur utile. Les résultats obtenus du bilan de matière après l'ajout de mesures d'efficacité énergétique sont présentés dans l'onglet « Résultats - Bilan de matière EE». \n\nLes économies d'énergies associées aux mesures d'efficacité énergétique sélectionnées sont présentées dans l'onglet « Résultats - Mesures d'EE ».\n\nNotez qu'il est possible d'utiliser l'onglet conversion pour convertir les données qui ne sont pas disponibles en unités internationales.",null,null,null,null,null,null,null,null,null,null,null,"Oui","Vapeur saturée",0.01,{"$f":"Q3+0.01","v":0.01},"Tubes de fumées"]
[null,2,null,null,null,null,null,null,null,null,null,null,null,"Non","Vapeur surchauffée",{"$f":"P4+0.01","v":0.02},{"$f":"Q4+0.01","v":0.02},"Tubes d'eau"]
[null,2,null,null,null,null,null,null,"T in de l'eau : 60°C\nEff chaudière: 80%\n",null,null,null,null,null,null,{"$f":"P5+0.01","v":0.03},{"$f":"Q5+0.01","v":0.03},"A serpentin"]
[null,"Nom de l'ingénieur",null,null,null,null,null,null,null,null,null,null,null,null,null,0.04,0.04,"Sans tube"]
[null,"Nom de la firme",null,null,null,null,null,null,null,null,null,null,null,null,null,0.05,0.05]
[null,null,null,null,null,null,null,null,null,null,null,null,null,null,null,6.0000000000000005E-2,6.0000000000000005E-2]
[null,"Informations sur le client",null,null,null,null,null,null,null,null,null,null,null,null,null,7.0000000000000007E-2,7.0000000000000007E-2]
[null,"Nom de la compagnie",null,null,null,null,null,null,null,null,null,null,null,null,null,0.08,0.08]
[null,"Site",null,null,null,null,null,null,null,null,null,null,null,null,null,0.09,0.09]
[null,"Adresse du site",null,null,null,null,null,null,null,null,null,null,null,null,null,9.9999999999999992E-2,9.9999999999999992E-2]
[null,"Personne-ressource",null,null,null,null,null,null,null,null,null,null,null,null,null,0.10999999999999999,0.10999999999999999]
[null,"Téléphone",null,null,null,null,null,null,null,null,null,null,null,null,null,0.11999999999999998,0.11999999999999998]
[null,"Date du rapport",null,null,null,null,null,null,null,null,null,null,null,null,null,0.12999999999999998,0.12999999999999998]
[null,null,null,null,null,null,null,null,null,null,null,null,null,null,null,0.13999999999999999,0.13999999999999999]
[null,null,null,null,null,null,null,null,null,null,null,null,null,null,null,0.15,0.15]
[null,"Informations sur la centrale thermique",null,null,null,null,null,null,null,null,null,null,null,null,null,0.16,0.16]
[null,null,null,null,null,null,null,null,null,null,null,null,null,null,null,0.17,0.17]
[null,"Nombre de chaudières dans la centrale thermique:",null,{"$f":"IF(OR(F21=\"\",F21=0),\"Veuillez inscrire le nombre de chaudières\",\"\")","v":"Veuillez inscrire le nombre de chaudières"},null,null,null,null,null,null,null,null,null,null,null,0.18000000000000002,0.18000000000000002]
[null,null,"Chaudière 1","Chaudière 2","Chaudière 3","Chaudière 4",null,null,null,null,null,null,null,null,null,0.19000000000000003,0.19000000000000003]
[null,null,null,null,null,null,null,null,null,null,null,null,null,null,null,0.20000000000000004,0.20000000000000004]
[null,"Efficacité des chaudières",null,null,null,null,null,null,null,null,null,null,null,null,null,0.21000000000000005,0.21000000000000005]
[null,"Type de chaudière:",1,1,1,1,null,null,null,null,null,null,null,null,null,0.22000000000000006,0.22000000000000006]
[null,null,{"$f":"IF(C25=2,\"\",\"Cette chaudière ne peut pas produire de vapeur surchauffée.\")","v":"Cette chaudière ne peut pas produire de vapeur surchauffée."},{"$f":"IF(D25=2,\"\",\"Cette chaudière ne peut pas produire de vapeur surchauffée.\")","v":"Cette chaudière ne peut pas produire de vapeur surchauffée."},"Cette chaudière ne peut pas produire de vapeur surchauffée.",{"$f":"IF(F21<4,\"\",IF(F25=2,\"\",\"Cette chaudière ne peut pas produire de vapeur surchauffée.\"))","v":""},null,null,null,null,null,null,null,null,null,0.23000000000000007,0.23000000000000007]
[null,"Puissance installée du brûleur de la chaudière (kW)\n",null,null,null,null,null,null,null,null,null,null,null,null,null,0.24000000000000007,0.24000000000000007]
[null,"Capacité de production de vapeur de la chaudière \n(BHP)",null,null,null,null,null,null,null,null,null,null,null,null,null,0.25000000000000006,0.25000000000000006]
[null,"(kW)",{"$f":"C28*'Conversion unités'!$C$18","v":0},{"$f":"D28*'Conversion unités'!$C$18","v":0},{"$f":"E28*'Conversion unités'!$C$18","v":0},{"$f":"F28*'Conversion unités'!$C$18","v":0},null,null,null,null,null,null,null,null,null,0.26000000000000006,0.26000000000000006]
[null,"Commentaire\n(ne pas compléter cette cellule)",{"$f":"IF(C29>C27,\"La capacité de production de vapeur ne peut être supérieure à la puissance installée du brûleur de la chaudière. Veuillez entrer une autre valeur .\",\"\")","v":""},{"$f":"IF(D29>D27,\"La capacité de production de vapeur ne peut être supérieure à la puissance installée du brûleur de la chaudière. Veuillez entrer une autre valeur .\",\"\")","v":""},"","",null,null,null,null,null,null,null,null,null,0.27000000000000007,0.27000000000000007]
[null,"Production moyenne de vapeur de la chaudière \n(BHP)",null,null,null,null,null,null,null,null,null,null,null,null,null,0.28000000000000008,0.28000000000000008]
[null,"(kW)",{"$f":"C31*'Conversion unités'!$C$18","v":0},{"$f":"D31*'Conversion unités'!$C$18","v":0},{"$f":"E31*'Conversion unités'!$C$18","v":0},{"$f":"F31*'Conversion unités'!$C$18","v":0},null,null,null,null,null,null,null,null,null,0.29000000000000009,0.29000000000000009]
[null,"Commentaire\n(ne pas compléter cette cellule)",{"$f":"IF(C32>C29,\"La production moyenne de vapeur ne peut être supérieure à la capacité de production de vapeur de la chaudière. Veuillez entrer une autre valeur .\",\"\")","v":""},{"$f":"IF(D32>D29,\"La production moyenne de vapeur ne peut être supérieure à la capacité de production de vapeur de la chaudière. Veuillez entrer une autre valeur .\",\"\")","v":""},"","",null,null,null,null,null,null,null,null,null,0.3000000000000001,0.3000000000000001]
[null,"Température des fumées (°C)",200,200,200,200,"Si pas de valeur disponible, prendre 200 °C. ",null,null,null,"Efficacité de combustion des chaudières selon bilan de matière initial",null,null,null,null,0.31000000000000011,0.31000000000000011]
[null,"Température de l'air de combustion (°C)",20,20,20,20,"Si pas de valeur disponible, prendre 20 °C. ",null,null,"Chaudière 1",{"$f":"Comb_1!G2","v":0.82756709960948083},null,null,null,null,0.32000000000000012,0.32000000000000012]
[null,"% Excès d'air de combustion",30,30,30,30,"% molaire. Si pas de valeur disponible, prendre 30 %.",null,null,"Chaudière 2",{"$f":"Comb_2!G2","v":0.82756709960948083},null,null,null,null,0.33000000000000013,0.33000000000000013]
[null,"Température du gaz naturel (°C)",20,20,20,20,"Utiliser  20 °C si aucune valeur n'est disponible ou la température de l'air de combustion",null,null,"Chaudière 3",{"$f":"Comb_3!G2","v":0.82756709960948083},null,null,null,null,0.34000000000000014,0.34000000000000014]
[null,"Nombre d'heures d'opération annuelle",null,null,null,null,null,null,null,"Chaudière 4",{"$f":"Comb_4!G2","v":0.82756709960948083},null,null,null,null,0.35000000000000014,0.35000000000000014]
[null,null,null,null,null,null,null,null,null,null,null,null,null,null,null,0.36000000000000015,0.36000000000000015]
[null,"Propriétés de la vapeur pour chaque chaudière",null,null,null,null,null,null,null,null,null,null,null,null,null,0.37000000000000016,0.37000000000000016]
[null,"Type de vapeur produite\n(ne pas compléter cette cellule)",1,1,1,1,null,null,null,null,null,null,null,null,null,0.38000000000000017,0.38000000000000017]
[null,null,{"$f":"IF(AND(OR(C25=1,C25=3,C25=4),C41=2),\"Ce type de chaudière ne peut être utilisé pour la production de vapeur surchauffée. Veuillez effectuer une autre sélection.\",\"\")","v":""},{"$f":"IF(AND(OR(D25=1,D25=3,D25=4),D41=2),\"Ce type de chaudière ne peut être utilisé pour la production de vapeur surchauffée. Veuillez effectuer une autre sélection.\",\"\")","v":""},{"$f":"IF(AND(OR(E25=1,E25=3,E25=4),E41=2),\"Ce type de chaudière ne peut être utilisé pour la production de vapeur surchauffée. Veuillez effectuer une autre sélection.\",\"\")","v":""},{"$f":"IF(AND(OR(F25=1,F25=3,F25=4),F41=2),\"Ce type de chaudière ne peut être utilisé pour la production de vapeur surchauffée. Veuillez effectuer une autre sélection.\",\"\")","v":""},null,null,null,null,null,null,null,null,null,0.39000000000000018,0.39000000000000018]
[null,"Pression manométrique (kPa)",null,{"$f":"C43","v":0},{"$f":"C43","v":0},{"$f":"C43","v":0},null,null,null,null,null,null,null,null,null,0.40000000000000019,0.40000000000000019]
[null,"Degré de surchauffe (°C)",{"$f":"IF(C41=1, \"Non nécessaire\", \"Inscrire une valeur ci-dessous\")","v":"Non nécessaire"},{"$f":"IF(D41=1, \"Non nécessaire\", \"Inscrire une valeur ci-dessous\")","v":"Non nécessaire"},{"$f":"IF(E41=1, \"Non nécessaire\", \"Inscrire une valeur ci-dessous\")","v":"Non nécessaire"},{"$f":"IF(F41=1, \"Non nécessaire\", \"Inscrire une valeur ci-dessous\")","v":"Non nécessaire"},null,null,null,null,null,null,null,null,null,0.4100000000000002,0.4100000000000002]
[null,null,null,null,null,null,null,null,null,null,null,null,null,null,null,0.42000000000000021,0.42000000000000021]
[null,null,null,null,null,null,null,null,null,null,null,null,null,null,null,0.43000000000000022,0.43000000000000022]
[null,"Autres données",null,null,null,null,null,null,null,null,null,null,null,null,null,0.44000000000000022,0.44000000000000022]
[null,"Température d'alimentation de l'eau d'appoint (°C)",null,{"$f":"IF($F$21<2,0,$C$48)","v":0},{"$f":"IF($F$21<3,0,$C$48)","v":0},{"$f":"IF($F$21<4,0,$C$48)","v":0},null,null,null,null,null,null,null,null,null,0.45000000000000023,0.45000000000000023]
[null,"Retour de condensat disponible?",1,{"$f":"IF(F21<2,0,$C$49)","v":0},{"$f":"IF(F21<3,0,$C$49)","v":0},{"$f":"IF(F21<4,0,$C$49)","v":0},null,null,null,null,null,null,null,null,null,0.46000000000000024,0.46000000000000024]
[null,"% de condensat dans l'eau d'alimentation",null,{"$f":"IF($F$21<2,0,$C$50)","v":0},{"$f":"IF($F$21<3,0,$C$50)","v":0},{"$f":"IF($F$21<4,0,$C$50)","v":0},"Inscrire 0 s'il n'y a pas de retour de condensat",null,null,null,null,null,null,null,null,0.47000000000000025,0.47000000000000025]
[null,"Température du retour de condensat (°C)",null,{"$f":"IF($F$21<2,100,$C$51)","v":100},{"$f":"IF($F$21<3,100,$C$51)","v":100},{"$f":"IF($F$21<4,100,$C$51)","v":100},"Utiliser  100°C si aucune valeur n'est disponible.",null,null,null,null,null,null,null,null,0.48000000000000026,0.48000000000000026]
[null,"% de purge de la chaudière ",1,1,1,1,"% de la quantité d'eau alimentée. Utiliser 6 % si pas de valeur disponible.",null,null,null,null,null,null,null,null,0.49000000000000027,0.49000000000000027]
[null,null,null,null,null,null,null,null,null,null,null,null,null,null,null,0.50000000000000022,0.50000000000000022]
[null,"Dégazeur",null,null,null,null,null,null,null,"Dégazeur",null,null,null,null,null,0.51000000000000023,0.51000000000000023]
[null,"Est-ce que la centrale thermique à un dégazeur?",1,{"$f":"IF(C2=\"\",IF(K4>C55,\"L'efficacité après micro-modulation doit être supérieure à l'efficacité avant modulation\",\"\"),IF(C2>C55,\"L'efficacité après micro-modulation doit être supérieure à l'efficacité avant modulation\",\"\"))","v":""},null,null,null,null,null,"Oui",null,null,null,null,null,0.52000000000000024,0.52000000000000024]
[null,"Pression d'opération du dégazeur (psig)",null,null,null,null,null,null,null,"Non",null,null,null,null,null,0.53000000000000025,0.53000000000000025]
[null,null,null,null,null,null,null,null,null,null,null,null,null,null,null,0.54000000000000026,0.54000000000000026]
[null,null,null,null,null,null,null,null,null,null,null,null,null,null,null,0.55000000000000027,0.55000000000000027]
[null,"Informations sur les mesures d'efficacité énergétique sélectionnées",null,null,null,null,null,null,null,null,null,null,null,null,null,0.56000000000000028,0.56000000000000028]
[null,null,null,null,null,null,null,null,null,null,null,null,null,null,null,0.57000000000000028,0.57000000000000028]
[null,"Cochez les mesures d'efficacité énergétique auxquelles vous désirez appliquer:",null,null,null,{"$f":"IF(AND('Mise en forme- input'!C7=TRUE,'Entrée de données'!C55=2),\"Vous ne pouvez pas appliquer pour la mesure d'efficacité énergétique de récupération de l'énergie évacuée par l'évent du dégazeur s'il n'y a pas de dégazeur dans la centrale thermique.\",\"\")","v":""},null,null,null,null,null,null,null,null,null,0.58000000000000029,0.58000000000000029]
[null,null,null,null,null,null,null,null,null,null,null,null,null,null,null,0.5900000000000003,0.5900000000000003]
[null,null,null,null,null,null,null,null,null,null,null,null,null,null,null,0.60000000000000031,0.60000000000000031]
[null,null,null,null,null,null,null,null,null,null,null,null,null,null,null,0.61000000000000032,0.61000000000000032]
[null,null,null,null,null,null,null,null,null,null,null,null,null,null,null,0.62000000000000033,0.62000000000000033]
[null,{"$f":"IF('Mise en forme- input'!C3=TRUE,\"Veuillez indiquer quelle(s) chaudière(s) est/sont contrôlée(s) par micro-ondulation:\",\"Ignorez si la mesure d'efficacité énergétique sur la micro-ondulation n'est pas sélectionnée.\")","v":"Ignorez si la mesure d'efficacité énergétique sur la micro-ondulation n'est pas sélectionnée."},null,{"$f":"IF(AND('Mise en forme- input'!C3=FALSE,OR('Mise en forme- input'!C10=TRUE,'Mise en forme- input'!C11=TRUE,'Mise en forme- input'!C12=TRUE,'Mise en forme- input'!C13=TRUE)),\"Veuillez décocher les cases, car la mesure d'efficacité énergétique sur la micro-ondulation n'a pas été sélectionnée\",\"\")","v":""},null,{"$f":"IF(AND('Mise en forme- input'!F10>'Entrée de données'!F21,D66=\"\"),\"Vous avez sélectionné trop de chaudières. Veuillez cocher un maximum de \" &F21& \" chaudière(s)\",IF(AND(F21=1,OR('Mise en forme- input'!C11=TRUE,'Mise en forme- input'!C12=TRUE,'Mise en forme- input'!C13=TRUE)),\"N'ayant sélectionné qu'une seule chaudière, vous ne pouvez que cocher la chaudière 1\",IF(AND(F21=2,OR('Mise en forme- input'!C12=TRUE,'Mise en forme- input'!C13=TRUE)),\"N'ayant sélectionné que deux chaudières, vous ne pouvez que cocher la chaudière 1 et la chaudière 2\",IF(AND(F21=3,'Mise en forme- input'!C13=TRUE),\"N'ayant sélectionné que trois chaudières, vous ne pouvez que cocher la chaudière 1, 2 ou 3\",\"\"))))","v":""},null,null,null,null,null,null,null,null,null,0.63000000000000034,0.63000000000000034]
[null,null,null,null,null,null,null,null,null,null,null,null,null,null,null,0.64000000000000035,0.64000000000000035]
[null,null,null,null,null,null,null,null,null,null,null,null,null,null,null,0.65000000000000036,0.65000000000000036]
[null,null,null,null,null,null,null,null,null,null,null,null,null,null,null,0.66000000000000036,0.66000000000000036]
[null,{"$f":"IF('Mise en forme- input'!C4=TRUE,\"Veuillez indiquer sur quelle(s) chaudière(s) vous souhaitez réduire le taux de purge:\",\"Ignorez si la mesure d'efficacité énergétique sur la réduction de la purge n'est pas sélectionnée.\")","v":"Ignorez si la mesure d'efficacité énergétique sur la réduction de la purge n'est pas sélectionnée."},null,{"$f":"IF(AND('Mise en forme- input'!C4=FALSE,OR('Mise en forme- input'!C4=TRUE,'Mise en forme- input'!C20=TRUE,'Mise en forme- input'!C22=TRUE,'Mise en forme- input'!C23=TRUE)),\"Veuillez décocher les cases, car la mesure d'efficacité énergétique sur la réduction de la purge n'a pas été sélectionnée\",\"\")","v":""},null,{"$f":"IF(AND('Mise en forme- input'!F23>'Entrée de données'!F21,D70=\"\"),\"Vous avez sélectionné trop de chaudières. Veuillez cocher un maximum de \" &F21& \" chaudière(s)\",IF(AND(F21=1,OR('Mise en forme- input'!C24=TRUE,'Mise en forme- input'!C25=TRUE,'Mise en forme- input'!C26=TRUE)),\"N'ayant sélectionné qu'une seule chaudière, vous ne pouvez que cocher la chaudière 1\",IF(AND(F21=2,OR('Mise en forme- input'!C25=TRUE,'Mise en forme- input'!C26=TRUE)),\"N'ayant sélectionné que deux chaudières, vous ne pouvez que cocher la chaudière 1 et la chaudière 2\",IF(AND(F21=3,'Mise en forme- input'!C26=TRUE),\"N'ayant sélectionné que trois chaudières, vous ne pouvez que cocher la chaudière 1, 2 ou 3\",\"\"))))","v":""},null,null,null,null,null,null,null,null,null,{"$f":"P69+0.01","v":0.67000000000000037},{"$f":"Q69+0.01","v":0.67000000000000037}]
[null,null,null,null,null,null,null,null,null,null,null,null,null,null,null,0.68000000000000038,0.68000000000000038]
[null,null,null,null,null,null,null,null,null,null,null,null,null,null,null,0.69000000000000039,0.69000000000000039]
[null,null,null,null,null,null,null,null,null,null,null,null,null,null,null,0.7000000000000004,0.7000000000000004]
[null,{"$f":"IF('Mise en forme- input'!C5=TRUE,\"Veuillez indiquer sur quelle(s) chaudière(s) vous souhaitez installer un économiseur:\",\"Ignorez si la mesure d'efficacité énergétique sur l'économiseur n'est pas sélectionnée.\")","v":"Ignorez si la mesure d'efficacité énergétique sur l'économiseur n'est pas sélectionnée."},null,{"$f":"IF(AND('Mise en forme- input'!C5=FALSE,OR('Mise en forme- input'!C16=TRUE,'Mise en forme- input'!C17=TRUE,'Mise en forme- input'!C18=TRUE,'Mise en forme- input'!C19=TRUE,'Mise en forme- input'!C20=TRUE)),\"Veuillez décocher les cases, car la mesure d'efficacité énergétique sur l'économiseur n'a pas été sélectionnée\",\"\")","v":""},null,{"$f":"IF(AND('Mise en forme- input'!F16>F21,D74=\"\"),\"Vous avez sélectionné trop de chaudières. Veuillez cocher un maximum de \" &F21& \" chaudière(s)\",IF(AND(F21=1,OR('Mise en forme- input'!C17=TRUE,'Mise en forme- input'!C18=TRUE,'Mise en forme- input'!C19=TRUE)),\"N'ayant sélectionné qu'une seule chaudière, vous ne pouvez que cocher la chaudière 1\",IF(AND(F21=2,OR('Mise en forme- input'!C18=TRUE,'Mise en forme- input'!C19=TRUE)),\"N'ayant sélectionné que deux chaudières, vous ne pouvez que cocher la chaudière 1 et la chaudière 2\",IF(AND(F21=3,'Mise en forme- input'!C19=TRUE),\"N'ayant sélectionné que trois chaudières, vous ne pouvez que cocher la chaudière 1, 2 ou 3\",\"\"))))","v":""},null,null,null,null,null,null,null,null,null,0.71000000000000041,0.71000000000000041]
[null,null,null,null,null,null,null,null,null,null,null,null,null,null,null,0.72000000000000042,0.72000000000000042]
[null,null,null,null,null,null,null,null,null,null,null,null,null,null,null,0.73000000000000043,0.73000000000000043]
[null,null,null,null,null,null,null,null,null,null,null,null,null,null,null,0.74000000000000044,0.74000000000000044]
[null,null,null,null,null,null,null,null,null,null,null,null,null,null,null,0.75000000000000044,0.75000000000000044]
[null,{"$f":"IF('Mise en forme- input'!C3=FALSE,\"Puisque vous n'avez pas sélectionné la mesure sur la micro-modulation, vous pouvez passer à la section suivante qui se trouve à la ligne 94.\",\"\")","v":"Puisque vous n'avez pas sélectionné la mesure sur la micro-modulation, vous pouvez passer à la section suivante qui se trouve à la ligne 94."},null,null,null,null,null,null,null,null,null,null,null,null,null,0.76000000000000045,0.76000000000000045]
[]
[null,"Données pour le calcul d'économie d'énergie associée à la micro-modulation",null,null,null,null,null,null,null,null,null,null,null,null,null,{"$f":"P79+0.01","v":0.77000000000000046},{"$f":"Q79+0.01","v":0.77000000000000046}]
[null,null,null,null,null,null,null,null,null,null,null,null,null,null,null,0.78000000000000047,0.78000000000000047]
[null,"Objectif:\nFournir un calculateur simplifié permettant d'estimer les économies d'énergie envisageables par la mise en place d'un système de micro-modulation de la chaudière. Le calculateur est essentiellement basé sur l'amélioration de l'efficacité de chauffe de la chaudière après implantation d'un système de micro-modulation.",null,null,null,null,null,null,null,null,null,null,null,null,null,0.79000000000000048,0.79000000000000048]
[null,"Instructions:\nL'utilisateur devra fournir les informations dans la section « Entrée de données » ci-dessous (cellules bleues), pour chaque chaudière sélectionnée.",null,null,null,null,null,null,null,null,null,null,null,null,null,0.80000000000000049,0.80000000000000049]
[null,"Entrée de données",null,null,null,null,null,null,null,"Température des fumées après micro-modulation",null,null,null,null,null,0.8100000000000005,0.8100000000000005]
[null,null,"Chaudière 1","Chaudière 2","Chaudière 3","Chaudière 4",null,null,null,"Chaudière 1",{"$f":"'Comb_1 (micro)'!T7","v":238.02101222962872},"°C",null,null,null,0.82000000000000051,0.82000000000000051]
[null,"Efficacité de combustion de la chaudière - Après micro-modulation (%)",null,null,null,null,null,null,null,"Chaudière 2",{"$f":"'Comb_2 (micro)'!T7","v":238.02101222962872},"°C",null,null,null,0.83000000000000052,0.83000000000000052]
[null,null,{"$f":"IF(C87=\"\",\"\",IF(K35>C87,\"L'efficacité après micro-modulation doit être supérieure à l'efficacité avant modulation\",\"L'efficacité après micro-modulation est valide\"))","v":""},{"$f":"IF(D87=\"\",\"\",IF(K36>D87,\"L'efficacité après micro-modulation doit être supérieure à l'efficacité avant modulation\",\"L'efficacité après micro-modulation est valide\"))","v":""},{"$f":"IF(E87=\"\",\"\",IF(K37>E87,\"L'efficacité après micro-modulation doit être supérieure à l'efficacité avant modulation\",\"L'efficacité après micro-modulation est valide\"))","v":""},{"$f":"IF(F87=\"\",\"\",IF(K38>F87,\"L'efficacité après micro-modulation doit être supérieure à l'efficacité avant modulation\",\"L'efficacité après micro-modulation est valide\"))","v":""},null,null,null,"Chaudière 3",{"$f":"'Comb_3 (micro)'!T7","v":1973.0647260996298},"°C",null,null,null,0.84000000000000052,0.84000000000000052]
[null,"Pourcentage d'O2 dans les fumées  après ajout de la micro-modulation (%)",0.03,0.03,0.03,0.03,"Si inconnu, inscrire 3%.",null,null,"Chaudière 4",{"$f":"'Comb_4 (micro)'!T7","v":1973.0647260996298},"°C",null,null,null,0.85000000000000053,0.85000000000000053]
[null,"Commentaire \n(ne pas compléter cette cellule)",{"$f":"IF(K86<100,\"L'efficacité de combustion après micro-modulation semble trop élevé ou l'excès d'air semble trop faible\",\"\")","v":""},{"$f":"IF(K87<100,\"L'efficacité de combustion après micro-modulation semble trop élevée ou l'excès d'air semble trop faible\",\"\")","v":""},{"$f":"IF(K88<100,\"L'efficacité de combustion après micro-modulation semble trop élevée ou l'excès d'air semble trop faible\",\"\")","v":""},{"$f":"IF(F89=\"\",\"\",IF(K89<100,\"L'efficacité de combustion après micro-modulation semble trop élevée ou l'excès d'air semble trop faible\",\"\"))","v":""},null,null,null,null,null,null,null,null,null,0.86000000000000054,0.86000000000000054]
[null,null,null,null,null,null,null,null,null,null,null,null,null,null,null,0.87000000000000055,0.87000000000000055]
[null,{"$f":"IF('Mise en forme- input'!C4=FALSE,\"Puisque vous n'avez pas sélectionné la mesure sur la réduction du taux de purge, vous pouvez passer à la section suivante qui se trouve à la ligne 105.\",\"\")","v":"Puisque vous n'avez pas sélectionné la mesure sur la réduction du taux de purge, vous pouvez passer à la section suivante qui se trouve à la ligne 105."},null,null,null,null,null,null,null,null,null,null,null,null,null,0.88000000000000056,0.88000000000000056]
[]
[null,"Données pour le calcul d'économie d'énergie associée à la réduction du taux de purge",null,null,null,null,null,null,null,null,null,null,null,null,null,{"$f":"P92+0.01","v":0.89000000000000057},{"$f":"Q92+0.01","v":0.89000000000000057}]
[null,null,null,null,null,null,null,null,null,null,null,null,null,null,null,0.90000000000000058,0.90000000000000058]
[null,"Objectif:\nFournir un calculateur simplifié permettant d'estimer les économies d'énergie envisageables par la mise en place d'un système de réduction de la quantité de purge extraite de la chaudière. ",null,null,null,null,null,null,null,null,null,null,null,null,null,0.91000000000000059,0.91000000000000059]
[null,"Instructions:\nL'utilisateur devra fournir les informations dans la section « Entrée de données » ci-dessous (cellules bleues), pour chaque chaudière sélectionnée.  L'utilisateur devra fournir le pourcentage de purge envisagé par l'implantation de la mesure d'économie d'énergie.",null,null,null,null,null,null,null,null,null,null,null,null,null,0.9200000000000006,0.9200000000000006]
[null,"Entrée de données",null,null,null,null,null,null,null,null,null,null,null,null,null,0.9300000000000006,0.9300000000000006]
[null,null,"Chaudière 1","Chaudière 2","Chaudière 3","Chaudière 4",null,null,null,null,null,null,null,null,null,0.94000000000000061,0.94000000000000061]
[null,"% de purgeAprès réduction",null,null,null,null,null,null,null,null,null,null,null,null,null,0.95000000000000062,0.95000000000000062]
[null,"Validation du pourcentage de purge\n(ne pas compléter cette cellule)",{"$f":"IF(C100=\"\",\"\",IF(C100>'Réduction de la purge 1 à 4'!B8,\"Le pourcentage de purge après la réduction est supérieur à celui avant la réduction (\" &'Réduction de la purge 1 à 4'!B8*100&\"%). Il n'est pas possible de calculer d'économies d'énergie\",\"Le pourcentage de purge après réduction est valide\"))","v":""},{"$f":"IF(D100=\"\",\"\",IF(D100>'Réduction de la purge 1 à 4'!C8,\"Le pourcentage de purge après la réduction est supérieur à celui avant la réduction (\" &'Réduction de la purge 1 à 4'!C8*100&\"%). Il n'est pas possible de calculer d'économies d'énergie\",\"Le pourcentage de purge après réduction est valide\"))","v":""},{"$f":"IF(E100=\"\",\"\",IF(E100>'Réduction de la purge 1 à 4'!D8,\"Le pourcentage de purge après la réduction est supérieur à celui avant la réduction (\" &'Réduction de la purge 1 à 4'!D8*100&\"%). Il n'est pas possible de calculer d'économies d'énergie\",\"Le pourcentage de purge après réduction est valide\"))","v":""},{"$f":"IF(F100=\"\",\"\",IF(F100>'Réduction de la purge 1 à 4'!E8,\"Le pourcentage de purge après la réduction est supérieur à celui avant la réduction (\" &'Réduction de la purge 1 à 4'!E8*100&\"%). Il n'est pas possible de calculer d'économies d'énergie\",\"Le pourcentage de purge après réduction est valide\"))","v":""},null,null,null,"c1",{"$f":"IF(C100>'Réduction de la purge 1 à 4'!B8,\"Le pourcentage de purge après la réduction est supérieur à celui avant la réduction (\" &'Réduction de la purge 1 à 4'!B8*100&\"%). Il n'est pas possible de calculer d'économies d'énergie\",\"Le pourcentage de purge après réduction est valide\")","v":"Le pourcentage de purge après réduction est valide"},null,null,null,null,0.96000000000000063,0.96000000000000063]
[null,null,null,null,null,null,null,null,null,"c2",{"$f":"IF(D100>'Réduction de la purge 1 à 4'!C8,\"Le pourcentage de purge après la réduction est supérieur à celui avant la réduction (\" &'Réduction de la purge 1 à 4'!C8*100&\"%). Il n'est pas possible de calculer d'économies d'énergie\",\"Le pourcentage de purge après réduction est valide\")","v":"Le pourcentage de purge après réduction est valide"},null,null,null,null,0.97000000000000064,0.97000000000000064]
[null,{"$f":"IF('Mise en forme- input'!C5=FALSE,\"Puisque vous n'avez pas sélectionné la mesure sur l'économiseur, vous pouvez passer à la section suivante qui se trouve à la ligne 117.\",\"\")","v":"Puisque vous n'avez pas sélectionné la mesure sur l'économiseur, vous pouvez passer à la section suivante qui se trouve à la ligne 117."},null,null,null,null,null,null,null,"c3",{"$f":"IF(E100>'Réduction de la purge 1 à 4'!D8,\"Le pourcentage de purge après la réduction est supérieur à celui avant la réduction (\" &'Réduction de la purge 1 à 4'!D8*100&\"%). Il n'est pas possible de calculer d'économies d'énergie\",\"Le pourcentage de purge après réduction est valide\")","v":"Le pourcentage de purge après réduction est valide"},null,null,null,null,{"$f":"P102+0.01","v":0.98000000000000065},0.98000000000000065]
[null,null,null,null,null,null,null,null,null,"c4",{"$f":"IF(F100>'Réduction de la purge 1 à 4'!E8,\"Le pourcentage de purge après la réduction est supérieur à celui avant la réduction (\" &'Réduction de la purge 1 à 4'!E8*100&\"%). Il n'est pas possible de calculer d'économies d'énergie\",\"Le pourcentage de purge après réduction est valide\")","v":"Le pourcentage de purge après réduction est valide"},null,null,null,null,0.99000000000000066,0.99000000000000066]
[null,"Données pour le calcul d'économie d'énergie associée à l'ajout d'un économiseur",null,null,null,null,null,null,null,null,null,null,null,null,null,1.0000000000000007,1.0000000000000007]
[]
[null,"Objectif:\nFournir un calculateur simplifié permettant d'estimer les économies d'énergie envisageables par la mise en place d'un économiseur pour récupérer l'énergie perdue par les fumées de la chaudière. Le calculateur permet de calculer le potentiel de récupération d'énergie pour un économiseur à condensation ou non-condensant."]
[null,"Instructions:\nL'utilisateur doit fournir les informations dans la section « Entrée de données » ci-dessous (cellules bleues), pour chaque chaudière sélectionnée. Il est aussi nécessaire de sélectionner le type d'économiseur retenu pour l'estimation du potentiel de récupération de chaleur. \n\nNotez que pour les économiseurs non-condensant, la température de sortie ne peut être inférieure à 121 °C, tandis qu'elle doit être inférieure à cette valeur pour les économiseurs à condensation. "]
[null,"Entrée de données"]
[null,null,"Chaudière 1","Chaudière 2","Chaudière 3","Chaudière 4"]
[null,"Sélectionner le type d'économiseur (Non-condensant/À condensation)",1,1,1,1]
[null,"Température des fumées à la sortie de l'économiseur (°C)"]
[null,"Validation de la température à la sortie de l'économiseur \n(ne pas compléter cette cellule)",{"$f":"IF(C112=\"\",\"\",IF(AND($C$111=1,C112<121),\"La température à la sortie de l'économiseur non-condensant ne peut être inférieure à 121 °C\",IF(AND($C$111=2,C112>120),\"La température à la sortie de l'économiseur à condensation ne peut être supérieure à 120 °C\",\"La température est valide\")))","v":""},{"$f":"IF(D112=\"\",\"\",IF(AND($D$111=1,D112<121),\"La température à la sortie de l'économiseur non-condensant ne peut être inférieure à 121 °C\",IF(AND($D$111=2,D112>120),\"La température à la sortie de l'économiseur à condensation ne peut être supérieure à 120 °C\",\"La température est valide\")))","v":""},{"$f":"IF(E112=\"\",\"\",IF(AND($E$111=1,E112<121),\"La température à la sortie de l'économiseur non-condensant ne peut être inférieure à 121 °C\",IF(AND($E$111=2,E112>120),\"La température à la sortie de l'économiseur à condensation ne peut être supérieure à 120 °C\",\"La température est valide\")))","v":""},{"$f":"IF(F112=\"\",\"\",IF(AND($F$111=1,F112<121),\"La température à la sortie de l'économiseur non-condensant ne peut être inférieure à 121 °C\",IF(AND($F$111=2,F112>120),\"La température à la sortie de l'économiseur à condensation ne peut être supérieure à 120 °C\",\"La température est valide\")))","v":""},null,null,"c1",{"$f":"IF(AND($C$111=1,C112<121),\"La température à la sortie de l'économiseur non-condensant ne peut être inférieure à 121 °C\",IF(AND($C$111=2,C112>120),\"La température à la sortie de l'économiseur à condensation ne peut être supérieure à 120 °C\",\"La température est valide\"))","v":"La température à la sortie de l'économiseur non-condensant ne peut être inférieure à 121 °C"}]
[null,null,null,null,null,null,null,null,"c2",{"$f":"IF(AND($D$111=1,D112<121),\"La température à la sortie de l'économiseur non-condensant ne peut être inférieure à 121 °C\",IF(AND($D$111=2,D112>120),\"La température à la sortie de l'économiseur à condensation ne peut être supérieure à 120 °C\",\"La température est valide\"))","v":"La température à la sortie de l'économiseur non-condensant ne peut être inférieure à 121 °C"}]
[null,null,null,null,null,null,null,null,"c3",{"$f":"IF(AND($E$111=1,E112<121),\"La température à la sortie de l'économiseur non-condensant ne peut être inférieure à 121 °C\",IF(AND($E$111=2,E112>120),\"La température à la sortie de l'économiseur à condensation ne peut être supérieure à 120 °C\",\"La température est valide\"))","v":"La température à la sortie de l'économiseur non-condensant ne peut être inférieure à 121 °C"}]
[]
[null,"Données pour le calcul d'économie d'énergie associée à la \nrécupération de l'énergie contenue dans la purge",null,null,null,null,null,null,"c4",{"$f":"IF(AND($F$111=1,F112<121),\"La température à la sortie de l'économiseur non-condensant ne peut être inférieure à 121 °C\",IF(AND($F$111=2,F112>120),\"La température à la sortie de l'économiseur à condensation ne peut être supérieure à 120 °C\",\"La température est valide\"))","v":"La température à la sortie de l'économiseur non-condensant ne peut être inférieure à 121 °C"}]
[]
[null,"Objectif:\nFournir un calculateur simplifié permettant d'estimer les économies d'énergie envisageables par la récupération de l'énergie contenue dans l'eau purgée hors de la chaudière."]
[null,"Instructions:\nL'utilisateur devra fournir les informations dans la section « Entrée de données » ci-dessous (cellules bleues), pour l'ensemble de la centrale thermique. Il devra établir la température cible pour l'eau purgée, après la récupération de chaleur, ainsi que la pression d'opération du ballon de détente, le cas échéant. Il s'agit de la température à laquelle cette eau pourra être évacuée au drain. "]
[null,"Entrée de données"]
[null,"Sélectionner le type de récupération envisagé",3]
[null,null,"Centrale thermique"]
[null,"Pression manométrique du ballon de détente (\"flash tank\") (kPa)",null,"Si la centrale possède un dégazeur, la pression manométrique du ballon de détente est habituellement à la pression du dégazeur. Consultez l'onglet            « Conversion unités » si vous avez besoin de convertir des pressions."]
[null,{"$f":"IF(C122<>1,\"Température de l'eau purgée après récupération de l'énergie pour le préchauffage de l'eau d'appoint (°C)\",\"\")","v":"Température de l'eau purgée après récupération de l'énergie pour le préchauffage de l'eau d'appoint (°C)"}]
[]
[null,{"$f":"IF('Mise en forme- input'!C7=FALSE,\"Puisque vous n'avez pas sélectionné la mesure sur la récupération de l'énergie contenue dans l'évent du dégazeur, vous pouvez  ignorer cette section.\",\"\")","v":"Puisque vous n'avez pas sélectionné la mesure sur la récupération de l'énergie contenue dans l'évent du dégazeur, vous pouvez  ignorer cette section."}]
[]
[null,"Données pour le calcul d'économie d'énergie associée à la \nrécupération d'énergie de l'évent du dégazeur"]
[]
[null,"Objectif:\nFournir un calculateur simplifié permettant d'estimer les économies d'énergie envisageables par la mise en place d'un système de récupération de l'énergie contenue dans l'évent du dégazeur. Le calculateur est conçu pour évaluer le potentiel de récupération par la condensation de la vapeur et l'intégration du condensat dans le dégazeur."]
[null,"Instructions:\nL'utilisateur devra fournir les informations dans la section « Entrée de données » ci-dessous (cellules foncées), pour l'ensemble de la centrale thermique."]
[null,"Entrée de données"]
[null,null,"Centrale thermique"]
[null,"Température de l'eau alimentée au récupérateur de l'évent du dégazeur (°C)",75]

{"sheet":"Résultats - Bilan de matière ","index":5,"n_rows":183,"n_cols":17,"rows_kept":183,"cut":false,"hidden":false,"merged":[[179,8,179,9],[30,8,30,9],[9,9,10,9],[19,8,19,9],[175,10,175,11],[157,10,157,11],[13,10,13,11],[56,8,56,9],[67,10,67,11],[60,10,60,11],[61,10,61,11],[67,7,67,8],[70,8,70,9],[71,8,71,9],[68,7,68,8],[61,7,61,8],[175,1,175,3],[175,7,175,8],[176,7,176,8],[178,8,178,9],[153,1,153,3],[153,5,153,6],[164,1,165,3],[164,8,164,9],[45,5,45,6],[49,10,49,11],[51,10,51,11],[56,1,57,3],[128,1,129,3],[128,8,128,9],[75,4,76,12],[77,1,79,3],[81,1,81,3],[85,10,85,11],[87,10,87,11],[81,5,81,6],[92,1,93,3],[92,8,92,9],[121,10,121,11],[122,10,122,11],[1,1,3,3],[4,1,4,3],[13,2,13,3],[14,2,14,3],[67,1,67,3],[5,2,5,3],[6,2,6,3],[8,1,8,3],[15,1,15,3],[45,1,45,3],[7,5,7,6],[7,1,7,3],[9,2,9,3],[10,2,10,3],[12,2,12,3],[11,2,11,3],[14,13,14,15],[41,1,43,3],[39,1,39,3],[14,10,14,11],[31,8,31,9],[32,5,32,6],[96,10,96,11],[103,7,103,8],[104,7,104,8],[97,7,97,8],[97,10,97,11],[103,10,103,11],[103,1,103,3],[106,8,106,9],[107,8,107,9],[113,1,115,3],[117,1,117,3],[117,5,117,6],[132,10,132,11],[133,10,133,11],[140,7,140,8],[149,1,151,3],[169,10,169,11],[158,10,158,11],[142,8,142,9],[143,8,143,9],[168,10,168,11],[169,7,169,8],[139,10,139,11],[133,7,133,8],[139,1,139,3],[139,7,139,8]]}
[]
[null,"— Résultats — \nBilan d'énergie de la centrale thermique avant l'ajout des mesures d'efficacité énergétique",null,null,"Résultats - Bilan d'énergie de la centrale thermique"]
[null,null,null,null,null,null,null,null,null,null,null,null,null,null,"Facteur de conversion"]
[null,null,null,null,"Schéma de la centrale thermique"]
[null,"Projet réalisé par",null,null,null,null,null,null,null,null,null,null,null,null,"De kW à Millions de Btu/h",{"$f":"1/293.07","v":3.4121540928788345E-3}]
[null,"Nom de l'ingénieur",{"$f":"IF(ISBLANK('Entrée de données'!C7:E7),\"\",'Entrée de données'!C7:E7)","v":""},null,null,null,null,null,null,null,null,null,null,null,"De kg/h à lb/h",2.2046199999999998,"Heat transfer 9eme édition"]
[null,"Nom de la firme",{"$f":"IF(ISBLANK('Entrée de données'!C8:E8),\"\",'Entrée de données'!C8:E8)","v":""},null,null,null,null,null,null,null,null,null,null,null,"m3/h à pi3/h",35.313400000000001,"Heat transfer 9eme édition"]
[null,null,null,null,null,{"$f":"C21","v":0},null,null,null,null,null,null,null,null,"m3/kg à pi3/lb",{"$f":"P7/P6","v":16.017907848064521}]
[null,"Informations sur le client",null,null,null,null,null,null,null,null,null,null,null,null,"kPa to psi",{"$f":"1/6.8948","v":0.14503683935719672}]
[null,"Nom de la compagnie",{"$f":"IF(ISBLANK('Entrée de données'!C11:E11),\"\",'Entrée de données'!C11:E11)","v":""},null,null,null,null,null,null,{"$f":"C30","v":""},null,null,null,null,"kJ/kg to Btu/lb",0.42992999999999998]
[null,"Site",{"$f":"IF(ISBLANK('Entrée de données'!C12),\"\",'Entrée de données'!C12)","v":""}]
[null,"Adresse du site",{"$f":"IF(ISBLANK('Entrée de données'!C13),\"\",'Entrée de données'!C13)","v":""}]
[null,"Personne-ressource",{"$f":"IF(ISBLANK('Entrée de données'!C14),\"\",'Entrée de données'!C14)","v":""}]
[null,"Téléphone",{"$f":"IF(ISBLANK('Entrée de données'!C15),\"\",'Entrée de données'!C15)","v":""},null,null,null,null,null,null,null,{"$f":"C39","v":""}]
[null,"Date du rapport",{"$f":"IF(ISBLANK('Entrée de données'!C16),\"\",'Entrée de données'!C16)","v":""},null,null,null,null,null,null,null,{"$f":"C38","v":0},null,null,{"$f":"C25","v":0}]
[null,{"$f":"IF(ISNUMBER(C19), \"\",\"Veuillez vérifier le nombre de chaudières saisi dans l'onglet entrée de données et vérifier que les données sont bien rentrées \")","v":""},null,null,null,null,null,null,null,null,"Perte de vapeur",null,null,"Eau d'appoint"]
[null,null,"Données en unités internationales","Données en unités impériales"]
[null,"Nombre de chaudières dans la centrale thermique",{"$f":"IF(OR('Entrée de données'!F21=\"\",'Entrée de données'!F21=0),\"Vous devez indiquer le nombres de chaudières dans l'onglet Entrée de données pour voir les résultats\",'Entrée de données'!F21)","v":"Vous devez indiquer le nombres de chaudières dans l'onglet Entrée de données pour voir les résultats"},{"$f":"C18","v":"Vous devez indiquer le nombres de chaudières dans l'onglet Entrée de données pour voir les résultats"}]
[null,"Quantité totale d'énergie fournie aux brûleurs des chaudières ",{"$f":"C49+C85+C121+C157","v":0},{"$f":"C19*P5","v":0}]
[null,"Alimentation totale en gaz naturel",{"$f":"C50+C86+C122+C158","v":0},{"$f":"C20*P7","v":0},null,null,null,null,{"$f":"C36","v":0}]
[null,"Quantité totale de vapeur fournie aux utilisateurs",{"$f":"C62+C98+C134+C170","v":0},{"$f":"C21*$P$6","v":0}]
[null,"Efficacité globale de production de vapeur utile de la centrale ",{"$f":"IF(C19=0,\"\",(C49*C66+C85*C102+C121*C138+C157*C174)/C19)","v":""},{"$f":"C22","v":""},null,null,null,null,null,null,null,null,"Retour total du condensat"]
[null,"Ratio gaz naturel/vapeur",{"$f":"IF(OR(C20=0,C21=0),\"\",ROUND(C20/C21,5))","v":""},{"$f":"IF(C23=\"\",\"\",C23*$P$8)","v":""},null,null,null,null,null,null,null,null,{"$f":"C26","v":0}]
[null,"Alimentation totale d'eau à la centrale thermique",{"$f":"C25+C26","v":0},{"$f":"C24*P6","v":0}]
[null,"Alimentation totale d'eau d'appoint",{"$f":"C55+C91+C127+C163","v":0},{"$f":"C25*P6","v":0}]
[null,"Alimentation totale d'eau de condensat",{"$f":"C56+C92+C128+C164","v":0},{"$f":"C26*P6","v":0}]
[null,"Efficacité globale de chauffe",{"$f":"IF(C19=0,\"\",(C49*C54+C85*C90+C121*C126+C157*C162)/C19)","v":""},"",{"$f":"C32","v":""}]
[null,"Efficacuté globable de combustion",{"$f":"IF(C19=0,\"\",(C49*C52+C85*C88+C121*C124+C157*C160)/C19)","v":""},{"$f":"C28","v":""}]
[null,"Totale des pertes par les fumées ",{"$f":"IF(OR('Entrée de données'!F21=0,'Entrée de données'!F21=\"\"),\"\",IF('Entrée de données'!F21=1,C51*C49,IF('Entrée de données'!F21=2,C51*C49+C85*C87,IF('Entrée de données'!F21=3,C51*C49+C85*C87+C121*C123,IF('Entrée de données'!F21=4,C51*C49+C85*C87+C121*C123+C157*C159)))))","v":""},{"$f":"IF(C29=\"\",\"\",C29*P5)","v":""}]
[null,"Totale des pertes par les fumées",{"$f":"IF(C19=0,\"\",C29/C19)","v":""},{"$f":"C30","v":""}]
[null,"Totale des pertes par radiation et par convection ",{"$f":"IF(OR('Entrée de données'!F21=0,'Entrée de données'!F21=\"\"),\"\",IF('Entrée de données'!F21=1,C53*C49,IF('Entrée de données'!F21=2,C53*C49+C85*C89,IF('Entrée de données'!F21=3,C53*C49+C85*C89+C121*C125,IF('Entrée de données'!F21=4,C53*C49+C85*C89+C121*C125+C157*C161)))))","v":""},{"$f":"IF(C31=\"\",\"\",C31*P5)","v":""},null,null,null,null,"Gaz naturel"]
[null,"Totale des pertes par radiation et par convection (% de l'énergie alimenté)",{"$f":"IF(C19=0,\"\",C31/C19)","v":""},"",null,null,null,null,{"$f":"C20","v":0}]
[null,"Totale des pertes par la purge",{"$f":"IF(OR('Entrée de données'!F21=0,'Entrée de données'!F21=\"\"),\"\",IF('Entrée de données'!F21=1,C65*C49,IF('Entrée de données'!F21=2,C65*C49+C85*C101,IF('Entrée de données'!F21=3,C65*C49+C85*C101+C121*C137,IF('Entrée de données'!F21=4,C65*C49+C85*C101+C121*C137+C157*C173)))))","v":""},{"$f":"IF(C33=\"\",\"\",C33*P5)","v":""},null,{"$f":"C34","v":""}]
[null,"Totale des pertes par la purge",{"$f":"IF(OR('Entrée de données'!F21=0,'Entrée de données'!F21=\"\"),\"\",IF('Entrée de données'!F21=1,C64,IF('Entrée de données'!F21=2,C64+C100,IF('Entrée de données'!F21=3,C64+C100+C136,IF('Entrée de données'!F21=4,C64+C100+C136+C172)))))","v":""},{"$f":"IF(C34=\"\",\"\",C34*P6)","v":""},null,{"$f":"C35","v":""}]
[null,"Totale des pertes par la purge (% de l'énergie alimenté au brûleur)",{"$f":"IF(C19=0,\"\",C33/C19)","v":""},""]
[null,"Quantité totale de vapeur fournie au dégazeur",{"$f":"Bilan_1!B95","v":0},{"$f":"IF(C36=\"\",\"\",C36*P6)","v":0}]
[null,"Total des pertes par l'évent du dégazeur",{"$f":"Bilan_1!B99","v":0},{"$f":"IF(C37=\"\",\"\",C37*P5)","v":0}]
[null,"Total des pertes par l'évent du dégazeur ",{"$f":"Bilan_1!B98","v":0},{"$f":"IF(C37=\"\",\"\",C38*P6)","v":0}]
[null,"Total des pertes par l'évent du dégazeur (% de l'énergie alimentée)",{"$f":"IF(C19=0,\"\",C37/C19)","v":""},""]
[null,"Énergir ne peut être tenu responsable des dommages, qu’ils soient directs ou indirects découlant des résultats des outils de calculs. L’utilisateur demeure responsable de s’assurer de l’exactitude des données qu’il utilise. Les résultats se trouvant dans le chiffrier de calculs sont fournis au client à titre indicatif seulement et ne peuvent en aucun cas être interprétés comme une garantie d’efficacité ou une représentation en ce sens de Énergir. Énergir, ses employés, mandataires et représentants ne peuvent donc être tenus responsables advenant un écart entre cette estimation et la performance réelle de la centrale thermique du client.   Version 2 - Novembre 2018"]
[]
[null,"Résultats — Chaudière 1",null,null,"Résultats - Chaudière # 1"]
[]
[]
[null,null,"Données en unités internationales","Données en unités impériales"]
[null,"Caractéristiques de la chaudière",null,null,null,{"$f":"C62","v":0}]
[null,"Type de chaudière",{"$f":"IF('Entrée de données'!$F$21<1,0,Bilan_1!$C$3)","v":0},{"$f":"IF(C47=0,0,C47)","v":0}]
[null,"Puissance maximale de production de vapeur de la chaudière",{"$f":"IF('Entrée de données'!$F$21<1,0,Bilan_1!$B$7)","v":0},{"$f":"IF(C48=0,0,C48*$P$5)","v":0}]
[null,"Puissance du brûleur de la chaudière en opération",{"$f":"IF('Entrée de données'!$F$21<1,0,Bilan_1!$B$29)","v":0},{"$f":"IF(C49=0,0,C49*$P$5)","v":0},null,null,null,null,null,"Pertes humides et sèches"]
[null,"Alimentation en gaz naturel",{"$f":"IF('Entrée de données'!$F$21<1,0,Bilan_1!$B$31)","v":0},{"$f":"IF(C50=0,0,C50*$P$7)","v":0},null,null,null,null,null,{"$f":"C51","v":0}]
[null,"Pertes par les fumées (% de l'énergie au brûleur)",{"$f":"IF('Entrée de données'!$F$21<1,0,Bilan_1!$B$19)","v":0},{"$f":"C51","v":0}]
[null,"Efficacité de combustion",{"$f":"IF('Entrée de données'!$F$21<1,0,'Entrée de données'!K35)","v":0},{"$f":"IF(C52=0,0,C52)","v":0}]
[null,"Pertes par radiation  et par convection (% de l'énergie au brûleur)",{"$f":"IF('Entrée de données'!$F$21<1,0,Bilan_1!$B$23)","v":0},{"$f":"IF(C53=0,0,C53)","v":0},null,null,null,null,null,"Pertes de vapeur",null,null,"Eau d'appoint"]
[null,"Efficacité de chauffe  (% de l'énergie au brûleur) ",{"$f":"IF('Entrée de données'!$F$21<1,0,Bilan_1!$B$26)","v":0},{"$f":"IF(C54=0,0,C54)","v":0},null,null,null,null,null,{"$f":"$C$38","v":0},null,null,{"$f":"$C$25","v":0}]
[null,"Alimentation d'eau d'appoint",{"$f":"IF('Entrée de données'!$F$21<1,0,Bilan_1!$B$70)","v":0},{"$f":"IF(C55=0,0,C55*$P$6)","v":0}]
[null,"Retour de condensat",{"$f":"IF('Entrée de données'!$F$21<1,0,Bilan_1!$B$72)","v":0},{"$f":"IF(C56=0,0,C56*$P$6)","v":0}]
[null,null,null,null,null,null,null,null,{"$f":"$C$36-H62","v":0}]
[]
[null,"Pression manométrique de la vapeur produite",{"$f":"IF('Entrée de données'!$F$21<1,0,Bilan_1!$B$56)","v":0},{"$f":"IF(C59=0,0,C59*$P$9)","v":0}]
[null,"Type de vapeur produite",{"$f":"IF('Entrée de données'!$F$21<1,0,IF('Entrée de données'!$C$41=1,\"Vapeur saturée\",\"Vapeur surchauffée\"))","v":0},{"$f":"IF(C60=0,0,C60)","v":0}]
[null,"Quantité totale de vapeur produite par la chaudière",{"$f":"IF('Entrée de données'!$F$21<1,0,C62+C63)","v":0},{"$f":"IF(C61=0,0,C61*$P$6)","v":0},null,null,null,null,null,null,"Retour de condensat"]
[null,"Quantité de vapeur disponible pour utilisation",{"$f":"IF('Entrée de données'!$F$21<1,0,Bilan_1!$B$87)","v":0},{"$f":"IF(C62=0,0,C62*$P$6)","v":0},null,null,null,{"$f":"C63","v":0},null,null,{"$f":"$C$26","v":0}]
[null,"Quantité de vapeur alimentée au dégazeur",{"$f":"IF('Entrée de données'!$F$21<1,0,Bilan_1!$B$101)","v":0},{"$f":"IF(C63=0,0,C63*$P$6)","v":0}]
[null,"Pertes d'eau par la purge",{"$f":"IF('Entrée de données'!$F$21<1,0,Bilan_1!$B$77)","v":0},{"$f":"IF(C64=0,0,C64*$P$6)","v":0}]
[null,"Pertes d'énergie par la purge",{"$f":"IF('Entrée de données'!$F$21<1,0,Bilan_1!$B$82)","v":0},{"$f":"IF(C65=0,0,C65)","v":0},{"$f":"C53","v":0}]
[null,"Efficacité de génération de vapeur utile",{"$f":"IF('Entrée de données'!$F$21<1,0,Bilan_1!$B$116)","v":0},{"$f":"IF(C66=0,0,C66)","v":0}]
[null,"Ratio gaz naturel/vapeur",{"$f":"IF('Entrée de données'!$F$21<1,0,Bilan_1!$B$117)","v":0},{"$f":"IF(C67=0,0,C67*$P$8)","v":0},null,null,null,null,null,null,"Eau d'alimentation vers d'autres chaudières"]
[null,"Autres données",null,null,null,null,null,"Gaz naturel",null,null,{"$f":"K62+M54-I72","v":0}]
[null,"Quantité de fumées sèches produite",{"$f":"IF('Entrée de données'!$F$21<1,0,Bilan_1!$E$41)","v":0},{"$f":"IF(C69=0,0,C69*$P$6)","v":0},null,{"$f":"C64","v":0},null,{"$f":"C50","v":0}]
[null,"Quantité de fumées humides produite",{"$f":"IF('Entrée de données'!$F$21<1,0,Bilan_1!$E$40)","v":0},{"$f":"IF(C70=0,0,C70*$P$6)","v":0},null,{"$f":"C65","v":0}]
[null,"Enthalpie de l'eau saturée - Purge",{"$f":"IF('Entrée de données'!$F$21<1,0,Bilan_1!$B$59)","v":0},{"$f":"IF(C71=0,0,C71*$P$10)","v":0},null,null,null,null,"Eau d'alimentation"]
[null,"Enthalpie de la vapeur produite",{"$f":"IF('Entrée de données'!$F$21<1,0,Bilan_1!$B$58)","v":0},{"$f":"IF(C72=0,0,C72*$P$10)","v":0},null,null,null,null,{"$f":"C55+C56","v":0}]
[]
[null,null,null,null,"Schéma adapté  de GERIAP:"]
[null,null,null,null,"http://www.energyefficiencyasia.org/docs/tools/training_materials/energy_equipment/Boilers%20and%20thermic%20fluid%20heaters.ppt "]
[]
[]
[null,"Résultats — Chaudière 2",null,null,"Résultats - Chaudière # 2"]
[]
[]
[null,null,"Données en unités internationales","Données en unités impériales"]
[null,"Caractéristiques de la chaudière",null,null,null,{"$f":"C98","v":0}]
[null,"Type de chaudière",{"$f":"IF('Entrée de données'!$F$21<2,0,Bilan_2!$C$3)","v":0},{"$f":"IF(C83=0,0,C83)","v":0}]
[null,"Puissance maximale de production de vapeur de la chaudière",{"$f":"IF('Entrée de données'!$F$21<2,0,Bilan_2!$B$7)","v":0},{"$f":"IF(C84=0,0,C84*$P$5)","v":0}]
[null,"Puissance du brûleur de la chaudière en opération",{"$f":"IF('Entrée de données'!$F$21<2,0,Bilan_2!$B$29)","v":0},{"$f":"IF(C85=0,0,C85*$P$5)","v":0},null,null,null,null,null,"Pertes humides et sèches"]
[null,"Alimentation en gaz naturel",{"$f":"IF('Entrée de données'!$F$21<2,0,Bilan_2!$B$31)","v":0},{"$f":"IF(C86=0,0,C86*$P$7)","v":0},null,null,null,null,null,{"$f":"C87","v":0}]
[null,"Pertes par les fumées (% de l'énergie au brûleur)",{"$f":"IF('Entrée de données'!$F$21<2,0,Bilan_2!$B$19)","v":0},{"$f":"C87","v":0}]
[null,"Efficacité de combustion",{"$f":"IF('Entrée de données'!$F$21<2,0,'Entrée de données'!K36)","v":0},{"$f":"IF(C88=0,0,C88)","v":0}]
[null,"Pertes par radiation  et par convection (% de l'énergie au brûleur)",{"$f":"IF('Entrée de données'!$F$21<2,0,Bilan_2!$B$23)","v":0},{"$f":"IF(C89=0,0,C89)","v":0},null,null,null,null,null,"Pertes de vapeur",null,null,"Eau d'appoint"]
[null,"Efficacité de chauffe  (% de l'énergie au brûleur) ",{"$f":"IF('Entrée de données'!$F$21<2,0,Bilan_2!$B$26)","v":0},{"$f":"IF(C90=0,0,C90)","v":0},null,null,null,null,null,{"$f":"$C$38","v":0},null,null,{"$f":"$C$25","v":0}]
[null,"Alimentation d'eau d'appoint",{"$f":"IF('Entrée de données'!$F$21<2,0,Bilan_2!$B$70)","v":0},{"$f":"IF(C91=0,0,C91*$P$6)","v":0}]
[null,"Retour de condensat",{"$f":"IF('Entrée de données'!$F$21<2,0,Bilan_2!$B$72)","v":0},{"$f":"IF(C92=0,0,C92*$P$6)","v":0}]
[null,null,null,null,null,null,null,null,{"$f":"$C$36-H98","v":0}]
[]
[null,"Pression manométrique de la vapeur produite",{"$f":"IF('Entrée de données'!$F$21<2,0,Bilan_2!$B$56)","v":0},{"$f":"IF(C95=0,0,C95*$P$9)","v":0}]
[null,"Type de vapeur produite",{"$f":"IF('Entrée de données'!$F$21<2,0,IF('Entrée de données'!$D$41=1,\"Vapeur saturée\",\"Vapeur surchauffée\"))","v":0},{"$f":"IF(C96=0,0,C96)","v":0}]
[null,"Quantité totale de vapeur produite par la chaudière",{"$f":"IF('Entrée de données'!$F$21<2,0,C98+C99)","v":0},{"$f":"IF(C97=0,0,C97*$P$6)","v":0},null,null,null,null,null,null,"Retour de condensat"]
[null,"Quantité de vapeur disponible pour utilisation",{"$f":"IF('Entrée de données'!$F$21<2,0,Bilan_2!$B$87)","v":0},{"$f":"IF(C98=0,0,C98*$P$6)","v":0},null,null,null,{"$f":"C99","v":0},null,null,{"$f":"$C$26","v":0}]
[null,"Quantité de vapeur alimentée au dégazeur",{"$f":"IF('Entrée de données'!$F$21<2,0,Bilan_2!$B$106)","v":0},{"$f":"IF(C99=0,0,C99*$P$6)","v":0}]
[null,"Pertes d'eau par la purge",{"$f":"IF('Entrée de données'!$F$21<2,0,Bilan_2!$B$77)","v":0},{"$f":"IF(C100=0,0,C100*$P$6)","v":0}]
[null,"Pertes d'énergie par la purge",{"$f":"IF('Entrée de données'!$F$21<2,0,Bilan_2!$B$82)","v":0},{"$f":"IF(C101=0,0,C101)","v":0},{"$f":"C89","v":0}]
[null,"Efficacité de génération de vapeur utile",{"$f":"IF('Entrée de données'!$F$21<2,0,Bilan_2!$B$118)","v":0},{"$f":"IF(C102=0,0,C102)","v":0}]
[null,"Ratio gaz naturel/vapeur",{"$f":"IF('Entrée de données'!$F$21<2,0,Bilan_2!$B$119)","v":0},{"$f":"IF(C103=0,0,C103*$P$8)","v":0},null,null,null,null,null,null,"Eau d'alimentation vers d'autres chaudières"]
[null,"Autres données",null,null,null,null,null,"Gaz naturel",null,null,{"$f":"K98+M90-I108","v":0}]
[null,"Quantité de fumées sèches produite",{"$f":"IF('Entrée de données'!$F$21<2,0,Bilan_2!$E$41)","v":0},{"$f":"IF(C105=0,0,C105*$P$6)","v":0},null,{"$f":"C100","v":0},null,{"$f":"C86","v":0}]
[null,"Quantité de fumées humides produite",{"$f":"IF('Entrée de données'!$F$21<2,0,Bilan_2!$E$40)","v":0},{"$f":"IF(C106=0,0,C106*$P$6)","v":0},null,{"$f":"C101","v":0}]
[null,"Enthalpie de l'eau saturée - Purge",{"$f":"IF('Entrée de données'!$F$21<2,0,Bilan_2!$B$59)","v":0},{"$f":"IF(C107=0,0,C107*$P$10)","v":0},null,null,null,null,"Eau d'alimentation"]
[null,"Enthalpie de la vapeur produite",{"$f":"IF('Entrée de données'!$F$21<2,0,Bilan_2!$B$58)","v":0},{"$f":"IF(C108=0,0,C108*$P$10)","v":0},null,null,null,null,{"$f":"C91+C92","v":0}]
[]
[null,null,null,null,"Schéma adapté  de GERIAP:"]
[null,null,null,null,"http://www.energyefficiencyasia.org/docs/tools/training_materials/energy_equipment/Boilers%20and%20thermic%20fluid%20heaters.ppt "]
[]
[]
[null,"Résultats — Chaudière 3",null,null,"Résultats - Chaudière # 3"]
[]
[]
[null,null,"Données en unités internationales","Données en unités impériales"]
[null,"Caractéristiques de la chaudière",null,null,null,{"$f":"C134","v":0}]
[null,"Type de chaudière",{"$f":"IF('Entrée de données'!$F$21<3,0,Bilan_3!$C$3)","v":0},{"$f":"IF(C119=0,0,C119)","v":0}]
[null,"Puissance maximale de production de vapeur de la chaudière",{"$f":"IF('Entrée de données'!$F$21<3,0,Bilan_3!$B$7)","v":0},{"$f":"IF(C120=0,0,C120*$P$5)","v":0}]
[null,"Puissance du brûleur de la chaudière en opération",{"$f":"IF('Entrée de données'!$F$21<3,0,Bilan_3!$B$29)","v":0},{"$f":"IF(C121=0,0,C121*$P$5)","v":0},null,null,null,null,null,"Pertes humides et sèches"]
[null,"Alimentation en gaz naturel",{"$f":"IF('Entrée de données'!$F$21<3,0,Bilan_3!$B$31)","v":0},{"$f":"IF(C122=0,0,C122*$P$7)","v":0},null,null,null,null,null,{"$f":"C123","v":0}]
[null,"Pertes par les fumées (% de l'énergie au brûleur)",{"$f":"IF('Entrée de données'!$F$21<3,0,Bilan_3!$B$19)","v":0},{"$f":"IF(C123=0,0,C123)","v":0}]
[null,"Efficacité de combustion",{"$f":"IF('Entrée de données'!$F$21<3,0,'Entrée de données'!K37)","v":0},{"$f":"C124","v":0}]
[null,"Pertes par radiation  et par convection (% de l'énergie au brûleur)",{"$f":"IF('Entrée de données'!$F$21<3,0,Bilan_3!$B$23)","v":0},{"$f":"IF(C125=0,0,C125)","v":0},null,null,null,null,null,"Pertes de vapeur",null,null,"Eau d'appoint"]
[null,"Efficacité de chauffe  (% de l'énergie au brûleur) ",{"$f":"IF('Entrée de données'!$F$21<3,0,Bilan_3!$B$26)","v":0},{"$f":"IF(C126=0,0,C126)","v":0},null,null,null,null,null,{"$f":"$C$38","v":0},null,null,{"$f":"$C$25","v":0}]
[null,"Alimentation d'eau d'appoint",{"$f":"IF('Entrée de données'!$F$21<3,0,Bilan_3!$B$70)","v":0},{"$f":"IF(C127=0,0,C127*$P$6)","v":0}]
[null,"Retour de condensat",{"$f":"IF('Entrée de données'!$F$21<3,0,Bilan_3!$B$72)","v":0},{"$f":"IF(C128=0,0,C128*$P$6)","v":0}]
[null,null,null,null,null,null,null,null,{"$f":"$C$36-H134","v":0}]
[]
[null,"Pression manométrique de la vapeur produite",{"$f":"IF('Entrée de données'!$F$21<3,0,Bilan_3!$B$56)","v":0},{"$f":"IF(C131=0,0,C131*$P$9)","v":0}]
[null,"Type de vapeur produite",{"$f":"IF('Entrée de données'!$F$21<3,0,IF('Entrée de données'!$E$41=1,\"Vapeur saturée\",\"Vapeur surchauffée\"))","v":0},{"$f":"IF(C132=0,0,C132)","v":0}]
[null,"Quantité totale de vapeur produite par la chaudière",{"$f":"IF('Entrée de données'!$F$21<3,0,C134+C135)","v":0},{"$f":"IF(C133=0,0,C133*$P$6)","v":0},null,null,null,null,null,null,"Retour de condensat"]
[null,"Quantité de vapeur disponible pour utilisation",{"$f":"IF('Entrée de données'!$F$21<3,0,Bilan_3!$B$87)","v":0},{"$f":"IF(C134=0,0,C134*$P$6)","v":0},null,null,null,{"$f":"C135","v":0},null,null,{"$f":"$C$26","v":0}]
[null,"Quantité de vapeur alimentée au dégazeur",{"$f":"IF('Entrée de données'!$F$21<3,0,Bilan_3!$B$106)","v":0},{"$f":"IF(C135=0,0,C135*$P$6)","v":0}]
[null,"Pertes d'eau par la purge",{"$f":"IF('Entrée de données'!$F$21<3,0,Bilan_3!$B$77)","v":0},{"$f":"IF(C136=0,0,C136*$P$6)","v":0}]
[null,"Pertes d'énergie par la purge",{"$f":"IF('Entrée de données'!$F$21<3,0,Bilan_3!$B$82)","v":0},{"$f":"IF(C137=0,0,C137)","v":0},{"$f":"C125","v":0}]
[null,"Efficacité de génération de vapeur utile",{"$f":"IF('Entrée de données'!$F$21<3,0,Bilan_3!$B$118)","v":0},{"$f":"IF(C138=0,0,C138)","v":0}]
[null,"Ratio gaz naturel/vapeur",{"$f":"IF('Entrée de données'!$F$21<3,0,Bilan_3!$B$119)","v":0},{"$f":"IF(C139=0,0,C139*$P$8)","v":0},null,null,null,null,null,null,"Eau d'alimentation vers d'autres chaudières"]
[null,"Autres données",null,null,null,null,null,"Gaz naturel",null,null,{"$f":"K134+M126-I144","v":0}]
[null,"Quantité de fumées sèches produite",{"$f":"IF('Entrée de données'!$F$21<3,0,Bilan_3!$E$41)","v":0},{"$f":"IF(C141=0,0,C141*$P$6)","v":0},null,{"$f":"C136","v":0},null,{"$f":"C122","v":0}]
[null,"Quantité de fumées humides produite",{"$f":"IF('Entrée de données'!$F$21<3,0,Bilan_3!$E$40)","v":0},{"$f":"IF(C142=0,0,C142*$P$6)","v":0},null,{"$f":"C137","v":0}]
[null,"Enthalpie de l'eau saturée - Purge",{"$f":"IF('Entrée de données'!$F$21<3,0,Bilan_3!$B$59)","v":0},{"$f":"IF(C143=0,0,C143*$P$10)","v":0},null,null,null,null,"Eau d'alimentation"]
[null,"Enthalpie de la vapeur produite",{"$f":"IF('Entrée de données'!$F$21<3,0,Bilan_3!$B$58)","v":0},{"$f":"IF(C144=0,0,C144*$P$10)","v":0},null,null,null,null,{"$f":"C127+C128","v":0}]
[]
[null,null,null,null,"Schéma adapté  de GERIAP:"]
[null,null,null,null,"http://www.energyefficiencyasia.org/docs/tools/training_materials/energy_equipment/Boilers%20and%20thermic%20fluid%20heaters.ppt "]
[]
[]
[null,"Résultats — Chaudière 4",null,null,"Résultats - Chaudière # 4"]
[]
[]
[null,null,"Données en unités internationales","Données en unités impériales"]
[null,"Caractéristiques de la chaudière",null,null,null,{"$f":"C170","v":0}]
[null,"Type de chaudière",{"$f":"IF('Entrée de données'!$F$21<4,0,Bilan_4!$C$3)","v":0},{"$f":"IF(C155=0,0,C155)","v":0}]
[null,"Puissance maximale de production de vapeur de la chaudière",{"$f":"IF('Entrée de données'!$F$21<4,0,Bilan_4!$B$7)","v":0},{"$f":"IF(C156=0,0,C156*$P$5)","v":0}]
[null,"Puissance du brûleur de la chaudière en opération",{"$f":"IF('Entrée de données'!$F$21<4,0,Bilan_4!$B$29)","v":0},{"$f":"IF(C157=0,0,C157*$P$5)","v":0},null,null,null,null,null,"Pertes humides et sèches"]
[null,"Alimentation en gaz naturel",{"$f":"IF('Entrée de données'!$F$21<4,0,Bilan_4!$B$31)","v":0},{"$f":"IF(C158=0,0,C158*$P$7)","v":0},null,null,null,null,null,{"$f":"C159","v":0}]
[null,"Pertes par les fumées (% de l'énergie au brûleur)",{"$f":"IF('Entrée de données'!$F$21<4,0,Bilan_4!$B$19)","v":0},{"$f":"IF(C159=0,0,C159)","v":0}]
[null,"Efficacité de combustion",{"$f":"IF('Entrée de données'!$F$21<4,0,'Entrée de données'!K38)","v":0},{"$f":"C160","v":0}]
[null,"Pertes par radiation  et par convection (% de l'énergie au brûleur)",{"$f":"IF('Entrée de données'!$F$21<4,0,Bilan_4!$B$23)","v":0},{"$f":"IF(C161=0,0,C161)","v":0},null,null,null,null,null,"Pertes de vapeur",null,null,"Eau d'appoint"]
[null,"Efficacité de chauffe  (% de l'énergie au brûleur) ",{"$f":"IF('Entrée de données'!$F$21<4,0,Bilan_4!$B$26)","v":0},{"$f":"IF(C162=0,0,C162)","v":0},null,null,null,null,null,{"$f":"$C$38","v":0},null,null,{"$f":"$C$25","v":0}]
[null,"Alimentation d'eau d'appoint",{"$f":"IF('Entrée de données'!$F$21<4,0,Bilan_4!$B$70)","v":0},{"$f":"IF(C163=0,0,C163*$P$6)","v":0}]
[null,"Retour de condensat",{"$f":"IF('Entrée de données'!$F$21<4,0,Bilan_4!$B$72)","v":0},{"$f":"IF(C164=0,0,C164*$P$6)","v":0}]
[null,null,null,null,null,null,null,null,{"$f":"$C$36-H170","v":0}]
[]
[null,"Pression manométrique de la vapeur produite",{"$f":"IF('Entrée de données'!$F$21<4,0,Bilan_4!$B$56)","v":0},{"$f":"IF(C167=0,0,C167*$P$9)","v":0}]
[null,"Type de vapeur produite",{"$f":"IF('Entrée de données'!$F$21<4,0,IF('Entrée de données'!$F$41=1,\"Vapeur saturée\",\"Vapeur surchauffée\"))","v":0},{"$f":"IF(C168=0,0,C168)","v":0}]
[null,"Quantité totale de vapeur produite par la chaudière",{"$f":"IF('Entrée de données'!$F$21<4,0,C170+C171)","v":0},{"$f":"IF(C169=0,0,C169*$P$6)","v":0},null,null,null,null,null,null,"Retour de condensat"]
[null,"Quantité de vapeur disponible pour utilisation",{"$f":"IF('Entrée de données'!$F$21<4,0,Bilan_4!$B$87)","v":0},{"$f":"IF(C170=0,0,C170*$P$6)","v":0},null,null,null,{"$f":"C171","v":0},null,null,{"$f":"$C$26","v":0}]
[null,"Quantité de vapeur alimentée au dégazeur",{"$f":"IF('Entrée de données'!$F$21<4,0,Bilan_4!$B$106)","v":0},{"$f":"IF(C171=0,0,C171*$P$6)","v":0}]
[null,"Pertes d'eau par la purge",{"$f":"IF('Entrée de données'!$F$21<4,0,Bilan_4!$B$77)","v":0},{"$f":"IF(C172=0,0,C172*$P$6)","v":0}]
[null,"Pertes d'énergie par la purge",{"$f":"IF('Entrée de données'!$F$21<4,0,Bilan_4!$B$82)","v":0},{"$f":"IF(C173=0,0,C173)","v":0},{"$f":"C161","v":0}]
[null,"Efficacité de génération de vapeur utile",{"$f":"IF('Entrée de données'!$F$21<4,0,Bilan_4!$B$118)","v":0},{"$f":"IF(C174=0,0,C174)","v":0}]
[null,"Ratio gaz naturel/vapeur",{"$f":"IF('Entrée de données'!$F$21<4,0,Bilan_4!$B$119)","v":0},{"$f":"IF(C175=0,0,C175*$P$8)","v":0},null,null,null,null,null,null,"Eau d'alimentation vers d'autres chaudières"]
[null,"Autres données",null,null,null,null,null,"Gaz naturel",null,null,{"$f":"K170+M162-I180","v":0}]
[null,"Quantité de fumées sèches produite",{"$f":"IF('Entrée de données'!$F$21<4,0,Bilan_4!$E$41)","v":0},{"$f":"IF(C177=0,0,C177*$P$6)","v":0},null,{"$f":"C172","v":0},null,{"$f":"C158","v":0}]
[null,"Quantité de fumées humides produite",{"$f":"IF('Entrée de données'!$F$21<4,0,Bilan_4!$E$40)","v":0},{"$f":"IF(C178=0,0,C178*$P$6)","v":0},null,{"$f":"C173","v":0}]
[null,"Enthalpie de l'eau saturée - Purge",{"$f":"IF('Entrée de données'!$F$21<4,0,Bilan_4!$B$59)","v":0},{"$f":"IF(C179=0,0,C179*$P$10)","v":0},null,null,null,null,"Eau d'alimentation"]
[null,"Enthalpie de la vapeur produite",{"$f":"IF('Entrée de données'!$F$21<4,0,Bilan_4!$B$58)","v":0},{"$f":"IF(C180=0,0,C180*$P$10)","v":0},null,null,null,null,{"$f":"C163+C164","v":0}]
[]
[null,null,null,null,"Schéma adapté  de GERIAP:"]
[null,null,null,null,"http://www.energyefficiencyasia.org/docs/tools/training_materials/energy_equipment/Boilers%20and%20thermic%20fluid%20heaters.ppt "]

{"sheet":"Résultats - Bilan de matière EE","index":6,"n_rows":183,"n_cols":17,"rows_kept":183,"cut":false,"hidden":false,"merged":[[176,7,176,8],[178,8,178,9],[179,8,179,9],[168,10,168,11],[169,7,169,8],[169,10,169,11],[175,1,175,3],[175,7,175,8],[175,10,175,11],[149,1,151,3],[153,1,153,3],[153,5,153,6],[157,10,157,11],[158,10,158,11],[164,1,165,3],[164,8,164,9],[143,8,143,9],[121,10,121,11],[122,10,122,11],[128,1,129,3],[128,8,128,9],[132,10,132,11],[133,7,133,8],[133,10,133,11],[139,1,139,3],[139,7,139,8],[139,10,139,11],[140,7,140,8],[142,8,142,9],[104,7,104,8],[106,8,106,9],[107,8,107,9],[113,1,115,3],[117,1,117,3],[117,5,117,6],[103,1,103,3],[103,7,103,8],[103,10,103,11],[75,4,76,12],[77,1,79,3],[81,1,81,3],[81,5,81,6],[85,10,85,11],[86,10,86,11],[92,1,93,3],[92,8,92,9],[96,10,96,11],[97,7,97,8],[97,10,97,11],[71,8,71,9],[49,10,49,11],[50,10,50,11],[56,1,57,3],[56,8,56,9],[60,10,60,11],[61,7,61,8],[61,10,61,11],[67,1,67,3],[67,7,67,8],[67,10,67,11],[68,7,68,8],[70,8,70,9],[39,1,39,3],[41,1,43,3],[45,1,45,3],[45,5,45,6],[30,8,30,9],[31,8,31,9],[32,5,32,6],[14,13,14,15],[15,1,15,3],[19,8,19,9],[11,2,11,3],[12,2,12,3],[13,2,13,3],[13,10,13,11],[14,2,14,3],[14,10,14,11],[9,2,9,3],[9,9,10,9],[10,2,10,3],[7,1,7,3],[7,5,7,6],[1,1,3,3],[4,1,4,3],[5,2,5,3],[6,2,6,3],[8,1,8,3]]}
[]
[null,"— Résultats — \nBilan d'énergie de la centrale thermique après l'ajout des mesures d'efficacité énergétique",null,null,"Résultats - Bilan d'énergie de la centrale thermique"]
[null,null,null,null,null,null,null,null,null,null,null,null,null,null,"Facteur de conversion"]
[null,null,null,null,"Schéma de la centrale thermique"]
[null,"Projet réalisé par",null,null,null,null,null,null,null,null,null,null,null,null,"De kW à Millions de Btu/h",{"$f":"1/293.07","v":3.4121540928788345E-3}]
[null,"Nom de l'ingénieur",{"$f":"IF('Entrée de données'!C7:F7=\"\",\"\",'Entrée de données'!C7:F7)","v":""},null,null,null,null,null,null,null,null,null,null,null,"De kg/h à lb/h",2.2046199999999998,"Heat transfer 9eme édition"]
[null,"Nom de la firme",{"$f":"IF(ISBLANK('Entrée de données'!C8:E8),\"\",'Entrée de données'!C8:E8)","v":""},null,null,null,null,null,null,null,null,null,null,null,"m3/h à pi3/h",35.313400000000001,"Heat transfer 9eme édition"]
[null,null,null,null,null,{"$f":"C21","v":0},null,null,null,null,null,null,null,null,"m3/kg à pi3/lb",{"$f":"P7/P6","v":16.017907848064521}]
[null,"Informations sur le client",null,null,null,null,null,null,null,null,null,null,null,null,"kPa to psi",{"$f":"1/6.8948","v":0.14503683935719672}]
[null,"Nom de la compagnie",{"$f":"IF(ISBLANK('Entrée de données'!C11:E11),\"\",'Entrée de données'!C11:E11)","v":""},null,null,null,null,null,null,{"$f":"C30","v":""},null,null,null,null,"kJ/kg to Btu/lb",0.42992999999999998]
[null,"Site",{"$f":"IF(ISBLANK('Entrée de données'!C12),\"\",'Entrée de données'!C12)","v":""}]
[null,"Adresse du site",{"$f":"IF(ISBLANK('Entrée de données'!C13),\"\",'Entrée de données'!C13)","v":""}]
[null,"Personne-ressource",{"$f":"IF(ISBLANK('Entrée de données'!C14),\"\",'Entrée de données'!C14)","v":""}]
[null,"Téléphone",{"$f":"IF(ISBLANK('Entrée de données'!C15),\"\",'Entrée de données'!C15)","v":""},null,null,null,null,null,null,null,{"$f":"C39","v":""}]
[null,"Date du rapport",{"$f":"IF(ISBLANK('Entrée de données'!C16),\"\",'Entrée de données'!C16)","v":""},null,null,null,null,null,null,null,{"$f":"C38","v":0},null,null,{"$f":"C25","v":0}]
[null,{"$f":"IF(ISNUMBER(C19), \"\",\"Veuillez vérifier le nombre de chaudières saisi dans l'onglet entrée de données et vérifier que les données sont bien rentrées \")","v":""},null,null,null,null,null,null,null,null,"Perte de vapeur",null,null,"Eau d'appoint"]
[null,null,"Données en unités internationales","Données en unités impériales"]
[null,"Nombre de chaudières dans la centrale thermique",{"$f":"IF(OR('Entrée de données'!F21=\"\",'Entrée de données'!F21=0),\"Vous devez indiquer le nombres de chaudières dans l'onglet Entrée de données pour voir les résultats\",'Entrée de données'!F21)","v":"Vous devez indiquer le nombres de chaudières dans l'onglet Entrée de données pour voir les résultats"},{"$f":"C18","v":"Vous devez indiquer le nombres de chaudières dans l'onglet Entrée de données pour voir les résultats"}]
[null,"Quantité totale d'énergie fournie aux brûleurs des chaudières ",{"$f":"C49+C85+C121+C157","v":0},{"$f":"C19*P5","v":0}]
[null,"Alimentation totale en gaz naturel",{"$f":"C50+C86+C122+C158","v":0},{"$f":"C20*P7","v":0},null,null,null,null,{"$f":"C36","v":0}]
[null,"Quantité totale de vapeur fournie aux utilisateurs",{"$f":"C62+C98+C134+C170","v":0},{"$f":"C21*$P$6","v":0}]
[null,"Efficacité globale de production de vapeur utile de la centrale ",{"$f":"IF(C19=0,\"\",(C49*C66+C85*C102+C121*C138+C157*C174)/C19)","v":""},{"$f":"C22","v":""},null,null,null,null,null,null,null,null,"Retour total du condensat"]
[null,"Ratio gaz naturel/vapeur",{"$f":"IF(OR(C20=0,C21=0),\"\",ROUND(C20/C21,5))","v":""},{"$f":"IF(C23=\"\",\"\",C23*$P$8)","v":""},null,null,null,null,null,null,null,null,{"$f":"C26","v":0}]
[null,"Alimentation totale d'eau à la centrale thermique",{"$f":"C25+C26","v":0},{"$f":"C24*P6","v":0}]
[null,"Alimentation totale d'eau d'appoint",{"$f":"C55+C91+C127+C163","v":0},{"$f":"C25*P6","v":0}]
[null,"Alimentation totale d'eau de condensat",{"$f":"C56+C92+C128+C164","v":0},{"$f":"C26*P6","v":0}]
[null,"Efficacité globale de chauffe",{"$f":"IF(C19=0,\"\",(C49*C54+C85*C90+C121*C126+C157*C162)/C19)","v":""},"",{"$f":"C32","v":""}]
[null,"Efficacité globable de combustion",{"$f":"IF(C19=0,\"\",(C49*C52+C85*C88+C121*C124+C157*C160)/C19)","v":""},{"$f":"C28","v":""}]
[null,"Totale des pertes par les fumées ",{"$f":"IF(OR('Entrée de données'!F21=0,'Entrée de données'!F21=\"\"),\"\",IF('Entrée de données'!F21=1,C51*C49,IF('Entrée de données'!F21=2,C51*C49+C85*C87,IF('Entrée de données'!F21=3,C51*C49+C85*C87+C121*C123,IF('Entrée de données'!F21=4,C51*C49+C85*C87+C121*C123+C157*C159)))))","v":""},{"$f":"IF(C29=\"\",\"\",C29*P5)","v":""}]
[null,"Totale des pertes par les fumées",{"$f":"IF(C19=0,\"\",C29/C19)","v":""},{"$f":"C30","v":""}]
[null,"Totale des pertes par radiation et par convection ",{"$f":"IF(OR('Entrée de données'!F21=0,'Entrée de données'!F21=\"\"),\"\",IF('Entrée de données'!F21=1,C53*C49,IF('Entrée de données'!F21=2,C53*C49+C85*C89,IF('Entrée de données'!F21=3,C53*C49+C85*C89+C121*C125,IF('Entrée de données'!F21=4,C53*C49+C85*C89+C121*C125+C157*C161)))))","v":""},{"$f":"IF(C31=\"\",\"\",C31*P5)","v":""},null,null,null,null,"Gaz naturel"]
[null,"Totale des pertes par radiation et par convection (% de l'énergie alimenté)",{"$f":"IF(C19=0,\"\",C31/C19)","v":""},"",null,null,null,null,{"$f":"C20","v":0}]
[null,"Totale des pertes par la purge",{"$f":"IF(OR('Entrée de données'!F21=0,'Entrée de données'!F21=\"\"),\"\",IF('Entrée de données'!F21=1,C65*C49,IF('Entrée de données'!F21=2,C65*C49+C85*C101,IF('Entrée de données'!F21=3,C65*C49+C85*C101+C121*C137,IF('Entrée de données'!F21=4,C65*C49+C85*C101+C121*C137+C157*C173)))))","v":""},{"$f":"IF(C33=\"\",\"\",C33*P5)","v":""},null,{"$f":"C34","v":""}]
[null,"Totale des pertes par la purge",{"$f":"IF(OR('Entrée de données'!F21=0,'Entrée de données'!F21=\"\"),\"\",IF('Entrée de données'!F21=1,C64,IF('Entrée de données'!F21=2,C64+C100,IF('Entrée de données'!F21=3,C64+C100+C136,IF('Entrée de données'!F21=4,C64+C100+C136+C172)))))","v":""},{"$f":"IF(C34=\"\",\"\",C34*P6)","v":""},null,{"$f":"C35","v":""}]
[null,"Totale des pertes par la purge (% de l'énergie alimenté au brûleur)",{"$f":"IF(C19=0,\"\",C33/C19)","v":""},""]
[null,"Quantité totale de vapeur fournie au dégazeur",{"$f":"'Bilan_1 EE'!B95","v":0},{"$f":"IF(C36=\"\",\"\",C36*P6)","v":0}]
[null,"Total des pertes par l'évent du dégazeur",{"$f":"'Bilan_1 EE'!B99","v":0},{"$f":"IF(C37=\"\",\"\",C37*P5)","v":0}]
[null,"Total des pertes par l'évent du dégazeur ",{"$f":"'Bilan_1 EE'!B98","v":0},{"$f":"IF(C37=\"\",\"\",C38*P6)","v":0}]
[null,"Total des pertes par l'évent du dégazeur (% de l'énergie alimentée)",{"$f":"IF(C19=0,\"\",C37/C19)","v":""},""]
[null,"Énergir ne peut être tenu responsable des dommages, qu’ils soient directs ou indirects découlant des résultats des outils de calculs. L’utilisateur demeure responsable de s’assurer de l’exactitude des données qu’il utilise. Les résultats se trouvant dans le chiffrier de calculs sont fournis au client à titre indicatif seulement et ne peuvent en aucun cas être interprétés comme une garantie d’efficacité ou une représentation en ce sens de Énergir. Énergir, ses employés, mandataires et représentants ne peuvent donc être tenus responsables advenant un écart entre cette estimation et la performance réelle de la centrale thermique du client.   Version 2 - Novembre 2018"]
[]
[null,"Résultats — Chaudière 1",null,null,"Résultats - Chaudière # 1"]
[]
[]
[null,null,"Données en unités internationales","Données en unités impériales"]
[null,"Caractéristiques de la chaudière",null,null,null,{"$f":"C62","v":0}]
[null,"Type de chaudière",{"$f":"IF('Entrée de données'!$F$21<1,0,'Bilan_1 EE'!$C$3)","v":0},{"$f":"IF(C47=0,0,C47)","v":0}]
[null,"Puissance maximale de production de vapeur de la chaudière",{"$f":"IF('Entrée de données'!$F$21<1,0,'Bilan_1 EE'!$B$7)","v":0},{"$f":"IF(C48=0,0,C48*$P$5)","v":0}]
[null,"Puissance du brûleur de la chaudière en opération",{"$f":"IF('Entrée de données'!$F$21<1,0,'Bilan_1 EE'!$B$29)","v":0},{"$f":"IF(C49=0,0,C49*$P$5)","v":0},null,null,null,null,null,"Pertes humides et sèches"]
[null,"Alimentation en gaz naturel",{"$f":"IF('Entrée de données'!$F$21<1,0,'Bilan_1 EE'!$B$31)","v":0},{"$f":"IF(C50=0,0,C50*$P$7)","v":0},null,null,null,null,null,{"$f":"C51","v":0}]
[null,"Pertes par les fumées (% de l'énergie au brûleur)",{"$f":"IF('Entrée de données'!$F$21<1,0,'Bilan_1 EE'!$B$19)","v":0},{"$f":"IF(C51=0,0,C51)","v":0}]
[null,"Efficacité de combustion",{"$f":"IF('Entrée de données'!$F$21<1,0,C54+C53)","v":0},{"$f":"C52","v":0}]
[null,"Pertes par radiation  et par convection (% de l'énergie au brûleur)",{"$f":"IF('Entrée de données'!$F$21<1,0,'Bilan_1 EE'!$B$23)","v":0},{"$f":"IF(C53=0,0,C53)","v":0},null,null,null,null,null,"Pertes de vapeur",null,null,"Eau d'appoint"]
[null,"Efficacité de chauffe  (% de l'énergie au brûleur) ",{"$f":"IF('Entrée de données'!$F$21<1,0,'Bilan_1 EE'!$B$26)","v":0},{"$f":"IF(C54=0,0,C54)","v":0},null,null,null,null,null,{"$f":"$C$38","v":0},null,null,{"$f":"$C$25","v":0}]
[null,"Alimentation d'eau d'appoint",{"$f":"IF('Entrée de données'!$F$21<1,0,'Bilan_1 EE'!$B$70)","v":0},{"$f":"IF(C55=0,0,C55*$P$6)","v":0}]
[null,"Retour de condensat",{"$f":"IF('Entrée de données'!$F$21<1,0,'Bilan_1 EE'!$B$72)","v":0},{"$f":"IF(C56=0,0,C56*$P$6)","v":0}]
[null,null,null,null,null,null,null,null,{"$f":"$C$36-H62","v":0}]
[]
[null,"Pression manométrique de la vapeur produite",{"$f":"IF('Entrée de données'!$F$21<1,0,'Bilan_1 EE'!$B$56)","v":0},{"$f":"IF(C59=0,0,C59*$P$9)","v":0}]
[null,"Type de vapeur produite",{"$f":"IF('Entrée de données'!$F$21<1,0,IF('Entrée de données'!$C$41=1,\"Vapeur saturée\",\"Vapeur surchauffée\"))","v":0},{"$f":"IF(C60=0,0,C60)","v":0}]
[null,"Quantité totale de vapeur produite par la chaudière",{"$f":"IF('Entrée de données'!$F$21<1,0,C62+C63)","v":0},{"$f":"IF(C61=0,0,C61*$P$6)","v":0},null,null,null,null,null,null,"Retour de condensat"]
[null,"Quantité de vapeur disponible pour utilisation",{"$f":"IF('Entrée de données'!$F$21<1,0,'Bilan_1 EE'!$B$87)","v":0},{"$f":"IF(C62=0,0,C62*$P$6)","v":0},null,null,null,{"$f":"C63","v":0},null,null,{"$f":"$C$26","v":0}]
[null,"Quantité de vapeur alimentée au dégazeur",{"$f":"IF('Entrée de données'!$F$21<1,0,'Bilan_1 EE'!$B$101)","v":0},{"$f":"IF(C63=0,0,C63*$P$6)","v":0}]
[null,"Pertes d'eau par la purge",{"$f":"IF('Entrée de données'!$F$21<1,0,'Bilan_1 EE'!$B$77)","v":0},{"$f":"IF(C64=0,0,C64*$P$6)","v":0}]
[null,"Pertes d'énergie par la purge",{"$f":"IF('Entrée de données'!$F$21<1,0,'Bilan_1 EE'!$B$82)","v":0},{"$f":"IF(C65=0,0,C65)","v":0},{"$f":"C53","v":0}]
[null,"Efficacité de génération de vapeur utile",{"$f":"IF('Entrée de données'!$F$21<1,0,'Bilan_1 EE'!$B$117)","v":0},{"$f":"IF(C66=0,0,C66)","v":0}]
[null,"Ratio gaz naturel/vapeur",{"$f":"IF('Entrée de données'!$F$21<1,0,'Bilan_1 EE'!$B$118)","v":0},{"$f":"IF(C67=0,0,C67*$P$8)","v":0},null,null,null,null,null,null,"Eau d'alimentation vers d'autres chaudières"]
[null,"Autres données",null,null,null,null,null,"Gaz naturel",null,null,{"$f":"K62+M54-I72","v":0}]
[null,"Quantité de fumées sèches produite",{"$f":"IF('Entrée de données'!$F$21<1,0,'Bilan_1 EE'!$E$41)","v":0},{"$f":"IF(C69=0,0,C69*$P$6)","v":0},null,{"$f":"C64","v":0},null,{"$f":"C50","v":0}]
[null,"Quantité de fumées humides produite",{"$f":"IF('Entrée de données'!$F$21<1,0,'Bilan_1 EE'!$E$40)","v":0},{"$f":"IF(C70=0,0,C70*$P$6)","v":0},null,{"$f":"C65","v":0}]
[null,"Enthalpie de l'eau saturée - Purge",{"$f":"IF('Entrée de données'!$F$21<1,0,'Bilan_1 EE'!$B$59)","v":0},{"$f":"IF(C71=0,0,C71*$P$10)","v":0},null,null,null,null,"Eau d'alimentation"]
[null,"Enthalpie de la vapeur produite",{"$f":"IF('Entrée de données'!$F$21<1,0,'Bilan_1 EE'!$B$58)","v":0},{"$f":"IF(C72=0,0,C72*$P$10)","v":0},null,null,null,null,{"$f":"C55+C56","v":0}]
[]
[null,null,null,null,"Schéma adapté  de GERIAP:"]
[null,null,null,null,"http://www.energyefficiencyasia.org/docs/tools/training_materials/energy_equipment/Boilers%20and%20thermic%20fluid%20heaters.ppt "]
[]
[]
[null,"Résultats — Chaudière 2",null,null,"Résultats - Chaudière # 2"]
[]
[]
[null,null,"Données en unités internationales","Données en unités impériales"]
[null,"Caractéristiques de la chaudière",null,null,null,{"$f":"C98","v":0}]
[null,"Type de chaudière",{"$f":"IF('Entrée de données'!$F$21<2,0,'Bilan_2 EE'!$C$3)","v":0},{"$f":"IF(C83=0,0,C83)","v":0}]
[null,"Puissance maximale de production de vapeur de la chaudière",{"$f":"IF('Entrée de données'!$F$21<2,0,'Bilan_2 EE'!$B$7)","v":0},{"$f":"IF(C84=0,0,C84*$P$5)","v":0}]
[null,"Puissance du brûleur de la chaudière en opération",{"$f":"IF('Entrée de données'!$F$21<2,0,'Bilan_2 EE'!$B$29)","v":0},{"$f":"IF(C85=0,0,C85*$P$5)","v":0},null,null,null,null,null,"Pertes humides et sèches"]
[null,"Alimentation en gaz naturel",{"$f":"IF('Entrée de données'!$F$21<2,0,'Bilan_2 EE'!$B$31)","v":0},{"$f":"IF(C86=0,0,C86*$P$7)","v":0},null,null,null,null,null,{"$f":"C87","v":0}]
[null,"Pertes par les fumées (% de l'énergie au brûleur)",{"$f":"IF('Entrée de données'!$F$21<2,0,'Bilan_2 EE'!$B$19)","v":0},{"$f":"IF(C87=0,0,C87)","v":0}]
[null,"Efficacité de combustion",{"$f":"IF('Entrée de données'!$F$21<2,0,C90+C89)","v":0},{"$f":"C88","v":0}]
[null,"Pertes par radiation  et par convection (% de l'énergie au brûleur)",{"$f":"IF('Entrée de données'!$F$21<2,0,'Bilan_2 EE'!$B$23)","v":0},{"$f":"IF(C89=0,0,C89)","v":0},null,null,null,null,null,"Pertes de vapeur",null,null,"Eau d'appoint"]
[null,"Efficacité de chauffe  (% de l'énergie au brûleur) ",{"$f":"IF('Entrée de données'!$F$21<2,0,'Bilan_2 EE'!$B$26)","v":0},{"$f":"IF(C90=0,0,C90)","v":0},null,null,null,null,null,{"$f":"$C$38","v":0},null,null,{"$f":"$C$25","v":0}]
[null,"Alimentation d'eau d'appoint",{"$f":"IF('Entrée de données'!$F$21<2,0,'Bilan_2 EE'!$B$70)","v":0},{"$f":"IF(C91=0,0,C91*$P$6)","v":0}]
[null,"Retour de condensat",{"$f":"IF('Entrée de données'!$F$21<2,0,'Bilan_2 EE'!$B$72)","v":0},{"$f":"IF(C92=0,0,C92*$P$6)","v":0}]
[null,null,null,null,null,null,null,null,{"$f":"$C$36-H98","v":0}]
[]
[null,"Pression manométrique de la vapeur produite",{"$f":"IF('Entrée de données'!$F$21<2,0,'Bilan_2 EE'!$B$56)","v":0},{"$f":"IF(C95=0,0,C95*$P$9)","v":0}]
[null,"Type de vapeur produite",{"$f":"IF('Entrée de données'!$F$21<2,0,IF('Entrée de données'!$D$41=1,\"Vapeur saturée\",\"Vapeur surchauffée\"))","v":0},{"$f":"IF(C96=0,0,C96)","v":0}]
[null,"Quantité totale de vapeur produite par la chaudière",{"$f":"IF('Entrée de données'!$F$21<2,0,C98+C99)","v":0},{"$f":"IF(C97=0,0,C97*$P$6)","v":0},null,null,null,null,null,null,"Retour de condensat"]
[null,"Quantité de vapeur disponible pour utilisation",{"$f":"IF('Entrée de données'!$F$21<2,0,'Bilan_2 EE'!$B$87)","v":0},{"$f":"IF(C98=0,0,C98*$P$6)","v":0},null,null,null,{"$f":"C99","v":0},null,null,{"$f":"$C$26","v":0}]
[null,"Quantité de vapeur alimentée au dégazeur",{"$f":"IF('Entrée de données'!$F$21<2,0,'Bilan_2 EE'!$B$106)","v":0},{"$f":"IF(C99=0,0,C99*$P$6)","v":0}]
[null,"Pertes d'eau par la purge",{"$f":"IF('Entrée de données'!$F$21<2,0,'Bilan_2 EE'!$B$77)","v":0},{"$f":"IF(C100=0,0,C100*$P$6)","v":0}]
[null,"Pertes d'énergie par la purge",{"$f":"IF('Entrée de données'!$F$21<2,0,'Bilan_2 EE'!$B$82)","v":0},{"$f":"IF(C101=0,0,C101)","v":0},{"$f":"C89","v":0}]
[null,"Efficacité de génération de vapeur utile",{"$f":"IF('Entrée de données'!$F$21<2,0,'Bilan_2 EE'!$B$118)","v":0},{"$f":"IF(C102=0,0,C102)","v":0}]
[null,"Ratio gaz naturel/vapeur",{"$f":"IF('Entrée de données'!$F$21<2,0,'Bilan_2 EE'!$B$119)","v":0},{"$f":"IF(C103=0,0,C103*$P$8)","v":0},null,null,null,null,null,null,"Eau d'alimentation vers d'autres chaudières"]
[null,"Autres données",null,null,null,null,null,"Gaz naturel",null,null,{"$f":"K98+M90-I108","v":0}]
[null,"Quantité de fumées sèches produite",{"$f":"IF('Entrée de données'!$F$21<2,0,'Bilan_2 EE'!$E$41)","v":0},{"$f":"IF(C105=0,0,C105*$P$6)","v":0},null,{"$f":"C100","v":0},null,{"$f":"C86","v":0}]
[null,"Quantité de fumées humides produite",{"$f":"IF('Entrée de données'!$F$21<2,0,'Bilan_2 EE'!$E$40)","v":0},{"$f":"IF(C106=0,0,C106*$P$6)","v":0},null,{"$f":"C101","v":0}]
[null,"Enthalpie de l'eau saturée - Purge",{"$f":"IF('Entrée de données'!$F$21<2,0,'Bilan_2 EE'!$B$59)","v":0},{"$f":"IF(C107=0,0,C107*$P$10)","v":0},null,null,null,null,"Eau d'alimentation"]
[null,"Enthalpie de la vapeur produite",{"$f":"IF('Entrée de données'!$F$21<2,0,'Bilan_2 EE'!$B$58)","v":0},{"$f":"IF(C108=0,0,C108*$P$10)","v":0},null,null,null,null,{"$f":"C91+C92","v":0}]
[]
[null,null,null,null,"Schéma adapté  de GERIAP:"]
[null,null,null,null,"http://www.energyefficiencyasia.org/docs/tools/training_materials/energy_equipment/Boilers%20and%20thermic%20fluid%20heaters.ppt "]
[]
[]
[null,"Résultats — Chaudière 3",null,null,"Résultats - Chaudière # 3"]
[]
[]
[null,null,"Données en unités internationales","Données en unités impériales"]
[null,"Caractéristiques de la chaudière",null,null,null,{"$f":"C134","v":0}]
[null,"Type de chaudière",{"$f":"IF('Entrée de données'!$F$21<3,0,'Bilan_3 EE'!$C$3)","v":0},{"$f":"IF(C119=0,0,C119)","v":0}]
[null,"Puissance maximale de production de vapeur de la chaudière",{"$f":"IF('Entrée de données'!$F$21<3,0,'Bilan_3 EE'!$B$7)","v":0},{"$f":"IF(C120=0,0,C120*$P$5)","v":0}]
[null,"Puissance du brûleur de la chaudière en opération",{"$f":"IF('Entrée de données'!$F$21<3,0,'Bilan_3 EE'!$B$29)","v":0},{"$f":"IF(C121=0,0,C121*$P$5)","v":0},null,null,null,null,null,"Pertes humides et sèches"]
[null,"Alimentation en gaz naturel",{"$f":"IF('Entrée de données'!$F$21<3,0,'Bilan_3 EE'!$B$31)","v":0},{"$f":"IF(C122=0,0,C122*$P$7)","v":0},null,null,null,null,null,{"$f":"C123","v":0}]
[null,"Pertes par les fumées (% de l'énergie au brûleur)",{"$f":"IF('Entrée de données'!$F$21<3,0,'Bilan_3 EE'!$B$19)","v":0},{"$f":"IF(C123=0,0,C123)","v":0}]
[null,"Efficacité de combustion",{"$f":"IF('Entrée de données'!$F$21<3,0,C126+C125)","v":0},{"$f":"C124","v":0}]
[null,"Pertes par radiation  et par convection (% de l'énergie au brûleur)",{"$f":"IF('Entrée de données'!$F$21<3,0,'Bilan_3 EE'!$B$23)","v":0},{"$f":"IF(C125=0,0,C125)","v":0},null,null,null,null,null,"Pertes de vapeur",null,null,"Eau d'appoint"]
[null,"Efficacité de chauffe  (% de l'énergie au brûleur) ",{"$f":"IF('Entrée de données'!$F$21<3,0,'Bilan_3 EE'!$B$26)","v":0},{"$f":"IF(C126=0,0,C126)","v":0},null,null,null,null,null,{"$f":"$C$38","v":0},null,null,{"$f":"$C$25","v":0}]
[null,"Alimentation d'eau d'appoint",{"$f":"IF('Entrée de données'!$F$21<3,0,'Bilan_3 EE'!$B$70)","v":0},{"$f":"IF(C127=0,0,C127*$P$6)","v":0}]
[null,"Retour de condensat",{"$f":"IF('Entrée de données'!$F$21<3,0,'Bilan_3 EE'!$B$72)","v":0},{"$f":"IF(C128=0,0,C128*$P$6)","v":0}]
[null,null,null,null,null,null,null,null,{"$f":"$C$36-H134","v":0}]
[]
[null,"Pression manométrique de la vapeur produite",{"$f":"IF('Entrée de données'!$F$21<3,0,'Bilan_3 EE'!$B$56)","v":0},{"$f":"IF(C131=0,0,C131*$P$9)","v":0}]
[null,"Type de vapeur produite",{"$f":"IF('Entrée de données'!$F$21<3,0,IF('Entrée de données'!$E$41=1,\"Vapeur saturée\",\"Vapeur surchauffée\"))","v":0},{"$f":"IF(C132=0,0,C132)","v":0}]
[null,"Quantité totale de vapeur produite par la chaudière",{"$f":"IF('Entrée de données'!$F$21<3,0,C134+C135)","v":0},{"$f":"IF(C133=0,0,C133*$P$6)","v":0},null,null,null,null,null,null,"Retour de condensat"]
[null,"Quantité de vapeur disponible pour utilisation",{"$f":"IF('Entrée de données'!$F$21<3,0,'Bilan_3 EE'!$B$87)","v":0},{"$f":"IF(C134=0,0,C134*$P$6)","v":0},null,null,null,{"$f":"C135","v":0},null,null,{"$f":"$C$26","v":0}]
[null,"Quantité de vapeur alimentée au dégazeur",{"$f":"IF('Entrée de données'!$F$21<3,0,'Bilan_3 EE'!$B$106)","v":0},{"$f":"IF(C135=0,0,C135*$P$6)","v":0}]
[null,"Pertes d'eau par la purge",{"$f":"IF('Entrée de données'!$F$21<3,0,'Bilan_3 EE'!$B$77)","v":0},{"$f":"IF(C136=0,0,C136*$P$6)","v":0}]
[null,"Pertes d'énergie par la purge",{"$f":"IF('Entrée de données'!$F$21<3,0,'Bilan_3 EE'!$B$82)","v":0},{"$f":"IF(C137=0,0,C137)","v":0},{"$f":"C125","v":0}]
[null,"Efficacité de génération de vapeur utile",{"$f":"IF('Entrée de données'!$F$21<3,0,'Bilan_3 EE'!$B$118)","v":0},{"$f":"IF(C138=0,0,C138)","v":0}]
[null,"Ratio gaz naturel/vapeur",{"$f":"IF('Entrée de données'!$F$21<3,0,'Bilan_3 EE'!$B$119)","v":0},{"$f":"IF(C139=0,0,C139*$P$8)","v":0},null,null,null,null,null,null,"Eau d'alimentation vers d'autres chaudières"]
[null,"Autres données",null,null,null,null,null,"Gaz naturel",null,null,{"$f":"K134+M126-I144","v":0}]
[null,"Quantité de fumées sèches produite",{"$f":"IF('Entrée de données'!$F$21<3,0,'Bilan_3 EE'!$E$41)","v":0},{"$f":"IF(C141=0,0,C141*$P$6)","v":0},null,{"$f":"C136","v":0},null,{"$f":"C122","v":0}]
[null,"Quantité de fumées humides produite",{"$f":"IF('Entrée de données'!$F$21<3,0,'Bilan_3 EE'!$E$40)","v":0},{"$f":"IF(C142=0,0,C142*$P$6)","v":0},null,{"$f":"C137","v":0}]
[null,"Enthalpie de l'eau saturée - Purge",{"$f":"IF('Entrée de données'!$F$21<3,0,'Bilan_3 EE'!$B$59)","v":0},{"$f":"IF(C143=0,0,C143*$P$10)","v":0},null,null,null,null,"Eau d'alimentation"]
[null,"Enthalpie de la vapeur produite",{"$f":"IF('Entrée de données'!$F$21<3,0,'Bilan_3 EE'!$B$58)","v":0},{"$f":"IF(C144=0,0,C144*$P$10)","v":0},null,null,null,null,{"$f":"C127+C128","v":0}]
[]
[null,null,null,null,"Schéma adapté  de GERIAP:"]
[null,null,null,null,"http://www.energyefficiencyasia.org/docs/tools/training_materials/energy_equipment/Boilers%20and%20thermic%20fluid%20heaters.ppt "]
[]
[]
[null,"Résultats — Chaudière 4",null,null,"Résultats - Chaudière # 4"]
[]
[]
[null,null,"Données en unités internationales","Données en unités impériales"]
[null,"Caractéristiques de la chaudière",null,null,null,{"$f":"C170","v":0}]
[null,"Type de chaudière",{"$f":"IF('Entrée de données'!$F$21<4,0,'Bilan_4 EE'!$C$3)","v":0},{"$f":"IF(C155=0,0,C155)","v":0}]
[null,"Puissance maximale de production de vapeur de la chaudière",{"$f":"IF('Entrée de données'!$F$21<4,0,'Bilan_4 EE'!$B$7)","v":0},{"$f":"IF(C156=0,0,C156*$P$5)","v":0}]
[null,"Puissance du brûleur de la chaudière en opération",{"$f":"IF('Entrée de données'!$F$21<4,0,'Bilan_4 EE'!$B$29)","v":0},{"$f":"IF(C157=0,0,C157*$P$5)","v":0},null,null,null,null,null,"Pertes humides et sèches"]
[null,"Alimentation en gaz naturel",{"$f":"IF('Entrée de données'!$F$21<4,0,'Bilan_4 EE'!$B$31)","v":0},{"$f":"IF(C158=0,0,C158*$P$7)","v":0},null,null,null,null,null,{"$f":"C159","v":0}]
[null,"Pertes par les fumées (% de l'énergie au brûleur)",{"$f":"IF('Entrée de données'!$F$21<4,0,'Bilan_4 EE'!$B$19)","v":0},{"$f":"IF(C159=0,0,C159)","v":0}]
[null,"Efficacité de combustion",{"$f":"IF('Entrée de données'!$F$21<4,0,C162+C161)","v":0},{"$f":"C160","v":0}]
[null,"Pertes par radiation  et par convection (% de l'énergie au brûleur)",{"$f":"IF('Entrée de données'!$F$21<4,0,'Bilan_4 EE'!$B$23)","v":0},{"$f":"IF(C161=0,0,C161)","v":0},null,null,null,null,null,"Pertes de vapeur",null,null,"Eau d'appoint"]
[null,"Efficacité de chauffe  (% de l'énergie au brûleur) ",{"$f":"IF('Entrée de données'!$F$21<4,0,'Bilan_4 EE'!$B$26)","v":0},{"$f":"IF(C162=0,0,C162)","v":0},null,null,null,null,null,{"$f":"$C$38","v":0},null,null,{"$f":"$C$25","v":0}]
[null,"Alimentation d'eau d'appoint",{"$f":"IF('Entrée de données'!$F$21<4,0,'Bilan_4 EE'!$B$70)","v":0},{"$f":"IF(C163=0,0,C163*$P$6)","v":0}]
[null,"Retour de condensat",{"$f":"IF('Entrée de données'!$F$21<4,0,'Bilan_4 EE'!$B$72)","v":0},{"$f":"IF(C164=0,0,C164*$P$6)","v":0}]
[null,null,null,null,null,null,null,null,{"$f":"$C$36-H170","v":0}]
[]
[null,"Pression manométrique de la vapeur produite",{"$f":"IF('Entrée de données'!$F$21<4,0,'Bilan_4 EE'!$B$56)","v":0},{"$f":"IF(C167=0,0,C167*$P$9)","v":0}]
[null,"Type de vapeur produite",{"$f":"IF('Entrée de données'!$F$21<4,0,IF('Entrée de données'!$F$41=1,\"Vapeur saturée\",\"Vapeur surchauffée\"))","v":0},{"$f":"IF(C168=0,0,C168)","v":0}]
[null,"Quantité totale de vapeur produite par la chaudière",{"$f":"IF('Entrée de données'!$F$21<4,0,C170+C171)","v":0},{"$f":"IF(C169=0,0,C169*$P$6)","v":0},null,null,null,null,null,null,"Retour de condensat"]
[null,"Quantité de vapeur disponible pour utilisation",{"$f":"IF('Entrée de données'!$F$21<4,0,'Bilan_4 EE'!$B$87)","v":0},{"$f":"IF(C170=0,0,C170*$P$6)","v":0},null,null,null,{"$f":"C171","v":0},null,null,{"$f":"$C$26","v":0}]
[null,"Quantité de vapeur alimentée au dégazeur",{"$f":"IF('Entrée de données'!$F$21<4,0,'Bilan_4 EE'!$B$106)","v":0},{"$f":"IF(C171=0,0,C171*$P$6)","v":0}]
[null,"Pertes d'eau par la purge",{"$f":"IF('Entrée de données'!$F$21<4,0,'Bilan_4 EE'!$B$77)","v":0},{"$f":"IF(C172=0,0,C172*$P$6)","v":0}]
[null,"Pertes d'énergie par la purge",{"$f":"IF('Entrée de données'!$F$21<4,0,'Bilan_4 EE'!$B$82)","v":0},{"$f":"IF(C173=0,0,C173)","v":0},{"$f":"C161","v":0}]
[null,"Efficacité de génération de vapeur utile",{"$f":"IF('Entrée de données'!$F$21<4,0,'Bilan_4 EE'!$B$118)","v":0},{"$f":"IF(C174=0,0,C174)","v":0}]
[null,"Ratio gaz naturel/vapeur",{"$f":"IF('Entrée de données'!$F$21<4,0,'Bilan_4 EE'!$B$119)","v":0},{"$f":"IF(C175=0,0,C175*$P$8)","v":0},null,null,null,null,null,null,"Eau d'alimentation vers d'autres chaudières"]
[null,"Autres données",null,null,null,null,null,"Gaz naturel",null,null,{"$f":"K170+M162-I180","v":0}]
[null,"Quantité de fumées sèches produite",{"$f":"IF('Entrée de données'!$F$21<4,0,'Bilan_4 EE'!$E$41)","v":0},{"$f":"IF(C177=0,0,C177*$P$6)","v":0},null,{"$f":"C172","v":0},null,{"$f":"C158","v":0}]
[null,"Quantité de fumées humides produite",{"$f":"IF('Entrée de données'!$F$21<4,0,'Bilan_4 EE'!$E$40)","v":0},{"$f":"IF(C178=0,0,C178*$P$6)","v":0},null,{"$f":"C173","v":0}]
[null,"Enthalpie de l'eau saturée - Purge",{"$f":"IF('Entrée de données'!$F$21<4,0,'Bilan_4 EE'!$B$59)","v":0},{"$f":"IF(C179=0,0,C179*$P$10)","v":0},null,null,null,null,"Eau d'alimentation"]
[null,"Enthalpie de la vapeur produite",{"$f":"IF('Entrée de données'!$F$21<4,0,'Bilan_4 EE'!$B$58)","v":0},{"$f":"IF(C180=0,0,C180*$P$10)","v":0},null,null,null,null,{"$f":"C163+C164","v":0}]
[]
[null,null,null,null,"Schéma adapté  de GERIAP:"]
[null,null,null,null,"http://www.energyefficiencyasia.org/docs/tools/training_materials/energy_equipment/Boilers%20and%20thermic%20fluid%20heaters.ppt "]

{"sheet":"Résultats- Mesures d'EE","index":7,"n_rows":90,"n_cols":6,"rows_kept":90,"cut":false,"hidden":false,"merged":[[65,2,65,5],[12,2,12,5],[13,2,13,5],[14,2,14,5],[15,2,15,5],[18,1,18,5],[89,1,92,5],[24,1,24,5],[37,1,37,5],[25,3,25,4],[4,1,4,5],[38,3,38,4],[64,3,64,4],[78,3,78,4],[22,1,23,5],[63,1,63,5],[77,1,77,5],[50,1,50,5],[51,3,51,4],[9,1,9,5],[10,2,10,5],[11,2,11,5],[1,1,3,5],[6,2,6,5],[7,2,7,5],[8,1,8,5],[5,1,5,5]]}
[]
[null,"— Résultats —\n Économies d'énergie suite à l'application des mesures d'efficacité énergétique"]
[]
[]
[null,"Note:\nLes résultats présentés dans cette section reflètent l'interaction des mesures d'efficacité énergétique sélectionnées."]
[null,"Projet réalisé par"]
[null,"Nom de l'ingénieur",{"$f":"IF(ISBLANK('Entrée de données'!C7:E7),\"\",'Entrée de données'!C7:E7)","v":""}]
[null,"Nom de la firme",{"$f":"IF(ISBLANK('Entrée de données'!C8:E8),\"\",'Entrée de données'!C8:E8)","v":""}]
[]
[null,"Informations sur le client"]
[null,"Nom de la compagnie",{"$f":"IF(ISBLANK('Entrée de données'!C11:E11),\"\",'Entrée de données'!C11:E11)","v":""}]
[null,"Site",{"$f":"IF(ISBLANK('Entrée de données'!C12),\"\",'Entrée de données'!C12)","v":""}]
[null,"Adresse du site",{"$f":"IF(ISBLANK('Entrée de données'!C13),\"\",'Entrée de données'!C13)","v":""}]
[null,"Personne-ressource",{"$f":"IF(ISBLANK('Entrée de données'!C14),\"\",'Entrée de données'!C14)","v":""}]
[null,"Téléphone",{"$f":"IF(ISBLANK('Entrée de données'!C15),\"\",'Entrée de données'!C15)","v":""}]
[null,"Date du rapport",{"$f":"IF(ISBLANK('Entrée de données'!C16),\"\",'Entrée de données'!C16)","v":""}]
[]
[]
[null,"Consommation initiale"]
[null,null,"Chaudière 1","Chaudière 2","Chaudière 3","Chaudière 4"]
[null,"Consommation  d'énergie initiale (kWh)",{"$f":"IF('Entrée de données'!F21<1,\"\",Bilan_1!B29*'Entrée de données'!C38)","v":""},{"$f":"IF('Entrée de données'!F21<2,\"\",Bilan_2!B29*'Entrée de données'!D38)","v":""},{"$f":"IF('Entrée de données'!F21<3,\"\",Bilan_3!B29*'Entrée de données'!E38)","v":""},{"$f":"IF('Entrée de données'!F21<4,\"\",Bilan_4!B29*'Entrée de données'!F38)","v":""}]
[null,"Consommation initiale annuelle de gaz naturel (m3/an)",{"$f":"IF('Entrée de données'!F21<1,\"\",Bilan_1!B31*'Entrée de données'!C38)","v":""},{"$f":"IF('Entrée de données'!F21<2,\"\",Bilan_2!B31*'Entrée de données'!D38)","v":""},{"$f":"IF('Entrée de données'!F21<3,\"\",Bilan_3!B31*'Entrée de données'!E38)","v":""},{"$f":"IF('Entrée de données'!F21<4,\"\",Bilan_4!B31*'Entrée de données'!F38)","v":""}]
[null,{"$f":"IF('Mise en forme- input'!K3=\"X\", \"Veuillez sélectionner au moins une mesure d'efficacité énergétique pour obtenir des économies d'énergie\",\"\")","v":"Veuillez sélectionner au moins une mesure d'efficacité énergétique pour obtenir des économies d'énergie"}]
[]
[null,"Micro-modulation"]
[null,"Nombre de chaudière(s) avec de la micro-modulation",{"$f":"'Mise en forme- input'!F10","v":0}]
[null,null,"Chaudière 1","Chaudière 2","Chaudière 3","Chaudière 4"]
[null,"Potentiel d'économie d'énergie (kW)",{"$f":"IF('Mise en forme- input'!$C$10=TRUE,'Micro-modulation1 à 4'!B14,\"\")","v":""},{"$f":"IF('Mise en forme- input'!$C$11=TRUE,'Micro-modulation1 à 4'!C14,\"\")","v":""},{"$f":"IF('Mise en forme- input'!$C$12=TRUE,'Micro-modulation1 à 4'!D14,\"\")","v":""},{"$f":"IF('Mise en forme- input'!$C$13=TRUE,'Micro-modulation1 à 4'!E14,\"\")","v":""}]
[null,"Potentiel annuel de récupération d'énergie  (kWh)",{"$f":"IF('Mise en forme- input'!$C$10=TRUE,'Micro-modulation1 à 4'!B15,\"\")","v":""},{"$f":"IF('Mise en forme- input'!C11=TRUE,'Micro-modulation1 à 4'!C15,\"\")","v":""},{"$f":"IF('Mise en forme- input'!C12=TRUE,'Micro-modulation1 à 4'!D15,\"\")","v":""},{"$f":"IF('Mise en forme- input'!C13=TRUE,'Micro-modulation1 à 4'!E15,\"\")","v":""}]
[null,"Potentiel d'économie annuelle de gaz naturel (m3/an)",{"$f":"IF('Mise en forme- input'!$C$10=TRUE,'Micro-modulation1 à 4'!B16,\"\")","v":""},{"$f":"IF('Mise en forme- input'!C11=TRUE,'Micro-modulation1 à 4'!C16,\"\")","v":""},{"$f":"IF('Mise en forme- input'!C12=TRUE,'Micro-modulation1 à 4'!D16,\"\")","v":""},{"$f":"IF('Mise en forme- input'!C13=TRUE,'Micro-modulation1 à 4'!E16,\"\")","v":""}]
[null,"Potentiel total annuel"]
[null,"Économie d'énergie - kWh",{"$f":"SUM(C29:F29)","v":0}]
[null,"% d'économie d'énergie",{"$f":"C32/SUM($C$21:$F$21)","v":{"$error":"#DIV/0!"}}]
[null,"Économie de gaz naturel (m3/an)",{"$f":"SUM(C30:F30)","v":0}]
[null,"% de récupération de gaz naturel",{"$f":"C34/SUM($C$22:$F$22)","v":{"$error":"#DIV/0!"}}]
[]
[]
[null,"Réduction du taux de purge"]
[null,"Nombre de chaudière(s) avec une réduction du taux de purge",{"$f":"'Mise en forme- input'!F23","v":0}]
[null,null,"Chaudière 1","Chaudière 2","Chaudière 3","Chaudière 4"]
[null,"Potentiel d'économie d'énergie (kW)",{"$f":"IF('Mise en forme- input'!C23=TRUE,'Réduction de la purge 1 à 4'!B19,\"\")","v":""},{"$f":"IF('Mise en forme- input'!C24=TRUE,'Réduction de la purge 1 à 4'!C19,\"\")","v":""},{"$f":"IF('Mise en forme- input'!C25=TRUE,'Réduction de la purge 1 à 4'!D19,\"\")","v":""},{"$f":"IF('Mise en forme- input'!C26=TRUE,'Réduction de la purge 1 à 4'!E19,\"\")","v":""}]
[null,"Potentiel annuel d'économie d'énergie pour chaque cadence d'opération (kWh)",{"$f":"IF('Mise en forme- input'!C23=TRUE,'Réduction de la purge 1 à 4'!B20,\"\")","v":""},{"$f":"IF('Mise en forme- input'!C24=TRUE,'Réduction de la purge 1 à 4'!C20,\"\")","v":""},{"$f":"IF('Mise en forme- input'!C25=TRUE,'Réduction de la purge 1 à 4'!D20,\"\")","v":""},{"$f":"IF('Mise en forme- input'!C26=TRUE,'Réduction de la purge 1 à 4'!E20,\"\")","v":""}]
[null,"Potentiel d'économie annuelle de gaz naturel pour chaque cadence d'opération (m3/an)",{"$f":"IF('Mise en forme- input'!C23=TRUE,'Réduction de la purge 1 à 4'!B21,\"\")","v":""},{"$f":"IF('Mise en forme- input'!C24=TRUE,'Réduction de la purge 1 à 4'!C21,\"\")","v":""},{"$f":"IF('Mise en forme- input'!C25=TRUE,'Réduction de la purge 1 à 4'!D21,\"\")","v":""},{"$f":"IF('Mise en forme- input'!C26=TRUE,'Réduction de la purge 1 à 4'!E21,\"\")","v":""}]
[null,"Potentiel total annuel"]
[null,"Économie d'énergie - kWh",{"$f":"SUM(C42:F42)","v":0}]
[null,"% d'économie d'énergie",{"$f":"C45/SUM($C$21:$F$21)","v":{"$error":"#DIV/0!"}}]
[null,"Économie de gaz naturel (m3)",{"$f":"SUM(C43:F43)","v":0}]
[null,"% de récupération de gaz naturel",{"$f":"C47/SUM($C$22:$F$22)","v":{"$error":"#DIV/0!"}}]
[]
[]
[null,"Économiseur"]
[null,"Nombre de chaudière(s) avec un économiseur",{"$f":"'Mise en forme- input'!F16","v":0}]
[null,null,"Chaudière 1","Chaudière 2","Chaudière 3","Chaudière 4"]
[null,"Potentiel de récupération d'énergie (kW)",{"$f":"IF('Mise en forme- input'!C16=TRUE,'Économiseurs 1 à 4 '!B21,\"\")","v":""},{"$f":"IF('Mise en forme- input'!C17=TRUE,'Économiseurs 1 à 4 '!C21,\"\")","v":""},{"$f":"IF('Mise en forme- input'!C18=TRUE,'Économiseurs 1 à 4 '!D21,\"\")","v":""},{"$f":"IF('Mise en forme- input'!C19=TRUE,'Économiseurs 1 à 4 '!E21,\"\")","v":""}]
[null,"Potentiel annuel de récupération d'énergie pour chaque cadence d'opération (kWh)",{"$f":"IF('Mise en forme- input'!C16=TRUE,'Économiseurs 1 à 4 '!B22,\"\")","v":""},{"$f":"IF('Mise en forme- input'!C17=TRUE,'Économiseurs 1 à 4 '!C22,\"\")","v":""},{"$f":"IF('Mise en forme- input'!C18=TRUE,'Économiseurs 1 à 4 '!D22,\"\")","v":""},{"$f":"IF('Mise en forme- input'!C19=TRUE,'Économiseurs 1 à 4 '!E22,\"\")","v":""}]
[null,"Potentiel d'économie annuelle de gaz naturel pour chaque modulation d'opération (m3/an)",{"$f":"IF('Mise en forme- input'!C16=TRUE,'Économiseurs 1 à 4 '!B23,\"\")","v":""},{"$f":"IF('Mise en forme- input'!C17=TRUE,'Économiseurs 1 à 4 '!C23,\"\")","v":""},{"$f":"IF('Mise en forme- input'!C18=TRUE,'Économiseurs 1 à 4 '!D23,\"\")","v":""},{"$f":"IF('Mise en forme- input'!C19=TRUE,'Économiseurs 1 à 4 '!E23,\"\")","v":""}]
[null,"Potentiel total annuel"]
[null,"Récupération d'énergie (kWh)",{"$f":"SUM(C55:F55)","v":0}]
[null,"% de récupération d'énergie",{"$f":"C58/SUM($C$21:$F$21)","v":{"$error":"#DIV/0!"}}]
[null,"Économie de gaz naturel (m3/an)",{"$f":"SUM(C56:F56)","v":0}]
[null,"% de récupération de gaz naturel",{"$f":"C60/SUM($C$22:$F$22)","v":{"$error":"#DIV/0!"}}]
[]
[]
[null,"Récupération de l'énergie contenue dans les purges"]
[null,"Nombre de chaudière(s) ",{"$f":"'Entrée de données'!F21","v":0}]
[null,"Type de récupération",{"$f":"IF('Entrée de données'!C122=1,\"Production de vapeur instantannée\",IF('Entrée de données'!C122=2,\"Préchauffage de l'eau\",\"Production de vapeur instantannée et préchauffage de l'eau\"))","v":"Production de vapeur instantannée et préchauffage de l'eau"}]
[null,null,"Chaudière 1","Chaudière 2","Chaudière 3","Chaudière 4"]
[null,"Potentiel de récupération d'énergie (kW)",{"$f":"IF('Mise en forme- input'!C6=FALSE,\"\",'Récupération de la purge'!B18+'Récupération de la purge'!B22)","v":""},{"$f":"IF('Mise en forme- input'!C6=FALSE,\"\",IF(AND('Mise en forme- input'!C6=TRUE,C65<2),\"N/A\",'Récupération de la purge'!C18+'Récupération de la purge'!B22))","v":""},{"$f":"IF('Mise en forme- input'!C6=FALSE,\"\",IF(AND('Mise en forme- input'!C6=TRUE,C65<3),\"N/A\",'Récupération de la purge'!D18+'Récupération de la purge'!B22))","v":""},{"$f":"IF('Mise en forme- input'!C6=FALSE,\"\",IF(AND('Mise en forme- input'!C6=TRUE,C65<4),\"N/A\",'Récupération de la purge'!E18+'Récupération de la purge'!B22))","v":""}]
[null,"Potentiel annuel de récupération d'énergie pour chaque cadence d'opération (kWh)",{"$f":"IF('Mise en forme- input'!$C$6=FALSE,\"\",'Récupération de la purge'!B19+'Récupération de la purge'!B23)","v":""},{"$f":"IF('Mise en forme- input'!$C$6=FALSE,\"\",IF(AND('Mise en forme- input'!$C$6=TRUE,$C$65<2),\"N/A\",'Récupération de la purge'!C19+'Récupération de la purge'!B23))","v":""},{"$f":"IF('Mise en forme- input'!$C$6=FALSE,\"\",IF(AND('Mise en forme- input'!$C$6=TRUE,$C$65<3),\"N/A\",'Récupération de la purge'!D19+'Récupération de la purge'!B23))","v":""},{"$f":"IF('Mise en forme- input'!$C$6=FALSE,\"\",IF(AND('Mise en forme- input'!$C$6=TRUE,$C$65<4),\"N/A\",'Récupération de la purge'!E19+'Récupération de la purge'!B23))","v":""}]
[null,"Potentiel d'économie annuelle de gaz naturel pour chaque modulation d'opération (m3/an)",{"$f":"IF('Mise en forme- input'!$C$6=FALSE,\"\",'Récupération de la purge'!B20+'Récupération de la purge'!B24)","v":""},{"$f":"IF('Mise en forme- input'!$C$6=FALSE,\"\",IF(AND('Mise en forme- input'!$C$6=TRUE,$C$65<2),\"N/A\",'Récupération de la purge'!C20+'Récupération de la purge'!B24))","v":""},{"$f":"IF('Mise en forme- input'!$C$6=FALSE,\"\",IF(AND('Mise en forme- input'!$C$6=TRUE,$C$65<3),\"N/A\",'Récupération de la purge'!D20+'Récupération de la purge'!B24))","v":""},{"$f":"IF('Mise en forme- input'!$C$6=FALSE,\"\",IF(AND('Mise en forme- input'!$C$6=TRUE,$C$65<4),\"N/A\",'Récupération de la purge'!E20+'Récupération de la purge'!B24))","v":""}]
[null,"Potentiel total annuel"]
[null,"Récupération d'énergie (kWh)",{"$f":"SUM(C69:F69)","v":0}]
[null,"% de récupération d'énergie",{"$f":"C72/SUM($C$21:$F$21)","v":{"$error":"#DIV/0!"}}]
[null,"Économie de gaz naturel (m3/an)",{"$f":"SUM(C70:F70)","v":0}]
[null,"% de récupération de gaz naturel",{"$f":"C74/SUM($C$22:$F$22)","v":{"$error":"#DIV/0!"}}]
[]
[]
[null,"Récupération de l'énergie de l'évent du dégazeur"]
[null,"Nombre de chaudière(s) ",{"$f":"'Entrée de données'!F21","v":0}]
[null,null,"Chaudière 1","Chaudière 2","Chaudière 3","Chaudière 4"]
[null,"Potentiel de récupération d'énergie (kW)",{"$f":"IF('Mise en forme- input'!$C$7=FALSE,\"\",'Récup. évent dégazeur 1 à 4'!B16)","v":""},{"$f":"IF('Mise en forme- input'!$C$7=FALSE,\"\",IF(AND('Mise en forme- input'!$C$7=TRUE,$C$79<2),\"N/A\",'Récup. évent dégazeur 1 à 4'!C16))","v":""},{"$f":"IF('Mise en forme- input'!$C$7=FALSE,\"\",IF(AND('Mise en forme- input'!$C$7=TRUE,$C$79<3),\"N/A\",'Récup. évent dégazeur 1 à 4'!D16))","v":""},{"$f":"IF('Mise en forme- input'!$C$7=FALSE,\"\",IF(AND('Mise en forme- input'!$C$7=TRUE,$C$79<4),\"N/A\",'Récup. évent dégazeur 1 à 4'!E16))","v":""}]
[null,"Potentiel annuel de récupération d'énergie pour chaque cadence d'opération (kWh)",{"$f":"IF('Mise en forme- input'!$C$7=FALSE,\"\",'Récup. évent dégazeur 1 à 4'!B17)","v":""},{"$f":"IF('Mise en forme- input'!$C$7=FALSE,\"\",IF(AND('Mise en forme- input'!$C$7=TRUE,$C$79<2),\"N/A\",'Récup. évent dégazeur 1 à 4'!C17))","v":""},{"$f":"IF('Mise en forme- input'!$C$7=FALSE,\"\",IF(AND('Mise en forme- input'!$C$7=TRUE,$C$79<3),\"N/A\",'Récup. évent dégazeur 1 à 4'!D17))","v":""},{"$f":"IF('Mise en forme- input'!$C$7=FALSE,\"\",IF(AND('Mise en forme- input'!$C$7=TRUE,$C$79<4),\"N/A\",'Récup. évent dégazeur 1 à 4'!E17))","v":""}]
[null,"Potentiel d'économie annuelle de gaz naturel pour chaque modulation d'opération (m3/an)",{"$f":"IF('Mise en forme- input'!$C$7=FALSE,\"\",'Récup. évent dégazeur 1 à 4'!B18)","v":""},{"$f":"IF('Mise en forme- input'!$C$7=FALSE,\"\",IF(AND('Mise en forme- input'!$C$7=TRUE,$C$79<2),\"N/A\",'Récup. évent dégazeur 1 à 4'!C18))","v":""},{"$f":"IF('Mise en forme- input'!$C$7=FALSE,\"\",IF(AND('Mise en forme- input'!$C$7=TRUE,$C$79<3),\"N/A\",'Récup. évent dégazeur 1 à 4'!D18))","v":""},{"$f":"IF('Mise en forme- input'!$C$7=FALSE,\"\",IF(AND('Mise en forme- input'!$C$7=TRUE,$C$79<4),\"N/A\",'Récup. évent dégazeur 1 à 4'!E18))","v":""}]
[null,"Potentiel total annuel"]
[null,"Récupération d'énergie (kWh)",{"$f":"SUM(C82:F82)","v":0}]
[null,"% de récupération d'énergie",{"$f":"C85/SUM($C$21:$F$21)","v":{"$error":"#DIV/0!"}}]
[null,"Économie de gaz naturel (m3/an)",{"$f":"SUM(C83:F83)","v":0}]
[null,"% de récupération de gaz naturel",{"$f":"C87/SUM($C$22:$F$22)","v":{"$error":"#DIV/0!"}}]
[]
[null,"Énergir ne peut être tenu responsable des dommages, qu’ils soient directs ou indirects découlant des résultats des outils de calculs. L’utilisateur demeure responsable de s’assurer de l’exactitude des données qu’il utilise. Les résultats se trouvant dans le chiffrier de calculs sont fournis au client à titre indicatif seulement et ne peuvent en aucun cas être interprétés comme une garantie d’efficacité ou une représentation en ce sens de Énergir. Énergir, ses employés, mandataires et représentants ne peuvent donc être tenus responsables advenant un écart entre cette estimation et la performance réelle de la centrale thermique du client.   Version 2 - Novembre 2018"]

{"sheet":"Micro-modulation1 à 4","index":8,"n_rows":22,"n_cols":5,"rows_kept":22,"cut":false,"hidden":true,"merged":[[10,8,10,11],[17,8,17,11],[25,8,25,11],[33,8,33,11],[0,0,0,4],[1,0,1,4],[2,0,2,4],[3,0,3,4],[10,0,11,4],[21,0,21,4]]}
["Calculateur d'économie d'énergie par la mise en place d'un système de micro-modulation (Calculateur 1)"]
["Objectif:\nFournir un calculateur simplifié permettant d'estimer les économies d'énergie envisageables par la mise en place d'un système de micro-modulation de la chaudière. Le calculateur est essentiellement basé sur l'amélioration de l'efficacité de chauffe de la chaudière après implantation d'un système de micro-modulation."]
["Instructions:\nL'utilisateur devra fournir les informations dans la section Entrée de données (cellules foncées), pour chaque cadence d'opération de la chaudière."]
["Entrée de données"]
["Données de procédé"]
[null,"Chaudière 1","Chaudière 2","Chaudière 3","Chaudière 4"]
["Puissance du brûleur de la chaudière en opération (kW)",{"$f":"'Bilan_1 EE'!B29","v":{"$error":"#DIV/0!"}},{"$f":"'Bilan_2 EE'!B29","v":{"$error":"#DIV/0!"}},{"$f":"'Bilan_3 EE'!B29","v":{"$error":"#DIV/0!"}},{"$f":"'Bilan_4 EE'!B29","v":{"$error":"#DIV/0!"}}]
["Efficacité de combustion (TE) de la chaudière - Avant micro-modulation (%)",{"$f":"Comb_1!G2","v":0.82756709960948083},{"$f":"Comb_2!G2","v":0.82756709960948083},{"$f":"Comb_3!G2","v":0.82756709960948083},{"$f":"Comb_4!G2","v":0.82756709960948083}]
["Efficacité de combustion de la chaudière - Après micro-modulation (%)",{"$f":"IF('Mise en forme- input'!C10=FALSE,B8,'Entrée de données'!C87)","v":0.82756709960948083},{"$f":"IF('Mise en forme- input'!C11=FALSE,C8,'Entrée de données'!D87)","v":0.82756709960948083},{"$f":"IF('Mise en forme- input'!C12=FALSE,D8,'Entrée de données'!E87)","v":0.82756709960948083},{"$f":"IF('Mise en forme- input'!C13=FALSE,E8,'Entrée de données'!F87)","v":0.82756709960948083}]
["Nombre d'heures d'opération annuelles",{"$f":"'Entrée de données'!C38","v":0},{"$f":"'Entrée de données'!D38","v":0},{"$f":"'Entrée de données'!E38","v":0},{"$f":"'Entrée de données'!F38","v":0}]
["Résultats - Potentiel d'économie d'énergie"]
[]
[null,"Cadence d'opération 1 ","Cadence d'opération 2","Cadence d'opération 3","Cadence d'opération 4"]
["Potentiel d'économie d'énergie (kW)",{"$f":"ROUND(B7*(1-B8/B9),2)","v":{"$error":"#DIV/0!"}},{"$f":"ROUND(C7*(1-C8/C9),2)","v":{"$error":"#DIV/0!"}},{"$f":"ROUND(D7*(1-D8/D9),2)","v":{"$error":"#DIV/0!"}},{"$f":"ROUND(E7*(1-E8/E9),2)","v":{"$error":"#DIV/0!"}}]
["Potentiel annuel de récupération d'énergie  (kWh)",{"$f":"B14*B10","v":{"$error":"#DIV/0!"}},{"$f":"C14*C10","v":{"$error":"#DIV/0!"}},{"$f":"D14*D10","v":{"$error":"#DIV/0!"}},{"$f":"E14*E10","v":{"$error":"#DIV/0!"}}]
["Potentiel d'économie annuelle de gaz naturel (m3/an)",{"$f":"ROUND(B14*B10*3600/(1000*37.89),0)","v":{"$error":"#DIV/0!"}},{"$f":"ROUND(C14*C10*3600/(1000*37.89),0)","v":{"$error":"#DIV/0!"}},{"$error":"#DIV/0!"},{"$error":"#DIV/0!"}]
[]
[]
[]
[]
[]
["Gaz Métro ne peut être tenu responsable des dommages, qu’ils soient directs ou indirects découlant des résultats des outilsde calculs. L’utilisateur demeure responsable de s’assurer de l’exactitude des données qu’il utilise. Les résultats se trouvant dans le chiffrier de calculs sont fournis au client à titre indicatif seulement et ne peuvent en aucun cas être interprétés comme une garantie d’efficacité ou une représentation en ce sens de Gaz Métro. Gaz Métro, ses employés, mandataires et représentants ne peuvent donc être tenus responsables advenant un écart entre cette estimation et la performance réelle de la chaufferie du client.   Version 1 - Septembre 2014"]

{"sheet":"Réduction de la purge 1 à 4","index":9,"n_rows":27,"n_cols":13,"rows_kept":27,"cut":false,"hidden":true,"merged":[[26,0,26,4],[58,8,58,11],[22,8,22,11],[28,8,28,11],[34,8,34,11],[40,8,40,11],[46,8,46,11],[52,8,52,11],[17,8,17,11],[0,0,0,4],[1,0,1,4],[2,0,2,4],[3,0,3,4],[15,0,16,4]]}
["Calculateur d'économie d'énergie par la mise en place d'un système de réduction de la purge (Calculateur 2)"]
["\nObjectif:\nFournir un calculateur simplifié permettant d'estimer les économies d'énergie envisageables par la mise en place d'un système de réduction de la quantité de purge extraite de la chaudière. ",null,null,null,null,null,null,null,null,"Chaudière 1","Chaudière 2","Chaudière 3","Chaudière 4"]
["Instructions:\nL'utilisateur devra fournir les informations dans la section Entrée de données (cellules bleues), pour chaque cadence d'opération de la chaudière. Le calculateur de bilan d'énergie peut être utilisé pour obtenir la quantité de vapeur produite, et l'enthalpie de l'eau saturée, en plus de l'efficacité de chauffe. L'utilisateur devra toutefois déterminer le pourcentage de purge envisagé par l'implantation de la mesure d'économie d'énergie et la température de l'eau d'appoint alimentée à la chaudière. ",null,null,null,null,null,null,null,"Économie d'eau (kg/h)",{"$f":"B7/(1-B8)-B7/(1-B9)","v":0},{"$f":"C7/(1-C8)-C7/(1-C9)","v":0},{"$f":"D7/(1-D8)-D7/(1-D9)","v":0},0]
["Entrée de données"]
["Données de procédé"]
[null,"Chaudière 1","Chaudière 2","Chaudière 3","Chaudière 4"]
["Quantité totale de vapeur produite par la chaudière (kg/h)",{"$f":"Bilan_1!B87","v":0},{"$f":"Bilan_2!B87","v":0},{"$f":"Bilan_3!B87","v":0},{"$f":"Bilan_4!B87","v":0}]
["% de purgeAvant réduction",{"$f":"('Entrée de données'!$C$52-1)/100","v":0},{"$f":"('Entrée de données'!$D$52-1)/100","v":0},{"$f":"('Entrée de données'!$E$52-1)/100","v":0},{"$f":"('Entrée de données'!$F$52-1)/100","v":0}]
["% de purgeAprès réduction",{"$f":"IF('Mise en forme- input'!C23=FALSE,B8,'Entrée de données'!C100)","v":0},{"$f":"IF('Mise en forme- input'!C24=FALSE,C8,'Entrée de données'!D100)","v":0},{"$f":"IF('Mise en forme- input'!C25=FALSE,D8,'Entrée de données'!E100)","v":0},{"$f":"IF('Mise en forme- input'!C26=FALSE,E8,'Entrée de données'!F100)","v":0}]
["Enthalpie eau saturée (à la purge) (kJ/kg)",{"$f":"Bilan_1!B59","v":418.88357999999999},{"$f":"Bilan_2!B59","v":418.88357999999999},{"$f":"Bilan_3!B59","v":418.88357999999999},{"$f":"Bilan_4!B59","v":418.88357999999999}]
["Température de l'eau d'appoint alimentée à la chaudière (°C)",{"$f":"'Entrée de données'!C48","v":0},{"$f":"'Entrée de données'!D48","v":0},{"$f":"'Entrée de données'!E48","v":0},{"$f":"'Entrée de données'!F48","v":0}]
["Validation du pourcentage de purge\n(ne pas compléter cette cellule)",{"$f":"IF(B9>B8,\"Le pourcentage de purge après la réduction est supérieur à celui avant la réduction. Il n'est pas possible de calculer d'économies d'énergie\",\"Le pourcentage de purge après réduction est valide\")","v":"Le pourcentage de purge après réduction est valide"},{"$f":"IF(C9>C8,\"Le pourcentage de purge après la réduction est supérieur à celui avant la réduction. Il n'est pas possible de calculer d'économies d'énergie\",\"Le pourcentage de purge après réduction est valide\")","v":"Le pourcentage de purge après réduction est valide"},"Le pourcentage de purge après réduction est valide","Le pourcentage de purge après réduction est valide"]
["Nombre d'heures d'opération annuelles",{"$f":"'Entrée de données'!C38","v":0},{"$f":"'Entrée de données'!D38","v":0},{"$f":"'Entrée de données'!E38","v":0},{"$f":"'Entrée de données'!F38","v":0}]
["Puissance du brûleur de la chaudière en opération (kW)",{"$f":"'Bilan_1 EE'!B29","v":{"$error":"#DIV/0!"}},{"$f":"'Bilan_2 EE'!B29","v":{"$error":"#DIV/0!"}},{"$f":"'Bilan_3 EE'!B29","v":{"$error":"#DIV/0!"}},{"$f":"'Bilan_4 EE'!B29","v":{"$error":"#DIV/0!"}}]
["Efficacité de chauffe de la chaudière (%)",{"$f":"'Bilan_1 EE'!B26","v":{"$error":"#DIV/0!"}},{"$f":"'Bilan_2 EE'!B26","v":{"$error":"#DIV/0!"}},{"$f":"'Bilan_3 EE'!B26","v":{"$error":"#DIV/0!"}},{"$f":"'Bilan_4 EE'!B26","v":{"$error":"#DIV/0!"}}]
["Résultats - Potentiel d'économie d'énergie"]
[]
[null,"Chaudière 1","Chaudière 2","Chaudière 3","Chaudière 4"]
["Potentiel d'économie d'énergie (kW)",{"$f":"ROUND(J3*(B10-4.18*B11)/3600,2)","v":0},{"$f":"ROUND(K3*(C10-4.18*C11)/3600,2)","v":0},{"$f":"ROUND(L3*(D10-4.18*D11)/3600,2)","v":0},{"$f":"ROUND(M3*(E10-4.18*E11)/3600,2)","v":0}]
["Potentiel annuel d'économie d'énergie pour chaque cadence d'opération (kWh)",{"$f":"IF(B19=\"Erreur\",\"Erreur\",B19*B13)","v":0},{"$f":"IF(C19=\"Erreur\",\"Erreur\",C19*C13)","v":0},0,0]
["Potentiel d'économie annuelle de gaz naturel pour chaque cadence d'opération (m3/an)",{"$f":"IF(B19=\"Erreur\",\"Erreur\",ROUND(B19*B13*3600/(1000*37.89*B15),0))","v":{"$error":"#DIV/0!"}},{"$f":"IF(C19=\"Erreur\",\"Erreur\",ROUND(C19*C13*3600/(1000*37.89*C15),0))","v":{"$error":"#DIV/0!"}},{"$f":"IF(D19=\"Erreur\",\"Erreur\",ROUND(D19*D13*3600/(1000*37.89*D15),0))","v":{"$error":"#DIV/0!"}},{"$error":"#DIV/0!"}]
[]
[]
[]
[]
[]
["Gaz Métro ne peut être tenu responsable des dommages, qu’ils soient directs ou indirects découlant des résultats des outilsde calculs. L’utilisateur demeure responsable de s’assurer de l’exactitude des données qu’il utilise. Les résultats se trouvant dans le chiffrier de calculs sont fournis au client à titre indicatif seulement et ne peuvent en aucun cas être interprétés comme une garantie d’efficacité ou une représentation en ce sens de Gaz Métro. Gaz Métro, ses employés, mandataires et représentants ne peuvent donc être tenus responsables advenant un écart entre cette estimation et la performance réelle de la chaufferie du client.   Version 1 - Septembre 2014"]

{"sheet":"Économiseurs 1 à 4 ","index":10,"n_rows":69,"n_cols":19,"rows_kept":69,"cut":false,"hidden":true,"merged":[[36,0,36,4],[17,8,17,11],[0,0,0,4],[1,0,1,4],[2,0,2,4],[3,0,3,4],[16,0,17,4],[23,0,23,4],[27,0,27,4],[19,0,19,4],[65,8,65,11],[31,8,31,11],[38,8,38,11],[43,8,43,11],[49,8,49,11],[54,8,54,11],[60,8,60,11]]}
["Calculateur d'économie d'énergie par la mise en place d'un économiseur (Calculateur 3)"]
["\nObjectif:\nFournir un calculateur simplifié permettant d'estimer les économies d'énergie envisageables par la mise en place d'un économiseur pour récupérer l'énergie perdue par les fumées de la chaudière. Le calculateur permet de calculer le potentiel de récupération d'énergie pour un économiseur à condensation ou non-condensant.",null,null,null,null,null,null,"Energie non condensant"]
["Instructions:\nL'utilisateur devra fournir les informations dans la section Entrée de données (cellules bleues), pour chaque cadence d'opération de la chaudière. Il est aussi nécessaire de sélectionner le type d'économiseur retenu pour l'estimation du potentiel de récupération de chaleur. La plupart des données peuvent être obtenues partir du calculateur de bilan d'énergie.\nPour les économiseurs non-condensant, la température de sortie ne peut être inférieure à 121 °C, tandis qu'elle doit ête inférieure à cette valeur pour les économiseurs à condensation. Ce critère doit être respecté pour chaque cadence d'opération.",null,null,null,null,null,null,"Energir condansant"]
["Entrée de données",null,null,null,null,null,null,null,null,"Cadence d'opération 1 ","Cadence d'opération 2","Cadence d'opération 3","Cadence d'opération 4",null,null,null,null,"Type d'économiseur","Non-condensant"]
["Données de procédé",null,null,null,null,null,null,null,"mVapeur d'eau_sortie chaudière (kg/h)",{"$f":"B9-B8","v":{"$error":"#DIV/0!"}},{"$f":"C9-C8","v":{"$error":"#DIV/0!"}},{"$error":"#DIV/0!"},{"$error":"#DIV/0!"},null,null,null,null,null,"À condensation"]
[null,"Chaudière 1","Chaudière 2","Chaudière 3","Chaudière 4",null,null,null,"mVapeur d'eau_après condensation (kg/h)",{"$f":"J5*(1-0.35)","v":{"$error":"#DIV/0!"}},{"$f":"K5*(1-0.35)","v":{"$error":"#DIV/0!"}},{"$error":"#DIV/0!"},{"$error":"#DIV/0!"}]
["Sélectionner le type d'économiseur (Non-condensant/À condensation)",{"$f":"'Entrée de données'!C111","v":1},{"$f":"'Entrée de données'!D111","v":1},{"$f":"'Entrée de données'!E111","v":1},{"$f":"'Entrée de données'!F111","v":1},null,null,null,"mair humide_après condensation (kg/h)",{"$f":"B8+J6","v":{"$error":"#DIV/0!"}},{"$f":"C8+K6","v":{"$error":"#DIV/0!"}},{"$f":"D8+L6","v":{"$error":"#DIV/0!"}},{"$f":"E8+M6","v":{"$error":"#DIV/0!"}}]
["Quantité de fumées sèches  (kg/h)",{"$f":"'Bilan_1 EE'!E41","v":{"$error":"#DIV/0!"}},{"$f":"'Bilan_2 EE'!E41","v":{"$error":"#DIV/0!"}},{"$f":"'Bilan_3 EE'!E41","v":{"$error":"#DIV/0!"}},{"$f":"'Bilan_4 EE'!E41","v":{"$error":"#DIV/0!"}},null,null,null,"Ratio vapeur d'eau/air sec - fumées, x (kg/kg)",{"$f":"J5/B8","v":{"$error":"#DIV/0!"}},{"$f":"K5/C8","v":{"$error":"#DIV/0!"}},{"$f":"L5/D8","v":{"$error":"#DIV/0!"}},{"$f":"M5/E8","v":{"$error":"#DIV/0!"}}]
["Quantité de fumées humides (kg/h)",{"$f":"'Bilan_1 EE'!E40","v":{"$error":"#DIV/0!"}},{"$f":"'Bilan_2 EE'!E40","v":{"$error":"#DIV/0!"}},{"$f":"'Bilan_3 EE'!E40","v":{"$error":"#DIV/0!"}},{"$f":"'Bilan_4 EE'!E40","v":{"$error":"#DIV/0!"}},null,null,null,"Ratio vapeur d'eau/air sec - fumées asséchées après condensation, x (kg/kg)",{"$f":"J6/B8","v":{"$error":"#DIV/0!"}},{"$f":"K6/C8","v":{"$error":"#DIV/0!"}},{"$f":"L6/D8","v":{"$error":"#DIV/0!"}},{"$f":"M6/E8","v":{"$error":"#DIV/0!"}}]
["Validation de la quantité de fumées sèches par rapport à celle de fumées humides\n(ne pas compléter cette cellule)",{"$f":"IF(B8<B9,\"Les quantités de fumées indiquées sont valides\",\"La quantité de fumées sèches ne peut être supérieure ou égale à la quantité de fumées humides\")","v":{"$error":"#DIV/0!"}},{"$f":"IF(C8<C9,\"Les quantités de fumées indiquées sont valides\",\"La quantité de fumées sèches ne peut être supérieure ou égale à la quantité de fumées humides\")","v":{"$error":"#DIV/0!"}},{"$error":"#DIV/0!"},{"$error":"#DIV/0!"},null,null,null,"Enthalpie spécifique air sec, Cpairsec (kJ/kg.°C)",1.0049999999999999,1.0049999999999999,1.0049999999999999,1.0049999999999999]
["T° des fumées à la sortie de \nla chaudière (°C)",{"$f":"IF('Mise en forme- input'!C3=TRUE,'Comb_1 (micro)'!T7,'Entrée de données'!C34)","v":200},{"$f":"IF('Mise en forme- input'!C11=TRUE,'Comb_2 (micro)'!T7,'Entrée de données'!D34)","v":200},{"$f":"IF('Mise en forme- input'!C12=TRUE,'Comb_3 (micro)'!T7,'Entrée de données'!E34)","v":200},{"$f":"IF('Mise en forme- input'!C13=TRUE,'Comb_4 (micro)'!T7,'Entrée de données'!F34)","v":200},null,null,null,"Enthalpie de l'air humide à la sortie de la chaudière (kJ/kg)",{"$f":"IF(B11<99.63,1.005*B11+J8*(1.84*B11+2501),J10*B11+J8*$P$22)","v":{"$error":"#DIV/0!"}},{"$f":"IF(C11<99.63,K10*C11+K8*(1.84*C11+2501),K10*C11+K8*$P$42)","v":{"$error":"#DIV/0!"}},{"$f":"IF(D11<99.63,L10*D11+L8*(1.84*D11+2501),L10*D11+L8*$P$53)","v":{"$error":"#DIV/0!"}},{"$f":"IF(E11<99.63,M10*E11+M8*(1.84*E11+2501),M10*E11+M8*$P$64)","v":{"$error":"#DIV/0!"}},"Source: Engineering Toolbox http://www.engineeringtoolbox.com/enthalpy-moist-air-d_683.html "]
["T° des fumées à la sortie de l'économiseur (°C)",{"$f":"IF('Mise en forme- input'!C16=FALSE,B11,'Entrée de données'!C112)","v":200},{"$f":"IF('Mise en forme- input'!C17=FALSE,C11,'Entrée de données'!D112)","v":200},{"$f":"IF('Mise en forme- input'!C18=FALSE,D11,'Entrée de données'!E112)","v":200},{"$f":"IF('Mise en forme- input'!C19=FALSE,E11,'Entrée de données'!F112)","v":200},null,null,null,"Enthalpie de l'air humide à la température de condensation soit 121°C (kJ/kg)",{"$f":"J10*121+J8*2707.707","v":{"$error":"#DIV/0!"}},{"$f":"K10*121+K8*2707.707","v":{"$error":"#DIV/0!"}},{"$error":"#DIV/0!"},{"$error":"#DIV/0!"}]
["Validation de la température à la sortie de l'économiseur \n(ne pas compléter cette cellule)",{"$f":"IF(AND($B$7=1,B12<121),\"La température à la sortie de l'économiseur non-condensant ne peut être inférieure à 121 °C\",IF(AND($B$7=2,B12>120),\"La température à la sortie de l'économiseur à condensation ne peut être supérieure à 120 °C\",\"La température est valide\"))","v":"La température est valide"},{"$f":"IF(AND($B$7=1,C12<121),\"La température à la sortie de l'économiseur non-condensant ne peut être inférieure à 121 °C\",IF(AND($B$7=2,C12>120),\"La température à la sortie de l'économiseur à condensation ne peut être supérieure à 120 °C\",\"La température est valide\"))","v":"La température est valide"},{"$f":"IF(AND($B$7=1,D12<121),\"La température à la sortie de l'économiseur non-condensant ne peut être inférieure à 121 °C\",IF(AND($B$7=2,D12>120),\"La température à la sortie de l'économiseur à condensation ne peut être supérieure à 120 °C\",\"La température est valide\"))","v":"La température est valide"},{"$f":"IF(AND($B$7=1,E12<121),\"La température à la sortie de l'économiseur non-condensant ne peut être inférieure à 121 °C\",IF(AND($B$7=2,E12>120),\"La température à la sortie de l'économiseur à condensation ne peut être supérieure à 120 °C\",\"La température est valide\"))","v":"La température est valide"},null,null,null,"Enthalpie de l'air asséché à la température de condensation soit 121°C (kJ/kg)",{"$f":"J10*121+J9*2707.707","v":{"$error":"#DIV/0!"}},{"$f":"K10*121+K9*2707.707","v":{"$error":"#DIV/0!"}},{"$error":"#DIV/0!"},{"$error":"#DIV/0!"}]
["Nombre d'heures d'opération annuelles",{"$f":"'Entrée de données'!C38","v":0},{"$f":"'Entrée de données'!D38","v":0},{"$f":"'Entrée de données'!E38","v":0},{"$f":"'Entrée de données'!F38","v":0},null,null,null,"Enthalpie de l'air asséché à la sortie de l'économiseur (kJ/kg)",{"$f":"IF($B$7=1,IF(B12<99.63,J10*B12+J8*(1.84*B12+2501),J10*B12+J8*$P$36),IF(B12<99.63,J10*B12+J9*(1.84*B12+2501),J10*B12+J9*$P$36))","v":{"$error":"#DIV/0!"}},{"$f":"IF($B$7=1,IF(C12<99.63,1.005*C12+K8*(1.84*C12+2501),K10*C12+K8*$P$47),IF(C12<99.63,K10*C12+K9*(1.84*C12+2501),K10*C12+K9*$P$47))","v":{"$error":"#DIV/0!"}},{"$f":"IF($B$7=1,IF(D12<99.63,1.005*D12+L8*(1.84*D12+2501),L10*D12+L8*$P$58),IF(D12<99.63,L10*D12+L9*(1.84*D12+2501),L10*D12+L9*$P$58))","v":{"$error":"#DIV/0!"}},{"$f":"IF($B$7=1,IF(E12<99.63,1.005*E12+M8*(1.84*E12+2501),M10*E12+M8*$P$69),IF(E12<99.63,M10*E12+M9*(1.84*E12+2501),M10*E12+M9*$P$69))","v":{"$error":"#DIV/0!"}}]
["Puissance du brûleur de la chaudière en opération (kW)",{"$f":"'Bilan_1 EE'!B29","v":{"$error":"#DIV/0!"}},{"$f":"'Bilan_2 EE'!B29","v":{"$error":"#DIV/0!"}},{"$f":"'Bilan_3 EE'!B29","v":{"$error":"#DIV/0!"}},{"$f":"'Bilan_4 EE'!B29","v":{"$error":"#DIV/0!"}},null,null,null,"Enthalpie évaporation eau à 121°C (kJ/kg)",2199.7350000000001,2199.7350000000001,2199.7350000000001,2199.7350000000001]
["Efficacité de chauffe de la chaudière (%)",{"$f":"'Bilan_1 EE'!B26","v":{"$error":"#DIV/0!"}},{"$f":"'Bilan_2 EE'!B26","v":{"$error":"#DIV/0!"}},{"$f":"'Bilan_3 EE'!B26","v":{"$error":"#DIV/0!"}},{"$f":"'Bilan_4 EE'!B26","v":{"$error":"#DIV/0!"}}]
["Résultats - Potentiel de récupération d'énergie",null,null,null,null,null,null,null,"Cadence d'opération 1"]
[null,null,null,null,null,null,null,null,"Interpolation de l'enthalpie de la vapeur - T° sortie de la chaudière (valable si T>=99,63 °C)",null,null,null,"T en °C","Liquide saturé (kJ/kg)","Enthalpie de vaporisation  (kJ/kg)","Vapeur saturée (kJ/kg)"]
[null,"Chaudière 1","Chaudière 2","Chaudière 3","Chaudière 4",null,null,null,"Température en dessous de la valeur entrée par l'utilisateur",null,null,null,{"$f":"LOOKUP(B11,'Données vapeur'!B5:B60)","v":198.32},{"$f":"VLOOKUP(M19,'Données vapeur'!$B$5:$E$60,2,FALSE)","v":844.89},{"$f":"VLOOKUP(M19,'Données vapeur'!$B$5:$E$60,3,FALSE)","v":1947.3},{"$f":"VLOOKUP(M19,'Données vapeur'!$B$5:$E$60,4,FALSE)","v":2792.19}]
["TOTAL"]
["Potentiel de récupération d'énergie (kW)",{"$f":"IF('Mise en forme- input'!C16=FALSE,0,ROUND(IF($B$7=1,B9/3600*(J11-J14),B9/3600*(J11-J12)+0.35*J5/3600*J15+J7/3600*(J13-J14)),2))","v":0},{"$f":"IF('Mise en forme- input'!C17=FALSE,0,ROUND(IF($B$7=1,C9/3600*(K11-K14),C9/3600*(K11-K12)+0.35*K5/3600*K15+K7/3600*(K13-K14)),2))","v":0},{"$f":"IF('Mise en forme- input'!C18=FALSE,0,ROUND(IF($B$7=1,D9/3600*(L11-L14),D9/3600*(L11-L12)+0.35*L5/3600*L15+L7/3600*(L13-L14)),2))","v":0},{"$f":"IF('Mise en forme- input'!C19=FALSE,0,ROUND(IF($B$7=1,E9/3600*(M11-M14),E9/3600*(M11-M12)+0.35*M5/3600*M15+M7/3600*(M13-M14)),2))","v":0},null,null,null,"Température au dessus de la valeur entrée par l'utilisateur",null,null,null,{"$f":"IF((M19-B11)=0,B11,INDEX('Données vapeur'!B5:B60,RANK(LOOKUP(B11,'Données vapeur'!B5:B60),'Données vapeur'!B5:B60,1)+1))","v":205.76},{"$f":"VLOOKUP(M21,'Données vapeur'!$B$5:$E$60,2,FALSE)","v":878.5},{"$f":"VLOOKUP(M21,'Données vapeur'!$B$5:$E$60,3,FALSE)","v":1917.9},{"$f":"VLOOKUP(M21,'Données vapeur'!$B$5:$E$60,4,FALSE)","v":2796.4}]
["Potentiel annuel de récupération d'énergie pour chaque cadence d'opération (kWh)",{"$f":"IF(B21=\"Erreur\",\"Erreur\",B21*B14)","v":0},{"$f":"IF(C21=\"Erreur\",\"Erreur\",C21*C14)","v":0},{"$f":"IF(D21=\"Erreur\",\"Erreur\",D21*D14)","v":0},{"$f":"IF(E21=\"Erreur\",\"Erreur\",E21*E14)","v":0},null,null,null,"Valeur pour interpolation",null,null,null,{"$f":"B11","v":200},{"$f":"IF(M19=M21,N19,FORECAST(M22,N19:N21,M19:M21))","v":852.4793548387097},{"$f":"IF(M19=M21,O19,FORECAST(M22,O19:O21,M19:M21))","v":1940.6612903225805},{"$f":"IF(M19=M21,P19,FORECAST(M22,P19:P21,M19:M21))","v":2793.1406451612906}]
["Potentiel d'économie annuelle de gaz naturel pour chaque modulation d'opération (m3/an)",{"$f":"IF(B21=\"Erreur\", \"Erreur\",ROUND(B21*B14*3600/(1000*37.89*B16),0))","v":{"$error":"#DIV/0!"}},{"$f":"IF(C21=\"Erreur\", \"Erreur\",ROUND(C21*C14*3600/(1000*37.89*C16),0))","v":{"$error":"#DIV/0!"}},{"$f":"IF(D21=\"Erreur\", \"Erreur\",ROUND(D21*D14*3600/(1000*37.89*D16),0))","v":{"$error":"#DIV/0!"}},{"$f":"IF(E21=\"Erreur\", \"Erreur\",ROUND(E21*E14*3600/(1000*37.89*E16),0))","v":{"$error":"#DIV/0!"}}]
["NON-CONDENSANT (pour eau d'alimentation)"]
["Potentiel de récupération d'énergie (kW)",{"$f":"IF('Mise en forme- input'!C16=FALSE,0,ROUND(IF($B$7=1,B9/3600*(J11-J14),B9/3600*(J11-J12)+J7/3600*(J13-J14)),2))","v":0},{"$f":"IF('Mise en forme- input'!C17=FALSE,0,ROUND(IF($B$7=1,C9/3600*(K11-K14),C9/3600*(K11-K12)+K7/3600*(K13-K14)),2))","v":0},{"$f":"IF('Mise en forme- input'!C18=FALSE,0,ROUND(IF($B$7=1,D9/3600*(L11-L14),D9/3600*(L11-L12)+L7/3600*(L13-L14)),2))","v":0},{"$f":"IF('Mise en forme- input'!C19=FALSE,0,ROUND(IF($B$7=1,E9/3600*(M11-M14),E9/3600*(M11-M12)+M7/3600*(M13-M14)),2))","v":0}]
["Potentiel annuel de récupération d'énergie pour chaque cadence d'opération (kWh)",{"$f":"IF(B25=\"Erreur\",\"Erreur\",B25*B14)","v":0},{"$f":"IF(C25=\"Erreur\",\"Erreur\",C25*C14)","v":0},{"$f":"IF(D25=\"Erreur\",\"Erreur\",D25*D14)","v":0},{"$f":"IF(E25=\"Erreur\",\"Erreur\",D25*E14)","v":0}]
["Potentiel d'économie annuelle de gaz naturel pour chaque modulation d'opération (m3/an)",{"$f":"IF(B25=\"Erreur\", \"Erreur\",ROUND(B25*B14*3600/(1000*37.89*B16),0))","v":{"$error":"#DIV/0!"}},{"$f":"IF(C25=\"Erreur\", \"Erreur\",ROUND(C25*C14*3600/(1000*37.89*C16),0))","v":{"$error":"#DIV/0!"}},{"$error":"#DIV/0!"},{"$error":"#DIV/0!"}]
["CONDENSANT (pour eau d'appoint)"]
["Potentiel de récupération d'énergie (kW)",{"$f":"IF('Mise en forme- input'!C16=FALSE,0,ROUND(IF($B$7=1,0,0.35*J5/3600*J15),2))","v":0},{"$f":"IF('Mise en forme- input'!C17=FALSE,0,ROUND(IF($B$7=1,0,0.35*K5/3600*K15),2))","v":0},{"$f":"IF('Mise en forme- input'!C18=FALSE,0,ROUND(IF($B$7=1,0,0.35*L5/3600*L15),2))","v":0},{"$f":"IF('Mise en forme- input'!C19=FALSE,0,ROUND(IF($B$7=1,0,0.35*M5/3600*M15),2))","v":0},{"$f":"SUM(B29:E29)","v":0}]
["Potentiel annuel de récupération d'énergie pour chaque cadence d'opération (kWh)",{"$f":"IF(B29=\"Erreur\",\"Erreur\",B29*B14)","v":0},{"$f":"IF(C29=\"Erreur\",\"Erreur\",C29*C14)","v":0},0,{"$f":"IF(E29=\"Erreur\",\"Erreur\",E29*E14)","v":0}]
["Potentiel d'économie annuelle de gaz naturel pour chaque modulation d'opération (m3/an)",{"$f":"IF(B29=\"Erreur\", \"Erreur\",ROUND(B29*B14*3600/(1000*37.89*B16),0))","v":{"$error":"#DIV/0!"}},{"$f":"IF(C29=\"Erreur\", \"Erreur\",ROUND(C29*C14*3600/(1000*37.89*C16),0))","v":{"$error":"#DIV/0!"}},{"$error":"#DIV/0!"},{"$error":"#DIV/0!"}]
[null,null,null,null,null,null,null,null,"Interpolation de  l'enthalpie de la vapeur - T° sortie de l'économiseur (valable si T>=99,63 °C)",null,null,null,"T en °C","Liquide saturé (kJ/kg)","Enthalpie de vaporisation  (kJ/kg)","Vapeur saturée (kJ/kg)"]
[]
[null,null,null,null,null,null,null,null,"Température en dessous de la valeur entrée par l'utilisateur",null,null,null,{"$f":"LOOKUP(B12,'Données vapeur'!$B$5:$B$60)","v":198.32},{"$f":"VLOOKUP(M34,'Données vapeur'!$B$5:$E$60,2,FALSE)","v":844.89},{"$f":"VLOOKUP(M34,'Données vapeur'!$B$5:$E$60,3,FALSE)","v":1947.3},{"$f":"VLOOKUP(M34,'Données vapeur'!$B$5:$E$60,4,FALSE)","v":2792.19}]
[null,null,null,null,null,null,null,null,"Température au dessus de la valeur entrée par l'utilisateur",null,null,null,{"$f":"IF((M34-B12)=0,B12,INDEX('Données vapeur'!$B$5:$B$60,RANK(LOOKUP(B12,'Données vapeur'!$B$5:$B$60),'Données vapeur'!$B$5:$B$60,1)+1))","v":205.76},{"$f":"VLOOKUP(M35,'Données vapeur'!$B$5:$E$60,2,FALSE)","v":878.5},{"$f":"VLOOKUP(M35,'Données vapeur'!$B$5:$E$60,3,FALSE)","v":1917.9},{"$f":"VLOOKUP(M35,'Données vapeur'!$B$5:$E$60,4,FALSE)","v":2796.4}]
[null,null,null,null,null,null,null,null,"Valeur pour interpolation",null,null,null,{"$f":"B12","v":200},{"$f":"IF(M34=M35,N34,FORECAST(M36,N34:N35,M34:M35))","v":852.4793548387097},{"$f":"IF(M34=M35,O34,FORECAST(M36,O34:O35,M34:M35))","v":1940.6612903225805},{"$f":"IF(M34=M35,P34,FORECAST(M36,P34:P35,M34:M35))","v":2793.1406451612906}]
["Gaz Métro ne peut être tenu responsable des dommages, qu’ils soient directs ou indirects découlant des résultats des outilsde calculs. L’utilisateur demeure responsable de s’assurer de l’exactitude des données qu’il utilise. Les résultats se trouvant dans le chiffrier de calculs sont fournis au client à titre indicatif seulement et ne peuvent en aucun cas être interprétés comme une garantie d’efficacité ou une représentation en ce sens de Gaz Métro. Gaz Métro, ses employés, mandataires et représentants ne peuvent donc être tenus responsables advenant un écart entre cette estimation et la performance réelle de la chaufferie du client.   Version 1 - Septembre 2014"]
[null,null,null,null,null,null,null,null,"Cadence d'opération 2"]
["Si l'énergie récupéré par l'économiseur condensant, la récup purge et la récup dégazeur est/sont utilisés pour préchauffer l'eau d'appoint à la chaudière",null,null,null,null,null,null,null,"Interpolation de l'enthalpie de la vapeur - T° sortie de la chaudière (valable si T>=99,63 °C)",null,null,null,"T en °C","Liquide saturé (kJ/kg)","Enthalpie de vaporisation  (kJ/kg)","Vapeur saturée (kJ/kg)"]
["Énergie récupérée  (kW)",{"$f":"IF(AND('Mise en forme- input'!C5=FALSE,'Mise en forme- input'!C6=FALSE,'Mise en forme- input'!C7=FALSE),0,IF(AND('Mise en forme- input'!K20=TRUE,'Mise en forme- input'!C6=FALSE,'Mise en forme- input'!C7=FALSE),'Économiseurs 1 à 4 '!F29,IF(AND('Mise en forme- input'!K20=TRUE,'Mise en forme- input'!C6=TRUE,'Mise en forme- input'!C7=FALSE),'Économiseurs 1 à 4 '!F29+'Récupération de la purge'!F18,IF(AND('Mise en forme- input'!K20=TRUE,'Mise en forme- input'!C6=TRUE,'Mise en forme- input'!C7=TRUE),'Économiseurs 1 à 4 '!F29+'Récupération de la purge'!F18+'Récup. évent dégazeur 1 à 4'!F16,IF(AND('Mise en forme- input'!K20=FALSE,'Mise en forme- input'!C6=TRUE,'Mise en forme- input'!C7=TRUE),'Récupération de la purge'!F18+'Récup. évent dégazeur 1 à 4'!F16,IF(AND('Mise en forme- input'!K20=FALSE,'Mise en forme- input'!C6=TRUE,'Mise en forme- input'!C7=FALSE),'Récupération de la purge'!F18,IF(AND('Mise en forme- input'!K20=TRUE,'Mise en forme- input'!C6=FALSE,'Mise en forme- input'!C7=TRUE),F29+'Récup. évent dégazeur 1 à 4'!F16,'Récup. évent dégazeur 1 à 4'!F16)))))))","v":0},null,null,null,null,null,null,"Température en dessous de la valeur entrée par l'utilisateur",null,null,null,{"$f":"LOOKUP(C11,'Données vapeur'!$B$5:$B$60)","v":198.32},{"$f":"VLOOKUP(M40,'Données vapeur'!$B$5:$E$60,2,FALSE)","v":844.89},{"$f":"VLOOKUP(M40,'Données vapeur'!$B$5:$E$60,3,FALSE)","v":1947.3},{"$f":"VLOOKUP(M40,'Données vapeur'!$B$5:$E$60,4,FALSE)","v":2792.19}]
["Température de l'eau d'appoint (avant l'ajout de la récup d'énergie par l'économiseur et ou la récup E de la purge et ou la récup degazeur) (°C)",{"$f":"'Entrée de données'!C48","v":0},null,null,null,null,null,null,"Température au dessus de la valeur entrée par l'utilisateur",null,null,null,{"$f":"IF((M40-C11)=0,C11,INDEX('Données vapeur'!$B$5:$B$60,RANK(LOOKUP(C11,'Données vapeur'!$B$5:$B$60),'Données vapeur'!$B$5:$B$60,1)+1))","v":205.76},{"$f":"VLOOKUP(M41,'Données vapeur'!$B$5:$E$60,2,FALSE)","v":878.5},{"$f":"VLOOKUP(M41,'Données vapeur'!$B$5:$E$60,3,FALSE)","v":1917.9},{"$f":"VLOOKUP(M41,'Données vapeur'!$B$5:$E$60,4,FALSE)","v":2796.4}]
["Débit d'eau d'appoint (kg/h)",{"$f":"SUM(B56:E56)","v":0},null,null,null,null,null,null,"Valeur pour interpolation",null,null,null,{"$f":"C11","v":200},{"$f":"IF(M40=M41,N40,FORECAST(M42,N40:N41,M40:M41))","v":852.4793548387097},{"$f":"IF(M40=M41,O40,FORECAST(M42,O40:O41,M40:M41))","v":1940.6612903225805},{"$f":"IF(M40=M41,P40,FORECAST(M42,P40:P41,M40:M41))","v":2793.1406451612906}]
["Enthalpie de l'eau alimentée (kJ/kg /°C)",{"$f":"4.18","v":4.18}]
["Nouvelle température d'eau d'appoint (°C)",{"$f":"IF(B40=0,B41,B40/(B42*B43)*3600+B41)","v":0},null,null,null,null,null,null,"Interpolation de  l'enthalpie de la vapeur - T° sortie de l'économiseur (valable si T>=99,63 °C)",null,null,null,"T en °C","Liquide saturé (kJ/kg)","Enthalpie de vaporisation  (kJ/kg)","Vapeur saturée (kJ/kg)"]
[null,null,null,null,{"$f":"IF(B40=0,B41,IF(B40/(B42*B43)*3600+B41>100,80,B40/(B42*B43)*3600+B41))","v":0},null,null,null,"Température en dessous de la valeur entrée par l'utilisateur",null,null,null,{"$f":"LOOKUP(C12,'Données vapeur'!$B$5:$B$60)","v":198.32},{"$f":"VLOOKUP(M45,'Données vapeur'!$B$5:$E$60,2,FALSE)","v":844.89},{"$f":"VLOOKUP(M45,'Données vapeur'!$B$5:$E$60,3,FALSE)","v":1947.3},{"$f":"VLOOKUP(M45,'Données vapeur'!$B$5:$E$60,4,FALSE)","v":2792.19}]
["Si l'énergie récupéré par l'économiseur non-condensant est utilisée pour préchauffer l'eau d'alimentation à la chaudière",null,null,null,null,null,null,null,"Température au dessus de la valeur entrée par l'utilisateur",null,null,null,{"$f":"IF((M45-C12)=0,C12,INDEX('Données vapeur'!$B$5:$B$60,RANK(LOOKUP(C12,'Données vapeur'!$B$5:$B$60),'Données vapeur'!$B$5:$B$60,1)+1))","v":205.76},{"$f":"VLOOKUP(M46,'Données vapeur'!$B$5:$E$60,2,FALSE)","v":878.5},{"$f":"VLOOKUP(M46,'Données vapeur'!$B$5:$E$60,3,FALSE)","v":1917.9},{"$f":"VLOOKUP(M46,'Données vapeur'!$B$5:$E$60,4,FALSE)","v":2796.4}]
[null,"Chaudière 1","Chaudière 2","Chaudière 3","Chaudière 4",null,null,null,"Valeur pour interpolation",null,null,null,{"$f":"C12","v":200},{"$f":"IF(M45=M46,N45,FORECAST(M47,N45:N46,M45:M46))","v":852.4793548387097},{"$f":"IF(M45=M46,O45,FORECAST(M47,O45:O46,M45:M46))","v":1940.6612903225805},{"$f":"IF(M45=M46,P45,FORECAST(M47,P45:P46,M45:M46))","v":2793.1406451612906}]
["Énergie récupérée à l'économiseur (kW)",{"$f":"IF(AND('Mise en forme- input'!C5=TRUE,'Économiseurs 1 à 4 '!B7=1),'Économiseurs 1 à 4 '!B25,0)","v":0},{"$f":"IF(AND('Mise en forme- input'!C17=TRUE,'Économiseurs 1 à 4 '!C7=1),'Économiseurs 1 à 4 '!C25,0)","v":0},{"$f":"IF(AND('Mise en forme- input'!C18=TRUE,'Économiseurs 1 à 4 '!D7=1),'Économiseurs 1 à 4 '!D25,0)","v":0},{"$f":"IF(AND('Mise en forme- input'!C19=TRUE,'Économiseurs 1 à 4 '!E7=1),'Économiseurs 1 à 4 '!E25,0)","v":0}]
["Température de l'eau alimenté (avant l'ajout de la récup d'énergie par l'économiseur non-condensant) (°C)",{"$f":"IF('Entrée de données'!C49=1,'Entrée de données'!C50*'Entrée de données'!C51+(1-'Entrée de données'!C50)*'Bilan_1 EE'!B16,'Bilan_1 EE'!B16)","v":0},{"$f":"IF('Entrée de données'!D49=1,'Entrée de données'!D50*'Entrée de données'!D51+(1-'Entrée de données'!D50)*'Bilan_2 EE'!B16,'Bilan_2 EE'!B16)","v":0},{"$f":"IF('Entrée de données'!E49=1,'Entrée de données'!E50*'Entrée de données'!E51+(1-'Entrée de données'!E50)*'Bilan_3 EE'!B16,'Bilan_3 EE'!B16)","v":0},{"$f":"IF('Entrée de données'!F49=1,'Entrée de données'!F50*'Entrée de données'!F51+(1-'Entrée de données'!F50)*'Bilan_4 EE'!B16,'Bilan_4 EE'!B16)","v":0},null,null,null,"Cadence d'opération 3"]
["Débit d'eau d'alimentation(kg/h)",{"$f":"'Bilan_1 EE'!B68","v":0},{"$f":"'Bilan_2 EE'!B68","v":0},{"$f":"'Bilan_3 EE'!B68","v":0},{"$f":"'Bilan_4 EE'!B68","v":0},null,null,null,"Interpolation de l'enthalpie de la vapeur - T° sortie de la chaudière (valable si T>=99,63 °C)",null,null,null,"T en °C","Liquide saturé (kJ/kg)","Enthalpie de vaporisation  (kJ/kg)","Vapeur saturée (kJ/kg)"]
["Enthalpie de l'eau alimentée (kJ/kg /°C)",4.18,4.18,4.18,4.18,null,null,null,"Température en dessous de la valeur entrée par l'utilisateur",null,null,null,{"$f":"LOOKUP(D11,'Données vapeur'!$B$5:$B$60)","v":198.32},{"$f":"VLOOKUP(M51,'Données vapeur'!$B$5:$E$60,2,FALSE)","v":844.89},{"$f":"VLOOKUP(M51,'Données vapeur'!$B$5:$E$60,3,FALSE)","v":1947.3},{"$f":"VLOOKUP(M51,'Données vapeur'!$B$5:$E$60,4,FALSE)","v":2792.19}]
["Nouvelle température d'alimentation (°C)",{"$f":"IF(B48=0,B49,B48/(B50*B51)*3600+B49)","v":0},{"$f":"IF(C48=0,C49,C48/(C50*C51)*3600+C49)","v":0},{"$f":"IF(D48=0,D49,D48/(D50*D51)*3600+D49)","v":0},0,null,null,null,"Température au dessus de la valeur entrée par l'utilisateur",null,null,null,{"$f":"IF((M51-D11)=0,D11,INDEX('Données vapeur'!$B$5:$B$60,RANK(LOOKUP(B11,'Données vapeur'!$B$5:$B$60),'Données vapeur'!$B$5:$B$60,1)+1))","v":205.76},{"$f":"VLOOKUP(M52,'Données vapeur'!$B$5:$E$60,2,FALSE)","v":878.5},{"$f":"VLOOKUP(M52,'Données vapeur'!$B$5:$E$60,3,FALSE)","v":1917.9},{"$f":"VLOOKUP(M52,'Données vapeur'!$B$5:$E$60,4,FALSE)","v":2796.4}]
[null,null,null,null,null,null,null,null,"Valeur pour interpolation",null,null,null,{"$f":"D11","v":200},{"$f":"IF(M51=M52,N51,FORECAST(M53,N51:N52,M51:M52))","v":852.4793548387097},{"$f":"IF(M51=M52,O51,FORECAST(M53,O51:O52,M51:M52))","v":1940.6612903225805},{"$f":"IF(M51=M52,P51,FORECAST(M53,P51:P52,M51:M52))","v":2793.1406451612906}]
[]
[null,"Ch1","Ch2","Ch3","Ch4",null,null,null,"Interpolation de  l'enthalpie de la vapeur - T° sortie de l'économiseur (valable si T>=99,63 °C)",null,null,null,"T en °C","Liquide saturé (kJ/kg)","Enthalpie de vaporisation  (kJ/kg)","Vapeur saturée (kJ/kg)"]
["Débit eau appoint",{"$f":"IF('Entrée de données'!F21>0,'Bilan_1 EE'!B70,0)","v":0},{"$f":"IF('Entrée de données'!F21>1,'Bilan_2 EE'!B70,0)","v":0},{"$f":"IF('Entrée de données'!F21>2,'Bilan_3 EE'!B70,0)","v":0},{"$f":"IF('Entrée de données'!F21>3,'Bilan_4 EE'!B70,0)","v":0},null,null,null,"Température en dessous de la valeur entrée par l'utilisateur",null,null,null,{"$f":"LOOKUP(D12,'Données vapeur'!$B$5:$B$60)","v":198.32},{"$f":"VLOOKUP(M56,'Données vapeur'!$B$5:$E$60,2,FALSE)","v":844.89},{"$f":"VLOOKUP(M56,'Données vapeur'!$B$5:$E$60,3,FALSE)","v":1947.3},{"$f":"VLOOKUP(M56,'Données vapeur'!$B$5:$E$60,4,FALSE)","v":2792.19}]
[null,null,null,null,null,null,null,null,"Température au dessus de la valeur entrée par l'utilisateur",null,null,null,{"$f":"IF((M56-D12)=0,#REF!,INDEX('Données vapeur'!$B$5:$B$60,RANK(LOOKUP(D12,'Données vapeur'!$B$5:$B$60),'Données vapeur'!$B$5:$B$60,1)+1))","v":205.76},{"$f":"VLOOKUP(M57,'Données vapeur'!$B$5:$E$60,2,FALSE)","v":878.5},{"$f":"VLOOKUP(M57,'Données vapeur'!$B$5:$E$60,3,FALSE)","v":1917.9},{"$f":"VLOOKUP(M57,'Données vapeur'!$B$5:$E$60,4,FALSE)","v":2796.4}]
[null,null,null,null,null,null,null,null,"Valeur pour interpolation",null,null,null,{"$f":"D12","v":200},{"$f":"IF(M56=M57,N56,FORECAST(M58,N56:N57,M56:M57))","v":852.4793548387097},{"$f":"IF(M56=M57,O56,FORECAST(M58,O56:O57,M56:M57))","v":1940.6612903225805},{"$f":"IF(M56=M57,P56,FORECAST(M58,P56:P57,M56:M57))","v":2793.1406451612906}]
[]
[null,null,null,null,null,null,null,null,"Cadence d'opération 4"]
[null,null,null,null,null,null,null,null,"Interpolation de l'enthalpie de la vapeur - T° sortie de la chaudière (valable si T>=99,63 °C)",null,null,null,"T en °C","Liquide saturé (kJ/kg)","Enthalpie de vaporisation  (kJ/kg)","Vapeur saturée (kJ/kg)"]
[null,null,null,null,null,null,null,null,"Température en dessous de la valeur entrée par l'utilisateur",null,null,null,{"$f":"LOOKUP(E11,'Données vapeur'!$B$5:$B$60)","v":198.32},{"$f":"VLOOKUP(M62,'Données vapeur'!$B$5:$E$60,2,FALSE)","v":844.89},{"$f":"VLOOKUP(M62,'Données vapeur'!$B$5:$E$60,3,FALSE)","v":1947.3},{"$f":"VLOOKUP(M62,'Données vapeur'!$B$5:$E$60,4,FALSE)","v":2792.19}]
[null,null,null,null,null,null,null,null,"Température au dessus de la valeur entrée par l'utilisateur",null,null,null,{"$f":"IF((M62-E11)=0,E11,INDEX('Données vapeur'!$B$5:$B$60,RANK(LOOKUP(E11,'Données vapeur'!$B$5:$B$60),'Données vapeur'!$B$5:$B$60,1)+1))","v":205.76},{"$f":"VLOOKUP(M63,'Données vapeur'!$B$5:$E$60,2,FALSE)","v":878.5},{"$f":"VLOOKUP(M63,'Données vapeur'!$B$5:$E$60,3,FALSE)","v":1917.9},{"$f":"VLOOKUP(M63,'Données vapeur'!$B$5:$E$60,4,FALSE)","v":2796.4}]
[null,null,null,null,null,null,null,null,"Valeur pour interpolation",null,null,null,{"$f":"E11","v":200},{"$f":"IF(M62=M63,N62,FORECAST(M64,N62:N63,M62:M63))","v":852.4793548387097},{"$f":"IF(M62=M63,O62,FORECAST(M64,O62:O63,M62:M63))","v":1940.6612903225805},{"$f":"IF(M62=M63,P62,FORECAST(M64,P62:P63,M62:M63))","v":2793.1406451612906}]
[]
[null,null,null,null,null,null,null,null,"Interpolation de  l'enthalpie de la vapeur - T° sortie de l'économiseur (valable si T>=99,63 °C)",null,null,null,"T en °C","Liquide saturé (kJ/kg)","Enthalpie de vaporisation  (kJ/kg)","Vapeur saturée (kJ/kg)"]
[null,null,null,null,null,null,null,null,"Température en dessous de la valeur entrée par l'utilisateur",null,null,null,{"$f":"LOOKUP(E12,'Données vapeur'!$B$5:$B$60)","v":198.32},{"$f":"VLOOKUP(M67,'Données vapeur'!$B$5:$E$60,2,FALSE)","v":844.89},{"$f":"VLOOKUP(M67,'Données vapeur'!$B$5:$E$60,3,FALSE)","v":1947.3},{"$f":"VLOOKUP(M67,'Données vapeur'!$B$5:$E$60,4,FALSE)","v":2792.19}]
[null,null,null,null,null,null,null,null,"Température au dessus de la valeur entrée par l'utilisateur",null,null,null,{"$f":"IF((M67-E12)=0,E12,INDEX('Données vapeur'!$B$5:$B$60,RANK(LOOKUP(E12,'Données vapeur'!$B$5:$B$60),'Données vapeur'!$B$5:$B$60,1)+1))","v":205.76},{"$f":"VLOOKUP(M68,'Données vapeur'!$B$5:$E$60,2,FALSE)","v":878.5},{"$f":"VLOOKUP(M68,'Données vapeur'!$B$5:$E$60,3,FALSE)","v":1917.9},{"$f":"VLOOKUP(M68,'Données vapeur'!$B$5:$E$60,4,FALSE)","v":2796.4}]
[null,null,null,null,null,null,null,null,"Valeur pour interpolation",null,null,null,{"$f":"E12","v":200},{"$f":"IF(M67=M68,N67,FORECAST(M69,N67:N68,M67:M68))","v":852.4793548387097},{"$f":"IF(M67=M68,O67,FORECAST(M69,O67:O68,M67:M68))","v":1940.6612903225805},{"$f":"IF(M67=M68,P67,FORECAST(M69,P67:P68,M67:M68))","v":2793.1406451612906}]

{"sheet":"Récupération de la purge","index":11,"n_rows":37,"n_cols":17,"rows_kept":37,"cut":false,"hidden":true,"merged":[[25,0,25,4],[0,0,0,4],[1,0,1,4],[2,0,2,4],[3,0,3,4],[14,0,15,4],[4,1,4,2],[4,8,4,12],[20,8,20,11],[27,8,27,11],[33,8,33,11],[14,8,14,11]]}
["Calculateur d'économie d'énergie par la récupération de l'énergie contenue dans la purge (Calculateur 4)"]
["Objectif:\nFournir un calculateur simplifié permettant d'estimer les économies d'énergie envisageables par la récupération de l'énergie contenue dans l'eau purgée hors de la chaudière.",null,null,null,null,null,null,null,null,null,null,null,null,null,null,"Type de récupération","Numéro correspondant"]
["Instructions:\nL'utilisateur devra fournir les informations dans la section Entrée de données (cellules bleues), pour chaque cadence d'opération de la chaudière. Il devra établir la température cible pour l'eau purgée, après la récupération de chaleur, ainsi que la pression d'opératioin du ballon de détente, le cas échéant. Il s'agit de la température à laquelle cette eau pourra être évacuée au drain. La plupart des autres données peuvent être obtenues partir du calculateur de l'onglet Résultats Chaufferie du calcualteur de bilan d'énergie.",null,null,null,null,null,null,null,null,null,null,null,null,null,null,"Production de vapeur instantannée",1]
["Entrée de données",null,null,null,null,null,null,null,null,"Cadence d'opération 1 ","Cadence d'opération 2","Cadence d'opération 3","Cadence d'opération 4",null,null,"Préchauffage de l'eau d'appoint",2]
["Sélectionner le type de récupération envisagé",{"$f":"'Entrée de données'!C122","v":3},null,null,null,null,null,null,null,null,null,null,null,null,null,"Production de vapeur instantannée et préchauffage d'eau",3]
["Données de procédé",null,null,null,null,null,null,null,"Quantité de vapeur instantannée produite (kg/h)",{"$f":"B8*(B9-J8)/J9","v":0},{"$f":"C8*(C9-K8)/K9","v":0},{"$f":"D8*(D9-L8)/L9","v":0},{"$f":"E8*(E9-M8)/M9","v":0}]
[null,"Chaudière 1","Chaudière 2","Chaudière 3","Chaudière 4",null,null,null,"Enthalpie vapeur instantannée  - à la pression du ballon de détente (kJ/kg)",{"$f":"Q18","v":2675.9825800000003},{"$f":"Q25","v":2675.9825800000003},{"$f":"Q31","v":2675.9825800000003},{"$f":"Q37","v":2675.9825800000003}]
["Débit de purge (kg/h)",{"$f":"'Bilan_1 EE'!B77","v":0},{"$f":"'Bilan_2 EE'!B77","v":0},{"$f":"'Bilan_3 EE'!B77","v":0},{"$f":"'Bilan_4 EE'!B77","v":0},null,null,null,"Enthalpie Eau saturée - à la pression du ballon de détente (kJ/kg)",{"$f":"O18","v":418.88357999999999},{"$f":"O25","v":418.88357999999999},{"$f":"O31","v":418.88357999999999},{"$f":"O37","v":418.88357999999999}]
["Enthalpie de l'eau saturée de la chaudière (kJ/kg)",{"$f":"'Bilan_1 EE'!B59","v":418.88357999999999},{"$f":"'Bilan_2 EE'!B59","v":418.88357999999999},{"$f":"'Bilan_3 EE'!B59","v":418.88357999999999},{"$f":"'Bilan_4 EE'!B59","v":418.88357999999999},null,null,null,"Enthalpie d'évaporation à la pression du ballon de détente (kJ/kg)",{"$f":"P18","v":2257.0990000000002},{"$f":"P25","v":2257.0990000000002},{"$f":"P31","v":2257.0990000000002},{"$f":"P37","v":2257.0990000000002}]
["Pression manométrique du ballon de détente (kPa)",{"$f":"'Entrée de données'!$C$124","v":0},{"$f":"'Entrée de données'!$C$124","v":0},{"$f":"'Entrée de données'!$C$124","v":0},{"$f":"'Entrée de données'!$C$124","v":0},null,null,null,"Débit d'eau à la sortie du ballon de détente, après production de vapeur instantannée (kgh)",{"$f":"B8-J6","v":0},{"$f":"C8-K6","v":0},0,0]
["T° de l'eau purgée après récupération de l'énergie pour le préchauffage de l'eau d'appoint (°C)",{"$f":"'Entrée de données'!$C$125","v":0},{"$f":"'Entrée de données'!$C$125","v":0},{"$f":"'Entrée de données'!$C$125","v":0},{"$f":"'Entrée de données'!$C$125","v":0}]
["Nombre d'heures d'opération annuelles",{"$f":"'Entrée de données'!C38","v":0},{"$f":"'Entrée de données'!D38","v":0},{"$f":"'Entrée de données'!E38","v":0},{"$f":"'Entrée de données'!F38","v":0}]
["Puissance du brûleur de la chaudière en opération (kW)",{"$f":"'Bilan_1 EE'!B29","v":{"$error":"#DIV/0!"}},{"$f":"'Bilan_2 EE'!B29","v":{"$error":"#DIV/0!"}},{"$f":"'Bilan_3 EE'!B29","v":{"$error":"#DIV/0!"}},{"$f":"'Bilan_4 EE'!B29","v":{"$error":"#DIV/0!"}}]
["Efficacité de chauffe de la chaudière (%)",{"$f":"'Bilan_1 EE'!B26","v":{"$error":"#DIV/0!"}},{"$f":"'Bilan_2 EE'!B26","v":{"$error":"#DIV/0!"}},{"$f":"'Bilan_3 EE'!B26","v":{"$error":"#DIV/0!"}},{"$f":"'Bilan_4 EE'!B26","v":{"$error":"#DIV/0!"}},null,null,null,"Cadence d'opération 1"]
[" ",null,null,null,null,null,null,null,"Interpolation de  l'enthalpie de la vapeur - P manométrique fournie par l'utilisateur",null,null,null,"Pression (kPa)","Température équivalente (°C)","Liquide saturé (kJ/kg)","Enthalpie d'évaporation  (kJ/kg)","Vapeur saturée (kJ/kg)"]
[null,null,null,null,null,null,null,null,"Pression en dessous de la valeur entrée par l'utilisateur",null,null,null,{"$f":"LOOKUP(B10,'Données vapeur'!$A$5:$A$60)","v":-1.325},{"$f":"VLOOKUP(M16,'Données vapeur'!$A$5:$E$60,2,FALSE)","v":99.63},{"$f":"VLOOKUP(M16,'Données vapeur'!$A$5:$E$60,3,FALSE)","v":417.46},{"$f":"VLOOKUP(M16,'Données vapeur'!$A$5:$E$60,4,FALSE)","v":2258},{"$f":"VLOOKUP(M16,'Données vapeur'!$A$5:$E$60,5,FALSE)","v":2675.46}]
["PRÉCHAUFFAGE DE L'EAU D'APPOINT:","Chaufferie",null,null,null,null,null,null,"Pression au dessus de la valeur entrée par l'utilisateur",null,null,null,{"$f":"IF((M16-M18)=0,M18,INDEX('Données vapeur'!A5:A60,RANK(LOOKUP(M18,'Données vapeur'!A5:A60),'Données vapeur'!A5:A60,1)+1))","v":23.675000000000001},{"$f":"VLOOKUP(M17,'Données vapeur'!$A$5:$E$60,2,FALSE)","v":105.99},{"$f":"VLOOKUP(M17,'Données vapeur'!$A$5:$E$60,3,FALSE)","v":444.32},{"$f":"VLOOKUP(M17,'Données vapeur'!$A$5:$E$60,4,FALSE)","v":2241},{"$f":"VLOOKUP(M17,'Données vapeur'!$A$5:$E$60,5,FALSE)","v":2685.32}]
["Potentiel de récupération d'énergie (kW)",{"$f":"IF('Mise en forme- input'!$C$6=FALSE,0,ROUND(IF($B$5=1,0,IF($B$5=2,B8/3600*(B9-4.18*B11),J10/3600*(J8-4.18*B11))),2))","v":0},{"$f":"IF(OR('Mise en forme- input'!$C$6=FALSE,'Entrée de données'!F21<2),0,ROUND(IF($B$5=1,0,IF($B$5=2,C8/3600*(C9-4.18*C11),K10/3600*(K8-4.18*C11))),2))","v":0},{"$f":"IF(OR('Mise en forme- input'!$C$6=FALSE,'Entrée de données'!F21<3),0,ROUND(IF($B$5=1,0,IF($B$5=2,D8/3600*(D9-4.18*D11),L10/3600*(L8-4.18*D11))),2))","v":0},{"$f":"IF(OR('Mise en forme- input'!$C$6=FALSE,'Entrée de données'!F21<4),0,ROUND(IF($B$5=1,0,IF($B$5=2,E8/3600*(E9-4.18*E11),M10/3600*(M8-4.18*E11))),2))","v":0},{"$f":"IF(OR(B5=3,B5=2),SUM(B18:E18),0)","v":0},null,null,"Valeur pour interpolation",null,null,null,{"$f":"B10","v":0},{"$f":"IF(M16=M17,N16,FORECAST(M18,N16:N17,M16:M17))","v":99.967079999999996},{"$f":"IF(M16=M17,O16,FORECAST(M18,O16:O17,M16:M17))","v":418.88357999999999},{"$f":"IF(M16=M17,P16,FORECAST(M18,P16:P17,M16:M17))","v":2257.0990000000002},{"$f":"IF(M16=M17,Q16,FORECAST(M18,Q16:Q17,M16:M17))","v":2675.9825800000003}]
["Potentiel annuel de récupération d'énergie pour chaque cadence d'opération (kWh)",{"$f":"B18*B12","v":0},{"$f":"C18*C12","v":0},{"$f":"D18*D12","v":0},{"$f":"E18*E12","v":0}]
["Potentiel d'économie annuelle de gaz naturel pour chaque cadence d'opération (m3/an)",{"$f":"ROUND(B18*B12*3600/(1000*37.89*B14),0)","v":{"$error":"#DIV/0!"}},{"$f":"ROUND(C18*C12*3600/(1000*37.89*C14),0)","v":{"$error":"#DIV/0!"}},{"$f":"ROUND(D18*D12*3600/(1000*37.89*D14),0)","v":{"$error":"#DIV/0!"}},{"$f":"ROUND(E18*E12*3600/(1000*37.89*E14),0)","v":{"$error":"#DIV/0!"}},null,null,null,"Cadence d'opération 2"]
["VAPEUR INSTANTANNÉE:",null,null,null,null,null,null,null,"Interpolation de  l'enthalpie de la vapeur - P manométrique fournie par l'utilisateur",null,null,null,"Pression (kPa)","Température équivalente (°C)","Liquide saturé (kJ/kg)","Enthalpie d'évaporation  (kJ/kg)","Vapeur saturée (kJ/kg)"]
["Énergie récup si seulement la vapeur produite est utilisée (kW)",{"$f":"IF('Mise en forme- input'!$C$6=FALSE,0,ROUND(IF(OR($B$5=1,B5=3),J6/3600*J7,0),2))","v":0},{"$f":"IF(OR('Mise en forme- input'!$C$6=FALSE,'Entrée de données'!F21<2),0,ROUND(IF(OR($B$5=1,$B$5=3),K6/3600*K7,0),2))","v":0},{"$f":"IF(OR('Mise en forme- input'!$C$6=FALSE,'Entrée de données'!F21<3),0,ROUND(IF(OR($B$5=1,$B$5=3),L6/3600*L7,0),2))","v":0},{"$f":"IF(OR('Mise en forme- input'!$C$6=FALSE,'Entrée de données'!F21<4),0,ROUND(IF(OR($B$5=1,$B$5=3),M6/3600*M7,0),2))","v":0}]
["Potentiel annuel de récupération d'énergie pour chaque cadence d'opération (kWh)",{"$f":"B22*B12","v":0},{"$f":"C22*C12","v":0},{"$f":"D22*D12","v":0},{"$f":"E22*E12","v":0},null,null,null,"Pression en dessous de la valeur entrée par l'utilisateur",null,null,null,{"$f":"LOOKUP(C10,'Données vapeur'!$A$5:$A$60)","v":-1.325},{"$f":"VLOOKUP(M23,'Données vapeur'!$A$5:$E$60,2,FALSE)","v":99.63},{"$f":"VLOOKUP(M23,'Données vapeur'!$A$5:$E$60,3,FALSE)","v":417.46},{"$f":"VLOOKUP(M23,'Données vapeur'!$A$5:$E$60,4,FALSE)","v":2258},{"$f":"VLOOKUP(M23,'Données vapeur'!$A$5:$E$60,5,FALSE)","v":2675.46}]
["Potentiel d'économie annuelle de gaz naturel pour chaque cadence d'opération (m3/an)",{"$f":"ROUND(B22*B12*3600/(1000*37.89*B14),0)","v":{"$error":"#DIV/0!"}},{"$f":"ROUND(C22*C12*3600/(1000*37.89*C14),0)","v":{"$error":"#DIV/0!"}},{"$f":"ROUND(D22*D12*3600/(1000*37.89*D14),0)","v":{"$error":"#DIV/0!"}},{"$error":"#DIV/0!"},null,null,null,"Pression au dessus de la valeur entrée par l'utilisateur",null,null,null,{"$f":"IF((M23-M25)=0,M25,INDEX('Données vapeur'!A5:A60,RANK(LOOKUP(M25,'Données vapeur'!A5:A60),'Données vapeur'!A5:A60,1)+1))","v":23.675000000000001},{"$f":"VLOOKUP(M24,'Données vapeur'!$A$5:$E$60,2,FALSE)","v":105.99},{"$f":"VLOOKUP(M24,'Données vapeur'!$A$5:$E$60,3,FALSE)","v":444.32},{"$f":"VLOOKUP(M24,'Données vapeur'!$A$5:$E$60,4,FALSE)","v":2241},{"$f":"VLOOKUP(M24,'Données vapeur'!$A$5:$E$60,5,FALSE)","v":2685.32}]
[null,null,null,null,null,null,null,null,"Valeur pour interpolation",null,null,null,{"$f":"C10","v":0},{"$f":"IF(M23=M24,N23,FORECAST(M25,N23:N24,M23:M24))","v":99.967079999999996},{"$f":"IF(M23=M24,O23,FORECAST(M25,O23:O24,M23:M24))","v":418.88357999999999},{"$f":"IF(M23=M24,P23,FORECAST(M25,P23:P24,M23:M24))","v":2257.0990000000002},{"$f":"IF(M23=M24,Q23,FORECAST(M25,Q23:Q24,M23:M24))","v":2675.9825800000003}]
["Gaz Métro ne peut être tenu responsable des dommages, qu’ils soient directs ou indirects découlant des résultats des outilsde calculs. L’utilisateur demeure responsable de s’assurer de l’exactitude des données qu’il utilise. Les résultats se trouvant dans le chiffrier de calculs sont fournis au client à titre indicatif seulement et ne peuvent en aucun cas être interprétés comme une garantie d’efficacité ou une représentation en ce sens de Gaz Métro. Gaz Métro, ses employés, mandataires et représentants ne peuvent donc être tenus responsables advenant un écart entre cette estimation et la performance réelle de la chaufferie du client.   Version 1 - Septembre 2014"]
[null,null,null,null,null,null,null,null,"Cadence d'opération 3"]
[null,null,null,null,null,null,null,null,"Interpolation de  l'enthalpie de la vapeur - P manométrique fournie par l'utilisateur",null,null,null,"Pression (kPa)","Température équivalente (°C)","Liquide saturé (kJ/kg)","Enthalpie d'évaporation  (kJ/kg)","Vapeur saturée (kJ/kg)"]
[null,null,null,null,null,null,null,null,"Pression en dessous de la valeur entrée par l'utilisateur",null,null,null,{"$f":"LOOKUP(D10,'Données vapeur'!$A$5:$A$60)","v":-1.325},{"$f":"VLOOKUP(M29,'Données vapeur'!$A$5:$E$60,2,FALSE)","v":99.63},{"$f":"VLOOKUP(M29,'Données vapeur'!$A$5:$E$60,3,FALSE)","v":417.46},{"$f":"VLOOKUP(M29,'Données vapeur'!$A$5:$E$60,4,FALSE)","v":2258},{"$f":"VLOOKUP(M29,'Données vapeur'!$A$5:$E$60,5,FALSE)","v":2675.46}]
[null,null,null,null,null,null,null,null,"Pression au dessus de la valeur entrée par l'utilisateur",null,null,null,{"$f":"IF((M29-M31)=0,M31,INDEX('Données vapeur'!A5:A60,RANK(LOOKUP(M31,'Données vapeur'!A5:A60),'Données vapeur'!A5:A60,1)+1))","v":23.675000000000001},{"$f":"VLOOKUP(M30,'Données vapeur'!$A$5:$E$60,2,FALSE)","v":105.99},{"$f":"VLOOKUP(M30,'Données vapeur'!$A$5:$E$60,3,FALSE)","v":444.32},{"$f":"VLOOKUP(M30,'Données vapeur'!$A$5:$E$60,4,FALSE)","v":2241},{"$f":"VLOOKUP(M30,'Données vapeur'!$A$5:$E$60,5,FALSE)","v":2685.32}]
[null,null,null,null,null,null,null,null,"Valeur pour interpolation",null,null,null,{"$f":"D10","v":0},{"$f":"IF(M29=M30,N29,FORECAST(M31,N29:N30,M29:M30))","v":99.967079999999996},{"$f":"IF(M29=M30,O29,FORECAST(M31,O29:O30,M29:M30))","v":418.88357999999999},{"$f":"IF(M29=M30,P29,FORECAST(M31,P29:P30,M29:M30))","v":2257.0990000000002},{"$f":"IF(M29=M30,Q29,FORECAST(M31,Q29:Q30,M29:M30))","v":2675.9825800000003}]
[]
[null,null,null,null,null,null,null,null,"Cadence d'opération 4"]
[null,null,null,null,null,null,null,null,"Interpolation de  l'enthalpie de la vapeur - P manométrique fournie par l'utilisateur",null,null,null,"Pression (kPa)","Température équivalente (°C)","Liquide saturé (kJ/kg)","Enthalpie d'évaporation  (kJ/kg)","Vapeur saturée (kJ/kg)"]
[null,null,null,null,null,null,null,null,"Pression en dessous de la valeur entrée par l'utilisateur",null,null,null,{"$f":"LOOKUP(E10,'Données vapeur'!$A$5:$A$60)","v":-1.325},{"$f":"VLOOKUP(M35,'Données vapeur'!$A$5:$E$60,2,FALSE)","v":99.63},{"$f":"VLOOKUP(M35,'Données vapeur'!$A$5:$E$60,3,FALSE)","v":417.46},{"$f":"VLOOKUP(M35,'Données vapeur'!$A$5:$E$60,4,FALSE)","v":2258},{"$f":"VLOOKUP(M35,'Données vapeur'!$A$5:$E$60,5,FALSE)","v":2675.46}]
[null,null,null,null,null,null,null,null,"Pression au dessus de la valeur entrée par l'utilisateur",null,null,null,{"$f":"IF((M35-M37)=0,M37,INDEX('Données vapeur'!A5:A60,RANK(LOOKUP(M37,'Données vapeur'!A5:A60),'Données vapeur'!A5:A60,1)+1))","v":23.675000000000001},{"$f":"VLOOKUP(M36,'Données vapeur'!$A$5:$E$60,2,FALSE)","v":105.99},{"$f":"VLOOKUP(M36,'Données vapeur'!$A$5:$E$60,3,FALSE)","v":444.32},{"$f":"VLOOKUP(M36,'Données vapeur'!$A$5:$E$60,4,FALSE)","v":2241},{"$f":"VLOOKUP(M36,'Données vapeur'!$A$5:$E$60,5,FALSE)","v":2685.32}]
[null,null,null,null,null,null,null,null,"Valeur pour interpolation",null,null,null,{"$f":"E10","v":0},{"$f":"IF(M35=M36,N35,FORECAST(M37,N35:N36,M35:M36))","v":99.967079999999996},{"$f":"IF(M35=M36,O35,FORECAST(M37,O35:O36,M35:M36))","v":418.88357999999999},{"$f":"IF(M35=M36,P35,FORECAST(M37,P35:P36,M35:M36))","v":2257.0990000000002},{"$f":"IF(M35=M36,Q35,FORECAST(M37,Q35:Q36,M35:M36))","v":2675.9825800000003}]

{"sheet":"Récup. évent dégazeur 1 à 4","index":12,"n_rows":24,"n_cols":6,"rows_kept":24,"cut":false,"hidden":true,"merged":[[12,0,13,4],[13,8,13,11],[21,8,21,11],[28,8,28,11],[36,8,36,11],[23,0,23,4],[0,0,0,4],[1,0,1,4],[2,0,2,4],[3,0,3,4],[4,8,4,12]]}
["Calculateur d'économie d'énergie par la mise en place d'un système de récupération de l'évent du dégazeur\n(Calculateur 5) \n"]
["Objectif:\nFournir un calculateur simplifié permettant d'estimer les économies d'énergie envisageables par la mise en place d'un système de récupération de l'énergie contenue dans l'évent de la purge du dégazeur. Le calculateur est conçu pour évaluer le potentiel de récupération par la condensation de la vapeur et l'intégration du condensat dans le dégazeur."]
["Instructions:\nL'utilisateur devra fournir les informations dans la section Entrée de données (cellules foncées), pour chaque cadence d'opération de la chaudière. Toutes les  données d'opération peuvent être obtenues partir du calculateur de bilan d'énergie. "]
["Entrée de données"]
["Données de procédé"]
[null,"Chaudière 1 ","Chaudière 2","Chaudière 3","Chaudière 4"]
["Quantité de vapeur perdue par l'évent du dégazeur (kg/h)",{"$f":"'Bilan_1 EE'!B103","v":0},{"$f":"'Bilan_2 EE'!B108","v":0},{"$f":"'Bilan_3 EE'!B108","v":0},{"$f":"'Bilan_4 EE'!B108","v":0}]
["Enthalpie de la vapeur produite par la chaudière (kJ/kg)",2326,2326,2326,2326]
["Température de l'eau d'appoint alimentée au récupérateur de l'évent du dégazeur",{"$f":"'Bilan_1 EE'!B16","v":0},{"$f":"'Bilan_2 EE'!B16","v":0},{"$f":"'Bilan_3 EE'!B16","v":0},{"$f":"'Bilan_4 EE'!B16","v":0}]
["Nombre d'heures d'opération annuelles",{"$f":"'Entrée de données'!C38","v":0},{"$f":"'Entrée de données'!D38","v":0},{"$f":"'Entrée de données'!E38","v":0},{"$f":"'Entrée de données'!F38","v":0}]
["Puissance du brûleur de la chaudière en opération (kW)",{"$f":"'Bilan_1 EE'!B29","v":{"$error":"#DIV/0!"}},{"$f":"'Bilan_2 EE'!B29","v":{"$error":"#DIV/0!"}},{"$f":"'Bilan_3 EE'!B29","v":{"$error":"#DIV/0!"}},{"$f":"'Bilan_4 EE'!B29","v":{"$error":"#DIV/0!"}}]
["Efficacité de chauffe de la chaudière (%)",{"$f":"'Bilan_1 EE'!B26","v":{"$error":"#DIV/0!"}},{"$f":"'Bilan_2 EE'!B26","v":{"$error":"#DIV/0!"}},{"$f":"'Bilan_3 EE'!B26","v":{"$error":"#DIV/0!"}},{"$f":"'Bilan_4 EE'!B26","v":{"$error":"#DIV/0!"}}]
["Résultats - Potentiel de récupération d'énergie"]
[]
[null,"Chaudière 1 ","Chaudière 2","Chaudière 3","Chaudière 4"]
["Potentiel de récupération d'énergie (kW)",{"$f":"IF('Mise en forme- input'!$C$7=FALSE,0,B7/3600*(B8-4.18*B9))","v":0},{"$f":"IF(OR('Mise en forme- input'!$C$7=FALSE,'Entrée de données'!F21<2),0,C7/3600*(C8-4.18*C9))","v":0},{"$f":"IF(OR('Mise en forme- input'!$C$7=FALSE,'Entrée de données'!F21<3),0,D7/3600*(D8-4.18*D9))","v":0},{"$f":"IF(OR('Mise en forme- input'!$C$7=FALSE,'Entrée de données'!F21<4),0,E7/3600*(E8-4.18*E9))","v":0},{"$f":"SUM(B16:E16)","v":0}]
["Potentiel annuel de récupération d'énergie pour chaque cadence d'opération (kWh)",{"$f":"B16*B10","v":0},{"$f":"C16*C10","v":0},0,0]
["Économie annuelle de gaz naturel pour chaque cadence d'opération (m3/an)",{"$f":"ROUND(B16*B10*3600/(1000*37.89*B12),0)","v":{"$error":"#DIV/0!"}},{"$f":"ROUND(C16*C10*3600/(1000*37.89*C12),0)","v":{"$error":"#DIV/0!"}},{"$f":"ROUND(D16*D10*3600/(1000*37.89*D12),0)","v":{"$error":"#DIV/0!"}},{"$f":"ROUND(E16*E10*3600/(1000*37.89*E12),0)","v":{"$error":"#DIV/0!"}}]
[]
[]
[]
[]
[]
["Gaz Métro ne peut être tenu responsable des dommages, qu’ils soient directs ou indirects découlant des résultats des outilsde calculs. L’utilisateur demeure responsable de s’assurer de l’exactitude des données qu’il utilise. Les résultats se trouvant dans le chiffrier de calculs sont fournis au client à titre indicatif seulement et ne peuvent en aucun cas être interprétés comme une garantie d’efficacité ou une représentation en ce sens de Gaz Métro. Gaz Métro, ses employés, mandataires et représentants ne peuvent donc être tenus responsables advenant un écart entre cette estimation et la performance réelle de la chaufferie du client.   Version 1 - Septembre 2014"]

{"sheet":"Comb_1","index":13,"n_rows":215,"n_cols":23,"rows_kept":215,"cut":false,"hidden":true,"merged":[[74,3,74,6],[74,11,74,13],[29,9,29,11],[49,3,49,8],[47,0,47,9],[6,3,6,4],[6,5,6,8],[7,5,7,8],[73,0,73,6],[47,11,47,18],[192,7,192,9],[198,7,198,9],[204,7,204,9],[210,7,210,9],[4,12,4,20],[4,9,4,11],[5,9,5,11],[75,12,75,13],[5,12,5,14],[5,15,5,17],[5,18,5,20],[73,8,73,13]]}
[]
[null,null,null,null,"EFFICACITE","%",{"$f":"1-(G4/(G5+ABS(L28)))","v":0.82756709960948083}]
[]
[null,null,null,null,"Hout","J / mol gaz",{"$f":"U28","v":152567.31373295138}]
["BILAN THERMIQUE",null,null,null,"Hin","J / mol gaz",{"$f":"O28+R28","v":-822.93324283140009},null,null,"PROPRIÉTÉ DU GAZ",null,null,"CALCUL ÉNERGIE"]
[null,null,null,null,null,null,null,null,null,"GAZ ****",null,null,"GAZ",null,null,"AIR",null,null,"FUMEE"]
[null,null,"Masse","* Enthalpie (J / mol)",null,"* Chaleur Spécifique (J / mol oC)",null,null,null,"M","Densité","PCS ou","T (oC) =",{"$f":"'Entrée de données'!C37","v":20},null,"T (oC) =",{"$f":"'Entrée de données'!C35","v":20},null,"T (oC) =",{"$f":"'Entrée de données'!C34","v":200}]
[null,null,"Molaire","Formation","Combustion","Cp = a + bTx102 + cT2105 + dT3*109",null,null,null,"Mélange","Mélange","HHV","Débit","Cpmoy","H","Débit","Cpmoy","H","Débit","Cpmoy","H"]
["État gazeux sauf si indication",null,"g / mol",null,null,"a","b","c","d","g / mol","kg / m3","J / mol gaz","mol / mol gaz","J / mol oC","J / mol gaz","mol / mol gaz","J / mol oC","J / mol gaz","mol / mol gaz","J / mol oC","J / mol gaz"]
["Oxygène","O2",32,0,0,29.1,1.1579999999999999,-0.60760000000000003,1.3109999999999999,{"$f":"M10*C10","v":0},{"$f":"(101325*(C10/1000))/(8.3144*288.7056)*M10","v":0},{"$f":"M10*E10","v":0},{"$f":"C55/100","v":0},{"$f":"AVERAGE($F10+$G10/100*N$7+$H10/100000*N$7^2+$I10/1000000000*N$7^3,$F10+$G10/100*$B$29+$H10/100000*$B$29^2+$I10/1000000000*$B$29^3)","v":29.357451536187501},{"$f":"M10*N10*(N$7-$B$29)","v":0},{"$f":"CD92","v":0},{"$f":"AVERAGE($F10+$G10/100*Q$7+$H10/100000*Q$7^2+$I10/1000000000*Q$7^3,$F10+$G10/100*$B$29+$H10/100000*$B$29^2+$I10/1000000000*$B$29^3)","v":29.357451536187501},{"$f":"P10*Q10*(Q$7-$B$29)","v":0},{"$f":"Comb_1!L84","v":0.5967840000000002},{"$f":"AVERAGE($F10+$G10/100*T$7+$H10/100000*T$7^2+$I10/1000000000*T$7^3,$F10+$G10/100*$B$29+$H10/100000*$B$29^2+$I10/1000000000*$B$29^3)","v":30.2845854921875},{"$f":"S10*T10*(T$7-$B$29)","v":3162.8373119646853}]
["Monoxide de carbone","CO",28.010999999999999,-110520,-282990,28.95,0.41099999999999998,0.3548,-2.2200000000000002,0,0,0,{"$f":"C56/100","v":0},{"$f":"AVERAGE($F11+$G11/100*N$7+$H11/100000*N$7^2+$I11/1000000000*N$7^3,$F11+$G11/100*$B$29+$H11/100000*$B$29^2+$I11/1000000000*$B$29^3)","v":29.044267126249999},{"$f":"M11*N11*(N$7-$B$29)","v":0},null,{"$f":"AVERAGE($F11+$G11/100*Q$7+$H11/100000*Q$7^2+$I11/1000000000*Q$7^3,$F11+$G11/100*$B$29+$H11/100000*$B$29^2+$I11/1000000000*$B$29^3)","v":29.044267126249999},{"$f":"P11*Q11*(Q$7-$B$29)","v":0},null,29.475546406249997,{"$f":"S11*T11*(T$7-$B$29)","v":0}]
["Dioxide de carbone","CO2",44.011000000000003,-393500,0,36.11,4.2329999999999997,-2.887,7.4640000000000004,0.14963740000000003,6.3164148191036497E-3,0,{"$f":"C57/100","v":3.4000000000000002E-3},37.0477172935,{"$f":"M12*N12*(N$7-$B$29)","v":-0.62981119398950003},null,37.0477172935,{"$f":"P12*Q12*(Q$7-$B$29)","v":0},{"$f":"Comb_1!L82","v":1.00386},40.315617437499995,{"$f":"S12*T12*(T$7-$B$29)","v":7082.4662511415299}]
["Hydrogène","H2",2.016,0,-285840,28.84,7.6499999999999997E-3,0.32879999999999998,-0.86980000000000002,0,0,0,{"$f":"C58/100","v":0},28.843396075487497,{"$f":"M13*N13*(N$7-$B$29)","v":0},null,28.843396075487497,{"$f":"P13*Q13*(Q$7-$B$29)","v":0},null,28.911907754687498,{"$f":"S13*T13*(T$7-$B$29)","v":0}]
["Eau (v)","H20 (v)",18.015000000000001,-241830,0,33.46,0.68799999999999994,0.76039999999999996,-3.593,0,0,0,{"$f":"C59/100","v":0},33.618654607687503,{"$f":"M14*(V14+N14*(N$7-$B$29))","v":0},{"$f":"D93","v":1.0939348676877604E-2},33.618654607687503,{"$f":"P14*(V14+Q14*(Q$7-$B$29))","v":442.91132888313081},{"$f":"Comb_1!L86-S15","v":1.9885793486768779},34.3740561796875,{"$f":"((S14-G93)*$V$14)+(S14*T14*(T$7-$B$29))","v":92365.151033607443},40656,"Enthalpie vaporisation (J/mol)"]
["Eau (l)","H2O (l)",18.015000000000001,-285840,0,75.400000000000006,0,0,0,0,0,0,0,75.400000000000006,{"$f":"M15*N15*(N$7-$B$29)","v":0},null,75.400000000000006,{"$f":"P15*Q15*(Q$7-$B$29)","v":0},{"$f":"Comb_1!L96","v":0},75.400000000000006,{"$f":"S15*T15*(T$7-$B$29)","v":0}]
["Sulfure d'hydrogène","H2S",34.076000000000001,-19960,-562590,33.51,1.5469999999999999,0.30120000000000002,-3.2919999999999998,0,0,0,{"$f":"C60/100","v":0},33.859579763249997,0,null,33.859579763249997,0,null,35.29836253125,0]
["Méthane","CH4",16.042999999999999,-74850,-890360,34.31,5.4690000000000003,0.36609999999999998,-11,15.32539661,0.64690753953252877,-850534.19720000005,0.95527000000000006,35.542271325000002,-169.76232764316379,null,35.542271325000002,0,null,40.492903124999998,0]
["Éthane","C2H6",30.07,-84670,-1559900,49.37,13.92,-5.8159999999999998,7.28,0.62064480000000011,2.6198330177613489E-2,-32196.336000000003,2.0640000000000002E-2,52.472278994999996,-5.4151391922840002,null,52.472278994999996,0,null,63.877801874999989,0]
["Propane","C3H8",44.097000000000001,-103800,-2220000,68.031999999999996,22.59,-13.11,31.71,5.1593490000000006E-2,2.1778371236420568E-3,-2597.4,1.17E-3,73.047935824375003,-0.42733042457259374,null,73.047935824375003,0,null,90.909868984374995,0]
["Butane","C4H10",58.124000000000002,-134500,-2868800,89.46,30.13,-18.91,49.87,0,0,0,0,96.142925339374983,0,null,96.142925339374983,0,null,119.71502585937499,0]
["** i-Butane","C4H10",58.124000000000002,{"$f":"D20","v":-134500},{"$f":"E20","v":-2868800},89.46,30.13,-18.91,49.87,2.9062000000000003E-3,1.2267497796192013E-4,-143.44,5.0000000000000002E-5,96.142925339374983,-2.4035731334843748E-2,null,96.142925339374983,0,null,119.71502585937499,0]
["n-Butane","C4H10",58.124000000000002,-124700,-2878500,92.3,27.88,-15.47,34.979999999999997,2.9062000000000003E-3,1.2267497796192013E-4,-143.92500000000001,5.0000000000000002E-5,98.494129451249989,-2.4623532362812499E-2,null,98.494129451249989,0,null,120.66284953125,0]
["Pentane","C5H12",72.150000000000006,-152000,-35292000,114.8,34.090000000000003,-18.989999999999998,42.26,0,0,0,{"$f":"CC67/100","v":0},122.37342544625,0,null,122.37342544625,0,null,149.46327640625,0]
["Octane","C8H18",114.23,-208400,-5512200,-5.8307000000000002,4.4541000000000004,-0.42080000000000001,1.2629999999999999,0,0,0,{"$f":"C68/100","v":0},-4.8306691808125004,0,null,-4.8306691808125004,0,null,-0.90025063281249973,0]
["*** iso-Octane","Ch8H18i",114.23,{"$f":"D24","v":-208400},{"$f":"E24","v":-5512200},-5.8307000000000002,4.4541000000000004,-0.42080000000000001,1.2629999999999999,0,0,0,{"$f":"C69/100","v":0},-4.8306691808125004,0,null,-4.8306691808125004,0,null,-0.90025063281249973,0]
["Azote","N2",28.013000000000002,0,0,29,0.21990000000000001,0.57230000000000003,-2.871,0.54401246000000003,2.2963566355209533E-2,0,{"$f":"C70/100","v":1.942E-2},29.052376623812499,{"$f":"M26*N26*(N$7-$B$29)","v":-2.8209857701721934},{"$f":"D91","v":7.4812490027815137},29.052376623812499,-1086.7403182266512,{"$f":"Comb_1!L81","v":9.7256237036159696},29.352129507812499,{"$f":"S26*T26*(T$7-$B$29)","v":49956.859136237726}]
["Hélium","He",4.0020600000000002,0,0,20.8,0,0,0,0,0,0,{"$f":"CC71/100","v":0},20.8,0,null,20.8,0,null,20.8,0]
[null,null,null,null,null,null,null,null,"SOMME",{"$f":"SUM(J10:J27)","v":16.697097160000002},{"$f":"SUM(K10:K27)","v":0.70480903796402139},{"$f":"SUM(L10:L27)","v":-885615.29820000008},{"$f":"SUM(M10:M27)","v":1},null,{"$f":"SUM(O10:O27)","v":-179.10425348787973},{"$f":"SUM(P10:P27)","v":7.4921883514583909},null,{"$f":"SUM(R10:R27)","v":-643.82898934352033},{"$f":"SUM(S10:S27)","v":13.314847052292848},null,{"$f":"SUM(U10:U27)","v":152567.31373295138}]
["* Référence. Patm, T =",25,"oC"]
["** Hyp. Même propriétés que Butane",null,null,null,null,null,null,null,null,"Pouvoir Calorifique Supérieur"]
["*** Hyp. Même que Octane",null,null,null,null,null,null,null,null,null,{"$f":"ABS(L28/1000)","v":885.6152982000001},"kJ / mol"]
["**** À Patm et T = 15.6 oC (14.7 psi et 60 F)",null,null,null,null,null,null,null,null,null,{"$f":"K31/(J28/1000)","v":53040.075751706296},"kJ / kg"]
[null,null,null,null,null,null,null,null,null,null,{"$f":"(K32/1000)*K28","v":37.38312476409893},"MJ / m3"]
["Référence"]
["Elementary Principles of Chemical Processes",null,null,null,null,null,null,null,null,null,{"$f":"(K33*1000)/1.055*0.02832","v":1003.4977187860492},"BTU / ft3"]
["Wiley Series in Chemical Engineering, Second Edition",null,null,null,null,null,null,null,null,null,{"$f":"(K32/1.055)*0.4536","v":22804.71882556775},"BTU / lbm"]
["R M Felder et R W Rousseau",null,null,null,null,null,null,null,null,null,{"$f":"K35/7.4814","v":134.13234405138732},"BTU / gal"]
[]
[]
[]
[]
[null,null,null,null,null,"Constitution de l'air sec"]
[null,null,null,null,"Azote",0.78995048751598307]
[null,null,null,null,"Oxygène",{"$f":"1-F43","v":0.21004951248401693}]
["BILAN MASSIQUE",null,null,null,"Autres",0]
[]
[]
["CALCUL DE LA COMBUSTION STOÉCHIOMÉTRIQUE",null,null,null,null,null,null,null,null,null,null,"Masse H2 par livre de combustible"]
[]
[null,null,"COMPOSITION","GAZ DE COMBUSTION STOÉCHIOMÉTRIQUE",null,null,null,null,null,null,null,null,"Masse d'hydrogène dans une livre de combustible (lb/lb)",null,null,null,{"$f":"(4*N53+6*N55+8*N56+10*N57+10*N58)/(N53*O53+N54*O54+N55*O55+N56*O56+N57*O57+N58*O58+N59*O59)","v":0.23688428965217811}]
[null,null,"(mol / 100 mol gaz)","CO2","H2O","SO2","He","N2","TOTAL","O2 requis"]
["GAZ (ÉTAT GAZEUX)",null,null,null,null,null,null,null,null,null,null,null,"Compo","% mol","masse molaire"]
[null,"TOTAL",{"$f":"SUM(C55:C71)","v":100},{"$f":"SUM(D55:D71)","v":1.00386},1.9776400000000003,0,0,1.942E-2,3.0009200000000003,1.9892799999999999,null,null,"CH4",{"$f":"C61","v":95.527000000000001},{"$f":"C17","v":16.042999999999999}]
[null,null,null,null,null,null,null,null,null,null,null,null,"CO2",{"$f":"C57","v":0.34},{"$f":"C12","v":44.011000000000003}]
["Oxygène","O2",0,null,null,null,null,null,{"$f":"SUM(D55:H55)","v":0},{"$f":"-C55/100","v":0},null,null,"C2H6",{"$f":"C62","v":2.0640000000000001},{"$f":"C18","v":30.07}]
["Monoxide de carbone","CO",0,{"$f":"C56/100","v":0},null,null,null,null,0,{"$f":"D56+E56/2+F56","v":0},null,null,"C3H8",{"$f":"C63","v":0.11700000000000001},{"$f":"C19","v":44.097000000000001}]
["Dioxide de carbone","CO2",0.34,{"$f":"C57/100","v":3.4000000000000002E-3},null,null,null,null,3.4000000000000002E-3,0,null,null,"C4H10",{"$f":"C65","v":5.0000000000000001E-3},{"$f":"C21","v":58.124000000000002}]
["Hydrogène","H2",0,null,{"$f":"C58/100","v":0},null,null,null,0,{"$f":"D58+E58/2+F58","v":0},null,null,"C4H10",{"$f":"C66","v":5.0000000000000001E-3},{"$f":"C22","v":58.124000000000002}]
["Eau (l)","H2O (l)",0,null,{"$f":"C59/100","v":0},null,null,null,0,0,null,null,"N2",{"$f":"C70","v":1.9419999999999999},{"$f":"C26","v":28.013000000000002}]
["Sulfure d'hydrogène","H2S",0,null,{"$f":"C60/100","v":0},{"$f":"C60/100","v":0},null,null,0,0]
["Méthane","CH4",95.527000000000001,{"$f":"C61/100","v":0.95527000000000006},{"$f":"C61/100*2","v":1.9105400000000001},null,null,null,2.8658100000000002,1.9105400000000001]
["Éthane","C2H6",2.0640000000000001,{"$f":"C62*2/100","v":4.1280000000000004E-2},{"$f":"C62/100*3","v":6.1920000000000003E-2},null,null,null,0.10320000000000001,7.2239999999999999E-2]
["Propane","C3H8",0.11700000000000001,{"$f":"C63*3/100","v":3.5100000000000005E-3},{"$f":"C63/100*4","v":4.6800000000000001E-3},null,null,null,8.1900000000000011E-3,5.850000000000001E-3]
["Butane","C4H10",0,{"$f":"C64*4/100","v":0},{"$f":"C64/100*5","v":0},null,null,null,0,0]
["** i-Butane","C4H10",5.0000000000000001E-3,{"$f":"C65*4/100","v":2.0000000000000001E-4},{"$f":"C65/100*5","v":2.5000000000000001E-4},null,null,null,4.4999999999999999E-4,3.2499999999999999E-4]
["n-Butane","C4H10",5.0000000000000001E-3,{"$f":"C66*4/100","v":2.0000000000000001E-4},{"$f":"C66/100*5","v":2.5000000000000001E-4},null,null,null,4.4999999999999999E-4,3.2499999999999999E-4]
["Pentane","C5H12",0,{"$f":"C67*5/100","v":0},{"$f":"C67/100*6","v":0},null,null,null,0,0]
["Octane","C8H18",0,{"$f":"C68*8/100","v":0},{"$f":"C68/100*9","v":0},null,null,null,0,0]
["*** iso-Octane","Ch8H18i",0,{"$f":"C69*8/100","v":0},{"$f":"C69/100*9","v":0},null,null,null,0,0]
["Azote","N2",1.9419999999999999,null,null,null,null,{"$f":"C70/100","v":1.942E-2},1.942E-2,0]
["Hélium","He",0,null,null,null,{"$f":"C71/100","v":0},null,0,0]
[]
[]
["AIR DE COMBUSTION",null,null,null,null,null,null,null,"FUMÉES"]
[null,null,null,"MASSIQUE",null,null,null,null,null,null,null,"MASSIQUE"]
[null,null,null,"% O2","% EA","% CO2","RÉSULTATS",null,null,null,null,null,"Proportion (%)"]
[null,null,null,false,true,false,null,null,null,null,null,"(mol / mol gaz)","Base Hum","Base Sec"]
[null,null,null,{"$f":"IF(D77,1,\"-\")","v":"-"},{"$f":"IF(E77,2,\"-\")","v":2},{"$f":"IF(F77,3,\"-\")","v":"-"},{"$f":"AVERAGE(D78:F78)","v":2}]
["Calcul de l'excès d'air (base sèche)",null,null,{"$f":"D87/D84","v":0},{"$f":"Bilan_1!B13","v":0.3000000000000001},{"$f":"F86/F83","v":{"$error":"#DIV/0!"}},{"$f":"INDEX(D79:F79,G$78)","v":0.3000000000000001},null,"TOTAL",null,"mol / mol gas",{"$f":"SUM(L81:L86)","v":13.314847052292846},{"$f":"SUM(M81:M86)","v":1.0000000000000002},{"$f":"SUM(N81:N86)","v":1}]
["Oxygène dans les fumées (base sèche)",null,null,0,{"$f":"E86/(E83*($F$43/$F$44)+I53-E53+E86/$F$44)","v":5.260007287260339E-2},{"$f":"F86/(F83*($F$43/$F$44)+I53-E53+F86/$F$44)","v":{"$error":"#DIV/0!"}},{"$f":"INDEX(D80:F80,G$78)","v":5.260007287260339E-2}]
["Dioxide de carbone dans les fumées",null,null,{"$f":"$N$82","v":8.8631138365157361E-2},{"$f":"N82","v":8.8631138365157361E-2},0,{"$f":"INDEX(D81:F81,G$78)","v":8.8631138365157361E-2},null,"Azote",null,"mol / mol gas",{"$f":"G91","v":9.7256237036159696},{"$f":"L81/$L$79","v":0.73043450408551225},{"$f":"L81/($L$79-$L$86)","v":0.85867860076369329}]
[null,null,null,null,null,null,null,null,"Dioxide de carbone",null,"mol / mol gas",{"$f":"D53","v":1.00386},7.5394031644331436E-2,{"$f":"L82/($L$79-$L$86)","v":8.8631138365157361E-2}]
["Oxygène stoéchiométrique",null,"mol / mol gas",{"$f":"$J$53","v":1.9892799999999999},{"$f":"$J$53","v":1.9892799999999999},{"$f":"$J$53","v":1.9892799999999999},{"$f":"INDEX(D83:F83,G$78)","v":1.9892799999999999},null,"Dioxide de soufre",null,"mol / mol gas",{"$f":"F53","v":0},0,{"$f":"L83/($L$79-$L$86)","v":0}]
["Air stoéchiométrique",null,"mol / mol gas",{"$f":"D83/$F$44","v":9.4705290027815128},{"$f":"E83/$F$44","v":9.4705290027815128},{"$f":"F83/$F$44","v":9.4705290027815128},{"$f":"INDEX(D84:F84,G$78)","v":9.4705290027815128},null,"Oxygène",null,"mol / mol gas",{"$f":"G86","v":0.5967840000000002},4.4820942941078148E-2,{"$f":"L84/($L$79-$L$86)","v":5.2690260871149447E-2}]
[null,null,null,null,null,null,null,null,"Hélium",null,"mol / mol gas",{"$f":"G53","v":0},0,{"$f":"L85/($L$79-$L$86)","v":0}]
["Excès oxygène",null,"mol / mol gas",{"$f":"D80/(1-D80/$F$44)*(($I$53-$E$53)+D83*$F$43/$F$44)","v":0},{"$f":"E83*$E$79","v":0.5967840000000002},{"$f":"(D53/F81-(I53-E53)-F83*(F43/F44))/(1+F43/F44)","v":{"$error":"#DIV/0!"}},{"$f":"INDEX(D86:F86,G$78)","v":0.5967840000000002},null,"Eau (liquide et vapeur)",null,"mol / mol gas",{"$f":"G93+E53","v":1.9885793486768779},0.14935052132907828,0]
["Excès air",null,"mol / mol gas",{"$f":"D86/F44","v":0},{"$f":"E84*$E$79","v":2.841158700834455},{"$f":"F86/F44","v":{"$error":"#DIV/0!"}},{"$f":"INDEX(D87:F87,G$78)","v":2.841158700834455},null,"Condensation (liquide)",null,"mol / mol gas",{"$f":"L96","v":0},0,1]
[null,null,null,null,null,null,null,null,"Molecular weight",null,"g/mol",null,{"$f":"M81*28+M82*44+M83*64+M84*32+M86*18","v":27.892083064782838}]
["Air de combustion",null,"mol / mol gas",{"$f":"SUM(D91:D93)","v":9.4814683514583926},{"$f":"SUM(E91:E93)","v":12.322627052292848},{"$f":"SUM(F91:F93)","v":{"$error":"#DIV/0!"}},{"$f":"INDEX(D89:F89,G$78)","v":12.322627052292848},null,"Condensation des fumées",null,null,{"$f":"IF(L91<L92,\"VRAI\",\"FAUX\")","v":"FAUX"}]
[null,null,null,null,null,null,null,null,"Humidité (sans condensation)",null,"mol / mol fumées",{"$f":"E53+G93","v":1.9885793486768779}]
["Azote",null,"mol / mol gas",{"$f":"D92*($F$43/$F$44)","v":7.4812490027815137},{"$f":"E92*($F$43/$F$44)","v":9.7256237036159696},{"$f":"F92*($F$43/$F$44)","v":{"$error":"#DIV/0!"}},{"$f":"INDEX(D91:F91,G$78)","v":9.7256237036159696},null,"Température des fumées",null,"oC",{"$f":"T7","v":200}]
["Oxygène",null,"mol / mol gas",{"$f":"D83+D86","v":1.9892799999999999},{"$f":"E83+E86","v":2.5860640000000004},{"$f":"F83+F86","v":{"$error":"#DIV/0!"}},{"$f":"INDEX(D92:F92,G$78)","v":2.5860640000000004},null,"Point de rosée",null,"oC",{"$f":"E135","v":54.109354987309082}]
["Vapeur d'eau",null,"mol / mol gas",{"$f":"E114*Comb_1!D84","v":1.0939348676877604E-2},{"$f":"E114*Comb_1!E84","v":1.0939348676877604E-2},{"$f":"E114*Comb_1!F84","v":1.0939348676877604E-2},{"$f":"INDEX(D93:F93,G$78)","v":1.0939348676877604E-2},null,"Flue gas density",null,"lb/cu ft"]
[null,null,null,null,null,null,null,null,"Saturation (Tfumées)",null,"mol / mol fumées",{"$f":"E128","v":0.17557234216192982},"Fumées sèches"]
["Humidité",null,null,null,null,null,null,null,"Condensation",null,"mol / mol fumées",{"$f":"E139","v":0}]
["Humidité relative",null,null,0.05,null,null,null,null,null,null,"mol / mol gas",{"$f":"E140","v":0}]
["Point de rosée",null,"oC",{"$f":"IF(D96<>0,E118,\"-\")","v":{"$error":"#N/A"}}]
[]
[]
[]
[]
[null,null,"PRESSION ATMOSPHÉRIQUE",null,null,null,null,"TABLE VAPEUR SATURÉE"]
[null,null,"Altitude","FASL",200,"Mtl = 200",null,"Tsat (oC)","Psat (Pa)","Tsat (oC)"]
[null,null,"Pression barométrique","po Hg",{"$f":"29.9269-0.001020817*E103+0.000000011*E103^2-0.0000000000005118678*E103^3","v":29.723172505057601},null,null,0,610.48326959999986,{"$f":"H104","v":0}]
[null,null,"Pression barométrique","Pa",101312.5,{"$f":"E104*3370","v":100167.09134204412},null,2,705.80878559999985,2]
[null,null,null,null,null,null,null,4,813.39996239999994,4]
[null,null,"AIR DE COMBUSTION",null,null,null,null,6,934.98999119999985,6]
[null,null,"Température","oC",{"$f":"N7","v":20},null,null,8,1072.5787079999998,8]
[null,null,"Humidité relative",null,0.05,null,null,10,1227.7659815999998,10]
[null,null,null,null,null,null,null,12,1402.2850031999999,12]
[null,null,"Pression saturation","Pa",{"$f":"IF(E108<0,0.09*6895,I196)","v":2337.8082839999997},null,null,14,1598.1356087999998,14]
[null,null,"Pression vapeur eau","Pa",{"$f":"E109*E111","v":116.8904142},null,null,16,1817.7176015999999,16]
[null,null,null,null,null,null,null,18,2063.4307847999999,18]
[null,null,"H2O / Air sec","mol / mol",{"$f":"E112/(E105-E112)","v":1.1550937306315937E-3},null,null,20,2337.8082839999997,20]
[null,null,"H2O / Air sec","lb / lb",{"$f":"E114*18.02/28.95","v":7.1899098535341342E-4},null,null,22,2643.3832247999999,22]
[null,null,null,null,null,null,null,24,2983.3553447999998,24]
[null,null,"H2O / Air humide","mol / mol",{"$f":"E112/E105","v":1.1537610285009253E-3},null,null,26,3360.9243815999998,26]
[null,null,"Température de rosée","oC",{"$f":"H202","v":{"$error":"#N/A"}},null,null,28,3779.5567175999995,28]
[null,null,null,null,null,null,null,30,4242.8520576000001,30]
[null,null,"FUMÉES",null,null,null,null,32,4754.6767511999988,32]
[null,null,"Température","oC",{"$f":"T7","v":200},null,null,34,5319.2971152,34]
[null,null,null,null,null,null,null,36,5941.2461112000001,36]
[null,null,"Fumées totales","mol / mol gaz",{"$f":"L79","v":13.314847052292846},null,null,38,6625.0567007999998,38]
[null,null,"Humidité (H2O)","mol / mol gaz",{"$f":"L90","v":1.9885793486768779},"sans condensation",null,40,7375.9284575999991,40]
[null,null,null,null,null,null,null,42,8199.3275999999987,42]
[null,null,"Pression vapeur","Pa",{"$f":"E131*E105","v":15131.074692152242},null,null,44,9100.5870240000004,44]
[null,null,null,null,null,null,null,46,10085.83956,46]
[null,null,"H2O / Air sec","mol / mol",{"$f":"E124/(E123-E124)","v":0.17557234216192982},"Mair",null,48,11160.418103999998,48]
[null,null,"H2O / Air sec","lb / lb",{"$f":"E128*18.02/F129","v":0.11221720402747558},{"$f":"(M81*28+M82*48+M83*64+M84*32+M85*4+M86*18)","v":28.193659191360162},null,50,12333.655224,50]
[null,null,null,null,null,null,null,55,15737.376096,55]
[null,null,"H2O / Air humide","mol / mol",{"$f":"E124/E123","v":0.14935052132907828},null,null,60,19915.700111999999,60]
[null,null,"H2O / mol gas","mol / mol",{"$f":"E131*E123","v":1.9885793486768777},null,null,65,25003.282895999997,65]
[null,null,null,null,null,null,null,70,31157.444879999995,70]
[null,null,"Condensation",null,{"$f":"IF(E135>E121,\"VRAI\",\"FAUX\")","v":"FAUX"},null,null,75,38543.505839999998,75]
[null,null,"Point de rosée","oC",{"$f":"H208","v":54.109354987309082},null,null,80,47342.784240000001,80]
[null,null,null,null,null,null,null,85,57808.592639999995,{"$f":"H136","v":85}]
[null,null,"Pression saturation","Pa",{"$f":"I214","v":1553800},null,null,90,70095.585023999985,90]
[null,null,"Contenu H2O à saturation","mol / mol fumées",{"$f":"IF(E134=\"VRAI\",E137/E105,\"-\")","v":"-"},null,null,91,72800.696519999983,91]
[null,null,"Condensation","mol / mol fumées",{"$f":"IF(E134=\"VRAI\",E131-E138,0)","v":0},null,null,92,75592.467575999995,92]
[null,null,"Condensation","mol / mol gaz",{"$f":"IF(E134=\"VRAI\",E139*E123,0)","v":0},null,null,93,78473.564639999997,93]
[null,null,"Condensation","g / mol gaz",{"$f":"IF(E134=\"VRAI\",E140*18,0)","v":0},null,null,94,81446.654159999991,94]
[null,null,null,null,null,null,null,95,84513.069359999994,95]
[null,null,"Humidité Relative des Fumées",null,{"$f":"IF(E134=\"VRAI\",1,IF(E121<100,E126/E137,\"N / A\"))","v":"N / A"},null,null,96,87675.476687999995,96]
[null,null,null,null,null,null,null,97,90935.209367999996,97]
[null,null,null,null,null,null,null,98,94294.933847999986,98]
[null,null,null,null,null,null,null,99,97757.316575999997,99]
[null,null,null,null,null,null,null,100,101325.02399999999,100]
[null,null,null,null,null,null,null,105,120820,105]
[null,null,null,null,null,null,null,110,143270,110]
[null,null,null,null,null,null,null,115,169060,115]
[null,null,null,null,null,null,null,120,198530,120]
[null,null,null,null,null,null,null,125,232100,125]
[null,null,null,null,null,null,null,130,270100,130]
[null,null,null,null,null,null,null,135,313000,135]
[null,null,null,null,null,null,null,140,361300,140]
[null,null,null,null,null,null,null,145,415400,145]
[null,null,null,null,null,null,null,150,475800,150]
[null,null,null,null,null,null,null,155,543100,155]
[null,null,null,null,null,null,null,160,617800,160]
[null,null,null,null,null,null,null,165,700500,165]
[null,null,null,null,null,null,null,170,791700,170]
[null,null,null,null,null,null,null,175,892000,175]
[null,null,null,null,null,null,null,180,1002100,180]
[null,null,null,null,null,null,null,185,1122700,185]
[null,null,null,null,null,null,null,190,1254400,190]
[null,null,null,null,null,null,null,195,1397800,195]
[null,null,null,null,null,null,null,200,1553800,200]
[null,null,null,null,null,null,null,205,1723000,{"$f":"H168","v":205}]
[null,null,null,null,null,null,null,210,1906200,210]
[null,null,null,null,null,null,null,215,2104000,215]
[null,null,null,null,null,null,null,220,2318000,220]
[null,null,null,null,null,null,null,225,2548000,225]
[null,null,null,null,null,null,null,230,2795000,230]
[null,null,null,null,null,null,null,235,3060000,235]
[null,null,null,null,null,null,null,240,3344000,240]
[null,null,null,null,null,null,null,245,3648000,245]
[null,null,null,null,null,null,null,250,3973000,250]
[null,null,null,null,null,null,null,255,4319000,255]
[null,null,null,null,null,null,null,260,4688000,260]
[null,null,null,null,null,null,null,265,5081000,265]
[null,null,null,null,null,null,null,270,5499000,270]
[null,null,null,null,null,null,null,275,5942000,275]
[null,null,null,null,null,null,null,280,6412000,280]
[null,null,null,null,null,null,null,285,6909000,285]
[null,null,null,null,null,null,null,290,7436000,290]
[null,null,null,null,null,null,null,295,7993000,295]
[null,null,null,null,null,null,null,300,8581000,300]
[null,null,null,null,null,null,null,320,11274000,320]
[null,null,null,null,null,null,null,340,14586000,340]
[null,null,null,null,null,null,null,360,18651000,360]
[null,null,null,null,null,null,null,374.14,22090000,374.14]
[]
[null,null,null,null,null,null,null,"Psat AIR COMBUSTION"]
[null,null,null,null,null,null,null,"T","Psat"]
[null,null,null,null,null,null,null,{"$f":"VLOOKUP(E108,H104:I191,1)","v":20},{"$f":"VLOOKUP(H195,$H$104:$I$191,2)","v":2337.8082839999997},{"$f":"MATCH(H195,H104:H191,1)","v":11}]
[null,null,null,null,null,null,null,{"$f":"E108","v":20},{"$f":"I195+((H196-H195)/(H197-H195))*(I197-I195)","v":2337.8082839999997}]
[null,null,null,null,null,null,null,{"$f":"INDEX(H104:H191,J197)","v":22},{"$f":"VLOOKUP(H197,$H$104:$I$191,2)","v":2643.3832247999999},{"$f":"J195+1","v":12}]
[]
[null,null,null,null,null,null,null,"CALCUL ROSÉE AIR COMB"]
[null,null,null,null,null,null,null,"T","Psat"]
[null,null,null,null,null,null,null,{"$f":"VLOOKUP(I201,$I$104:$J$191,2)","v":{"$error":"#N/A"}},{"$f":"VLOOKUP(I202,I104:J191,1)","v":{"$error":"#N/A"}},{"$f":"MATCH(H201,H104:H191,1)","v":{"$error":"#N/A"}}]
[null,null,null,null,null,null,null,{"$f":"H201+(I202-I201)/(I203-I201)*(H203-H201)","v":{"$error":"#N/A"}},{"$f":"E117*E105","v":116.8904142}]
[null,null,null,null,null,null,null,{"$f":"INDEX(H104:H191,J203)","v":{"$error":"#N/A"}},{"$f":"VLOOKUP(H203,H104:I191,2)","v":{"$error":"#N/A"}},{"$f":"J201+1","v":{"$error":"#N/A"}}]
[]
[null,null,null,null,null,null,null,"TEMP. CONDENSATION FUMÉE"]
[null,null,null,null,null,null,null,"T","Psat"]
[null,null,null,null,null,null,null,{"$f":"VLOOKUP(I207,$I$104:$J$191,2)","v":50},{"$f":"VLOOKUP(E126,I104:J191,1)","v":12333.655224},{"$f":"MATCH(H207,H104:H191,1)","v":26}]
[null,null,null,null,null,null,null,{"$f":"H207+(I208-I207)/(I209-I207)*(H209-H207)","v":54.109354987309082},{"$f":"E126","v":15131.074692152242}]
[null,null,null,null,null,null,null,{"$f":"INDEX(H104:H191,J209)","v":55},{"$f":"VLOOKUP(H209,H104:I191,2)","v":15737.376096},{"$f":"J207+1","v":27}]
[]
[null,null,null,null,null,null,null,"CALCUL FUMÉES"]
[null,null,null,null,null,null,null,"T","Psat"]
[null,null,null,null,null,null,null,{"$f":"VLOOKUP(H214,H104:I191,1)","v":200},{"$f":"VLOOKUP(H213,$H$104:$I$191,2)","v":1553800},{"$f":"MATCH(H213,H104:H191,1)","v":64}]
[null,null,null,null,null,null,null,{"$f":"E121","v":200},{"$f":"I213+((H214-H213)/(H215-H213))*(I215-I213)","v":1553800}]
[null,null,null,null,null,null,null,{"$f":"INDEX(H104:H191,J215)","v":205},{"$f":"VLOOKUP(H215,$H$104:$I$191,2)","v":1723000},{"$f":"J213+1","v":65}]

{"sheet":"Bilan_1","index":14,"n_rows":123,"n_cols":27,"rows_kept":123,"cut":false,"hidden":true,"merged":[[20,3,20,6],[21,3,21,6],[22,3,22,6],[23,3,23,6],[52,3,52,7],[49,3,49,7],[34,6,34,8],[35,6,35,8],[36,6,36,8],[50,3,50,7],[51,3,51,7],[110,9,110,12],[110,8,111,8],[110,7,111,7],[54,3,54,12],[57,3,59,6],[55,8,55,11]]}
["Formulaire de calcul",null,null,null,null,null,null,null,null,null,null,null,null,"Unités et paramètres de calculs",null,null,null,null,null,null,null,null,null,null,"Quantité de purge","Excès d'air"]
[null,null,null,null,null,null,null,null,null,null,null,null,null,null,null,null,null,null,null,null,"Numéro correspondant à sélection dans entrée de données",null,null,null,{"$f":"'Entrée de données'!C52","v":1},{"$f":"'Entrée de données'!C36","v":30},{"$f":"'Entrée de données'!C25","v":1}]
[null,"Type de chaudière:",{"$f":"VLOOKUP(AA2,X4:AA7,4)","v":"Tubes de fumées"},null,null,null,null,null,null,null,null,null,null,null,"Conversion",null,null,null,null,null,null,null,null,"Numéro","% Purge","% Exces d'air","Type de chaudière"]
[null,null,null,null,null,null,null,null,null,null,null,null,null,null,"1kW = ",{"$f":"1000000/293.07","v":3412.1540928788345},"Btu/h",null,null,null,null,null,null,1,0,0.01,"Tubes de fumées"]
["OUTPUT:",null,null,null,null,null,null,null,null,null,null,null,null,null,"1 Btu/h =",2.9306999999999998E-4,"kW",null,null,null,null,null,null,{"$f":"X4+1","v":2},0.01,{"$f":"Z4+0.01","v":0.02},"Tubes d'eau"]
["Puissance maximale du brûleur ",{"$f":"'Entrée de données'!C27","v":0},"kW","Donnée d'entrée",null,null,null,null,null,null,null,null,null,null,"1 kJ/kg=",0.42992999999999998,"Btu/lb",null,null,null,null,null,null,{"$f":"X5+1","v":3},0.02,{"$f":"Z5+0.01","v":0.03},"À serpentin"]
["Puissance maximale de production de vapeur  de la chaudière",{"$f":"'Entrée de données'!C29","v":0},"kW","Donnée d'entrée",null,null,null,null,null,null,null,null,null,null,"1 Btu =",1.0549999999999999E-3,"MJ",null,null,null,null,null,null,{"$f":"X6+1","v":4},0.03,0.04,"Sans tube"]
["Puissance maximale de production de vapeur  de la chaudière ",{"$f":"ROUND(B7*P4/1000000,2)","v":0},"millions Btu/h","Simple calcul de conversion des kw en btu/h",null,null,null,null,null,null,null,null,null,null,"1 MJ = ",{"$f":"1/P7","v":947.8672985781991},"Btu",null,null,null,null,null,null,{"$f":"X7+1","v":5},0.04,0.05]
["Puissance moyenne de production de vapeur  de la chaudière en opération ",{"$f":"'Entrée de données'!C32","v":0},"kW","Donnée d'entrée","ATTENTION: Ce n'est pas juste pour la vapeur dispo. C'est aussi de l'énergie qui sera perdu par les purges. ",null,null,null,null,null,null,null,null,null,"1 lb =",0.45359237000000002,"kg",null,null,null,null,null,null,6,0.05,6.0000000000000005E-2]
["Puissance moyenne de production de vapeur  de la chaudière en opération ",{"$f":"ROUND(B9*P4/1000000,2)","v":0},"millions Btu/h","Données entrée converti en btu/h",null,null,null,null,null,null,null,null,null,null,"1 kg =",{"$f":"1/P9","v":2.2046226218487757},"lb",null,null,null,null,null,null,7,0.06,7.0000000000000007E-2]
[null,null,null,null,null,null,null,null,null,null,null,null,null,null,null,null,null,null,null,null,null,null,null,8,7.0000000000000007E-2,0.08]
["INFO POUR CALCUL DE L'EFFICACITÉ",null,null,null,null,null,null,null,null,null,null,null,null,null,null,null,null,null,null,null,null,null,null,9,0.08,0.09]
["Excès d'air",{"$f":"VLOOKUP(Z2,X4:Z105,3)","v":0.3000000000000001},null,"Donnée d'entrée",null,null,null,null,null,null,null,null,null,null,null,null,null,null,null,null,null,null,null,10,0.09,9.9999999999999992E-2]
["Température des fumées (°F)",{"$f":"ROUND(('Entrée de données'!C34)*1.8+32,1)","v":392},"°F","Donnée entrée convertie en °F au lieu de °C",null,null,null,null,null,null,null,null,null,null,null,null,null,null,"Pertes par radiation et convection",null,null,null,null,11,0.1,0.10999999999999999]
["Température de l'air de combustion (°F)",{"$f":"ROUND(('Entrée de données'!C35*1.8+32),1)","v":68},"°F","Donnée entrée convertie en °F au lieu de °C",null,null,null,null,null,null,null,null,null,null,null,null,null,null,"Puissance maximale  kW","Puissance maximale millions Btu/h","% de Pertes","à 100% de la charge",null,12,0.11,0.11999999999999998]
["Température de l'eau d'appoint (°C)",{"$f":"'Entrée de données'!C48","v":0},"°C","Donnée d'entrée",null,null,null,null,null,null,null,null,null,null,null,null,null,null,null,null,null,null,null,13,0.12,0.12999999999999998]
[null,null,null,null,null,null,null,null,null,null,null,null,null,null,null,null,null,"Inférieure à 5 millions Btu/h","Inférieure à 1465",{"$f":"IF(B8<5,B8, \"\")","v":0},{"$f":"IF($B$8<5,$V$88/($B$10/#REF!),\"\")","v":{"$error":"#REF!"}},{"$f":"IF($B$8<5,$V$89,\"\")","v":0},null,14,0.13,0.13999999999999999]
["CALCUL DE L'EFFICACITÉ DE CHAUFFE : 100%-perte fumée - perte radiation",null,null,null,null,null,null,null,null,null,null,null,null,null,null,null,null,null,{"$f":"T18*$P$5*1000000","v":1465.35},5,{"$f":"V18/($B$10/T18)","v":{"$error":"#DIV/0!"}},2.5999999999999999E-2,null,15,0.14000000000000001,0.15]
["1. Perte par les fumée",{"$f":"1-Comb_1!G2","v":0.17243290039051917},null,null,null,null,null,null,null,null,null,null,null,null,null,null,null,null,{"$f":"T19*$P$5*1000000","v":2930.7},10,{"$error":"#DIV/0!"},1.6E-2,null,16,0.15,0.16]
["2. Perte par radiation:",null,null,null,null,null,null,null,null,null,null,null,null,null,null,null,null,null,5861.4,20,{"$error":"#DIV/0!"},1.0500000000000001E-2,null,17,0.16,0.17]
["Pertes par radiation et convection",null,null,"Interpolation des pertes par radiation et convection",null,null,null,"Puissance (millions Btuh)","Pertes à 100%",null,null,null,null,null,null,null,null,null,8792.0999999999985,30,{"$error":"#DIV/0!"},8.3999999999999995E-3,null,18,0.17,0.18000000000000002]
["Pertes calculées pour une chaudière de ",{"$f":"IF(B8<T18,T17,B8)","v":0},"millions Btu/h","Puissance en dessous",null,null,null,{"$f":"IF(B8<5,B8,LOOKUP(B8,T18:T42))","v":0},{"$f":"ROUND(IF(H22<5,V17, VLOOKUP(H24,T18:V42,3,TRUE)),4)","v":0},null,null,null,null,null,null,null,null,null,11722.8,40,{"$error":"#DIV/0!"},7.3000000000000001E-3,null,19,0.18,0.19000000000000003]
[null,{"$f":"I24/(B9/B7)","v":{"$error":"#DIV/0!"}},null,"Puissance au dessus",null,null,null,{"$f":"IF(B8<T18,B8,INDEX(T18:T42,RANK(LOOKUP(B8,T18:T42),T18:T42,1)+1))","v":0},{"$f":"ROUND(IF(H23<5,V17, VLOOKUP(H23,T18:V42,3,TRUE)),4)","v":0},null,null,null,null,null,null,null,null,null,14653.5,50,{"$error":"#DIV/0!"},6.6E-3,null,20,0.19,0.20000000000000004]
[null,null,null,"Valeur pour interpolation",null,null,null,{"$f":"B8","v":0},{"$f":"ROUND(IF(H22=H23,AVERAGE(I22,I23),FORECAST(H24,I22:I23,H22:H23)),4)","v":0},null,null,null,null,null,null,null,null,null,17584.199999999997,60,{"$error":"#DIV/0!"},6.1999999999999998E-3,null,21,0.2,0.21000000000000005]
[null,null,null,null,null,null,null,null,null,null,null,null,null,null,null,null,null,null,20514.899999999998,70,{"$error":"#DIV/0!"},5.8999999999999999E-3,null,22,0.21,0.22000000000000006]
["Efficacité de chauffe",{"$f":"1-B19-B23","v":{"$error":"#DIV/0!"}},null,null,null,null,null,null,null,null,null,null,null,null,null,null,null,null,23445.599999999999,80,{"$error":"#DIV/0!"},5.5999999999999999E-3,null,23,0.22,0.23000000000000007]
[null,null,null,null,null,null,null,null,null,null,null,null,null,null,null,null,null,null,26376.3,90,{"$error":"#DIV/0!"},5.4000000000000003E-3,null,24,0.23,0.24000000000000007]
["INPUT",null,null,null,null,null,null,null,null,null,null,null,null,null,null,null,null,null,29307,100,{"$error":"#DIV/0!"},5.1999999999999998E-3,null,25,0.24,0.25000000000000006]
["Puissance du brûleur en opération ",{"$f":"B30*1000000*P5","v":{"$error":"#DIV/0!"}},"kW","Convertion de B30 en kw",null,null,null,null,null,null,null,null,null,null,null,null,null,null,35168.399999999994,120,{"$error":"#DIV/0!"},4.7999999999999996E-3,null,26,0.25,0.26000000000000006]
["Puissance du brûleur en opération ",{"$f":"B10/B26","v":{"$error":"#DIV/0!"}},"millions Btu/h","Puissance moyenne production vapeur / efficacité",null,null,null,null,null,null,null,null,null,null,null,null,null,null,41029.799999999996,140,{"$error":"#DIV/0!"},4.4999999999999997E-3,null,27,0.26,0.27000000000000007]
["Volume de gaz naturel alimenté ",{"$f":"ROUND(B30*10^6/J37,2)","v":{"$error":"#DIV/0!"}},"m3/h","Convertion de la puissance en opération du bruleur de kw en m3 de gaz",null,null,null,null,null,null,null,null,null,null,null,null,null,null,46891.199999999997,160,{"$error":"#DIV/0!"},4.3E-3,null,28,0.27,0.28000000000000008]
["Nombre de moles totales pour le volume de gaz",{"$f":"ROUND(B31/(8.31451*(273.15+'Entrée de données'!C37)/101325),1)","v":{"$error":"#DIV/0!"}},"mol/h","PV=nRT => n=PV/RT",null,null,null,null,null,null,null,null,null,null,null,null,null,null,52752.6,180,{"$error":"#DIV/0!"},4.0000000000000001E-3,null,29,0.28000000000000003,0.29000000000000009]
[null,null,null,null,null,null,null,null,null,null,null,null,null,null,null,null,null,null,58614,200,{"$error":"#DIV/0!"},3.8E-3,null,30,0.28999999999999998,0.3000000000000001]
["Quantité de fumées produites",null,null,null,null,null,null,null,null,null,null,null,null,null,null,null,null,null,87921,300,{"$error":"#DIV/0!"},3.3999999999999998E-3,null,31,0.3,0.31000000000000011]
[null,"masse molaire (g/mol)","mol","masse(lb/h)","masse (kg/h)",null,"Masse d'hydrogène dans une livre de combustible (lb/lb)",null,null,{"$f":"Comb_1!Q50","v":0.23688428965217811},null,null,null,null,null,null,null,null,117228,400,{"$error":"#DIV/0!"},3.0000000000000001E-3,null,32,0.31,0.32000000000000012]
["CO2",{"$f":"Comb_1!C12","v":44.011000000000003},{"$f":"Comb_1!L82*B32","v":{"$error":"#DIV/0!"}},{"$f":"ROUND(C36*B36/($P$9*1000),1)","v":{"$error":"#DIV/0!"}},{"$f":"ROUND(C36*B36/1000,1)","v":{"$error":"#DIV/0!"}},null,"1m3 gaz naturel (MJ)",null,null,37.89,null,null,null,null,null,null,null,null,146535,500,{"$error":"#DIV/0!"},2.8E-3,null,33,0.32,0.33000000000000013]
["H2O",{"$f":"Comb_1!C14","v":18.015000000000001},{"$f":"Comb_1!L86*B32","v":{"$error":"#DIV/0!"}},{"$f":"ROUND(C37*B37/($P$9*1000),1)","v":{"$error":"#DIV/0!"}},{"$f":"ROUND(C37*B37/1000,1)","v":{"$error":"#DIV/0!"}},null,"1m3 gaz naturel (btu)",null,null,{"$f":"J36*P8","v":35914.691943127968},null,null,null,null,null,null,null,null,293070,1000,{"$error":"#DIV/0!"},2.3E-3,null,34,0.33,0.34000000000000014]
["O2",{"$f":"Comb_1!C10","v":32},{"$f":"Comb_1!L84*Bilan_1!B32","v":{"$error":"#DIV/0!"}},{"$error":"#DIV/0!"},{"$error":"#DIV/0!"},null,null,null,null,null,null,null,null,null,null,null,null,null,586140,2000,{"$error":"#DIV/0!"},1.9499999999999999E-3,null,35,0.34,0.35000000000000014]
["N2",{"$f":"Comb_1!C26","v":28.013000000000002},{"$f":"Comb_1!L81*B32","v":{"$error":"#DIV/0!"}},{"$error":"#DIV/0!"},{"$error":"#DIV/0!"},null,null,null,null,null,null,null,null,null,null,null,null,null,1172280,4000,{"$error":"#DIV/0!"},1.75E-3,null,36,0.35,0.36000000000000015]
["Total (humide)",null,{"$f":"SUM(C36:C39)","v":{"$error":"#DIV/0!"}},{"$f":"SUM(D36:D39)","v":{"$error":"#DIV/0!"}},{"$f":"SUM(E36:E39)","v":{"$error":"#DIV/0!"}},null,null,null,null,null,null,null,null,null,null,null,null,null,1758419.9999999998,6000,{"$error":"#DIV/0!"},1.6000000000000001E-3,null,37,0.36,0.37000000000000016]
["Total (sec)",null,{"$f":"SUM(C36,C38:C39)","v":{"$error":"#DIV/0!"}},{"$f":"D40-D37","v":{"$error":"#DIV/0!"}},{"$f":"SUM(E36,E38:E39)","v":{"$error":"#DIV/0!"}},null,null,null,null,null,null,null,null,null,null,null,null,null,2930700,10000,{"$error":"#DIV/0!"},1.5E-3,null,38,0.37,0.38000000000000017]
[null,null,null,null,null,null,null,null,null,null,null,null,null,null,null,null,null,null,5861400,20000,{"$error":"#DIV/0!"},1.5E-3,null,39,0.38,0.39000000000000018]
["CONDENSAT",null,null,null,null,null,null,null,null,null,null,null,null,null,null,null,null,null,null,null,null,null,null,40,0.39,0.40000000000000019]
["Enthalpie de l'eau d'appoint (kJ/kg)",{"$f":"ROUND(4.18*(B16),3)","v":0},"kJ/kg","Cp*DT",null,null,null,null,null,null,null,null,null,null,null,null,null,null,null,null,null,null,null,41,0.4,0.4100000000000002]
["Température du condensat (°C)",{"$f":"IF(('Entrée de données'!C49=2),\"0\",('Entrée de données'!C51))","v":0},"°C  ","Donnée d'entrée",null,null,null,null,null,null,null,null,null,null,null,null,null,null,null,null,null,null,null,42,0.41,0.42000000000000021]
["Enthalpie du condensat (kJ/kg)",{"$f":"IF('Entrée de données'!C49=2,\"0\",4.18*(B45))","v":0},"kJ/kg ","Cp*DT",null,null,null,null,null,null,null,null,null,null,null,null,null,null,null,null,null,null,null,43,0.42,0.43000000000000022]
["% de condensat dans l'eau d'alimentation",{"$f":"IF('Entrée de données'!C49=1,'Entrée de données'!C50,0)","v":0},null,"Donnée d'entrée",null,null,null,null,null,null,null,null,null,null,null,null,null,null,null,null,null,null,null,44,0.43,0.44000000000000022]
["T°de l'eau alimentée à la chaudière (°C)",{"$f":"IF('Entrée de données'!C49=1,(B47*B45+(1-B47)*B16),B16)","v":0},"°C ","si retour de condensat: [% condensat * T° du condensat] + [(1-% condensat) * T°de l'eau d'appoint]. Sinon, c'est égale à la T° d'eau d'appoint",null,null,null,null,null,null,null,null,null,null,null,null,null,null,null,null,null,null,null,45,0.44,0.45000000000000023]
[null,null,null,null,null,null,null,null,null,null,null,null,null,null,null,null,null,null,null,null,null,null,null,46,0.45,0.46000000000000024]
[null,null,null,"Interpolation des enthalpies",null,null,null,null,"Pression (kPa)","Liquide saturé (kJ/kg)","Enthalpie de vaporisation  (kJ/kg)","Vapeur saturée (kJ/kg)",null,null,null,null,null,null,null,null,null,null,null,47,0.46,0.47000000000000025]
[null,null,null,"Pression en dessous de la valeur entrée par l'utilisateur",null,null,null,null,{"$f":"LOOKUP(B56,'Données vapeur'!A5:A60)","v":-1.325},{"$f":"VLOOKUP(I51,'Données vapeur'!A5:E60,3,FALSE)","v":417.46},{"$f":"VLOOKUP(I51,'Données vapeur'!A5:E60,4,FALSE)","v":2258},{"$f":"VLOOKUP(I51,'Données vapeur'!A5:E60,5,FALSE)","v":2675.46},null,null,null,null,null,null,null,null,null,null,null,48,0.47,0.48000000000000026]
[null,null,null,"Pression au dessus de la valeur entrée par l'utilisateur",null,null,null,null,{"$f":"IF((I51-B56)=0,B56,INDEX('Données vapeur'!A5:A60,RANK(LOOKUP(Bilan_1!B56,'Données vapeur'!A5:A60),'Données vapeur'!A5:A60,1)+1))","v":23.675000000000001},{"$f":"VLOOKUP(I52,'Données vapeur'!A5:E60,3,FALSE)","v":444.32},{"$f":"VLOOKUP(I52,'Données vapeur'!A5:E60,4,FALSE)","v":2241},{"$f":"VLOOKUP(I52,'Données vapeur'!A5:E60,5,FALSE)","v":2685.32},null,null,null,null,null,null,null,null,null,null,null,49,0.48,0.49000000000000027]
[null,null,null,"Valeur pour interpolation",null,null,null,null,{"$f":"B56","v":0},{"$f":"IF(I51=I52,J51,FORECAST(I53,J51:J52,I51:I52))","v":418.88357999999999},{"$f":"IF(I51=I52,K51,FORECAST(I53,K51:K52,I51:I52))","v":2257.0990000000002},{"$f":"IF(I51=I52,L51,FORECAST(I53,L51:L52,I51:I52))","v":2675.9825800000003},null,null,null,null,null,null,null,null,null,null,null,50,0.49,0.50000000000000022]
["ENTHALPIE",null,null,null,null,null,null,null,null,null,null,null,null,null,null,null,null,null,null,null,null,null,null,51,0.5,0.51000000000000023]
["Enthalpie de l'eau alimentée à la chaudière (kJ/kg)",{"$f":"ROUND(IF('Entrée de données'!C49=1,(B47*B46+(1-B47)*B44),B44),3)","v":0},"kJ/kg"," si retour de condensat:  [% condensat * DH du condensat] + [(1-% condensat) * DH de l'eau d'appoint]. \nSinon, c'est égale à la DH d'eau d'appoint",null,null,null,null,null,null,null,null,null,null,null,null,null,null,null,null,null,null,null,52,0.51,0.52000000000000024]
["Pression de la vapeur produite (kPa)",{"$f":"'Entrée de données'!C43","v":0},"kPa","Donnée d'entrée",null,null,null,null,"Interpolation de l'enthalpie surchauffée",null,null,null,"Pression (kPa) Données saturées","Vapeur surchauffée (kJ/kg)",null,null,null,null,null,null,null,null,null,53,0.52,0.53000000000000025]
["Degré de surchauffe",{"$f":"IF('Entrée de données'!C44=\"Non nécessaire\",0,'Entrée de données'!C45)","v":0},"°C","Donnée d'entrée",null,null,null,null,"Pression en dessous de la valeur entrée par l'utilisateur",null,null,null,{"$f":"LOOKUP(B56,'Données vapeur'!$H$6:$H$31)","v":-1.325},{"$f":"VLOOKUP(M57,'Données vapeur'!$H$6:$M$33,3,FALSE)","v":2679.1811850700001}]
["Enthalpie de la vapeur saturée/surchauffée (kJ/kg)",{"$f":"IF(B57=0,L53,N59)","v":2675.9825800000003},"kJ/kg","Recherche de h en fonction de la pression",null,null,null,null,"Pression au dessus de la valeur entrée par l'utilisateur",null,null,null,{"$f":"IF((M57-B56)=0,B56,INDEX('Données vapeur'!$H$6:$H$31,RANK(LOOKUP(B56,'Données vapeur'!$H$6:$H$31),'Données vapeur'!$H$6:$H$31,1)+1))","v":98.674999999999997},{"$f":"VLOOKUP(M58,'Données vapeur'!$H$6:$M$33,3,FALSE)","v":2713.0964198699999},null,null,null,null,null,null,null,null,null,{"$f":"X56+1","v":54},0.53,{"$f":"Z56+0.01","v":0.54000000000000026}]
["Enthalpie de l'eau saturée (purge) (kJ/kg)",{"$f":"J53","v":418.88357999999999},"kJ/kg",null,null,null,null,null,"Valeur pour interpolation",null,null,null,{"$f":"B56","v":0},{"$f":"IF(M57=M58,N57,FORECAST(M59,N57:N58,M57:M58))","v":2679.6305619311001},null,null,null,null,null,null,null,null,null,55,0.54,0.55000000000000027]
["Enthalpie de vaporisation (kJ/kg)",{"$f":"K53","v":2257.0990000000002},"kJ/kg",null,null,null,null,null,null,null,null,null,null,null,null,null,null,null,null,null,null,null,null,56,0.55000000000000004,0.56000000000000028]
["Purge - % de l'eau alimentée à la chaudière",{"$f":"VLOOKUP(Y2,X4:Y105,2)","v":0},null,"Donnée d'entrée",null,null,null,null,null,null,null,null,null,null,null,null,null,null,null,null,null,null,null,{"$f":"X60+1","v":57},0.56000000000000005,{"$f":"Z60+0.01","v":0.57000000000000028}]
[null,null,null,null,null,null,null,null,null,null,null,null,null,null,null,null,null,null,null,null,null,null,null,58,0.56999999999999995,0.58000000000000029]
[null,null,null,"Q vapeur produite = mvap*Dhvap + mpurge * DH purge",null,null,null,null,null,null,null,null,null,null,null,null,null,null,null,null,null,null,null,59,0.57999999999999996,0.5900000000000003]
[null,null,null,"Q vapeur produite = m_eau_alimenté *(1 - %Purge) * (hV,sat - hL)  + m_eau_alimenté * %Purge * (hL,sat - hL)",null,null,null,null,null,null,null,null,null,null,null,null,null,null,null,null,null,null,null,60,0.59,0.60000000000000031]
["Production de vapeur",null,null,"<=> m_eau_alimenté = Q vapeur produite / [(1-%Purge)*(hV,sat - hL) + %Purge *(hL,sat - hL)]",null,null,null,null,null,null,null,null,null,null,null,null,null,null,null,null,null,null,null,61,0.6,0.61000000000000032]
["Eau alimentée à la chaudière",null,null,null,null,null,null,null,null,null,null,null,null,null,null,null,null,null,null,null,null,null,null,62,0.61,0.62000000000000033]
["Quantité d'eau alimentée (lb/h)",{"$f":"ROUND(B68/P9,2)","v":0},"Convertion de la ligne du dessous de kg en lb",null,null,null,null,null,null,null,null,null,null,null,null,null,null,null,null,null,null,null,null,63,0.62,0.63000000000000034]
["Quantité d'eau alimentée (kg/h)",{"$f":"ROUND(B9*3600/((1-B61)*(B58-B55)+B61*(B59-B55)),2)","v":0},null,null,null,null,null,null,null,null,null,null,null,null,null,null,null,null,null,null,null,null,null,64,0.63,0.64000000000000035]
["Eau d'appoint (lb/h)",{"$f":"B67*(1-B47)","v":0}," = eau_alimenté*(1-%condensat)",null,null,null,null,null,null,null,null,null,null,null,null,null,null,null,null,null,null,null,null,65,0.64,0.65000000000000036]
["Eau d'appoint (kg/h)",{"$f":"B68*(1-B47)","v":0},"Convertion",null,null,null,null,null,null,null,null,null,null,null,null,null,null,null,null,null,null,null,null,66,0.65,0.66000000000000036]
["Retour de condensat (lb/h)",{"$f":"B67*B47","v":0}," = eau_alimenté * % condensat",null,null,null,null,null,null,null,null,null,null,null,null,null,null,null,null,null,null,null,null,67,0.66,{"$f":"Z70+0.01","v":0.67000000000000037}]
["Retour de condensat (kg/h)",{"$f":"B68*B47","v":0},"Convertion",null,null,null,null,null,null,null,null,null,null,null,null,null,null,null,null,null,null,null,null,{"$f":"X71+1","v":68},0.67,0.68000000000000038]
["Énergie dans l'eau alimentée (Btu/h)",{"$f":"ROUND(B74*P4,0)","v":0},"Convertion de la ligne du dessous de kW en Btu/h",null,null,null,null,null,null,null,null,null,null,null,null,null,null,null,null,null,null,null,null,69,0.68,0.69000000000000039]
["Énergie dans l'eau alimentée (kW)",{"$f":"ROUND(B68*B55/3600,0)","v":0},"masse d'eau alimenté *  entalpie de l'eau alimenté (à 20°C en générale)",null,null,null,null,null,null,null,null,null,null,null,null,null,null,null,null,null,null,null,null,{"$f":"X73+1","v":70},0.69,0.7000000000000004]
["PURGE",null,null,null,null,null,null,null,null,null,null,null,null,null,null,null,null,null,null,null,null,null,null,71,0.7,0.71000000000000041]
["Quantité d'eau prélevée (lb/h)",{"$f":"ROUND(B67*B61,2)","v":0},"eau alimenté *%purge",null,null,null,null,null,null,null,null,null,null,null,null,null,null,null,null,null,null,null,null,72,0.71,0.72000000000000042]
["Quantité d'eau (kg/h)",{"$f":"ROUND(B76*P9,2)","v":0},"Convertion",null,null,null,null,null,null,null,null,null,null,null,null,null,null,null,null,null,null,null,null,73,0.72,0.73000000000000043]
["Énergie perdue dans la purge (Btu/h)",{"$f":"ROUND(B79*P4,2)","v":0},"Convertion de la ligne du dessous de kW en Btu/h",null,null,null,null,null,null,null,null,null,null,null,null,null,null,null,null,null,null,null,null,74,0.73,0.74000000000000044]
["Énergie perdue dans la purge (kW)",{"$f":"ROUND(B77*(B59)/3600,2)","v":0},"m_eau_purge * entalpie de l'eau de la purge (soit l'enthalpie de l'eau saturée)",null,null,null,null,null,null,null,null,null,null,null,null,null,null,null,null,null,null,null,null,75,0.74,0.75000000000000044]
["Potentiel de récupération (Btu/h)",{"$f":"B78*0.9","v":0},"énergie perdue dans la purge * 90% de récupé",null,null,null,null,"90% de récupération",null,null,null,null,null,null,null,null,null,null,null,null,null,null,null,76,0.75,0.76000000000000045]
["Potentiel de récupération (KW)",{"$f":"B79*0.9","v":0},"Convertion",null,null,null,null,null,null,null,null,null,null,null,null,null,null,null,null,null,null,null,null,77,0.76,0.77000000000000046]
["% de l'énergie alimentée à la chaudière",{"$f":"ROUND(B78/(B30*1000000),4)","v":{"$error":"#DIV/0!"}},"Énergie perdue par la purge / puissance d'opération bruleur",null,null,null,null,"Équation 3.21.1 - Spirax Sarco",null,null,null,null,null,null,null,null,null,null,null,null,null,null,null,78,0.77,0.78000000000000047]
["Vapeur utile",null,null,null,null,null,null,null,null,null,null,null,null,null,null,null,null,null,null,null,null,null,null,79,0.78,0.79000000000000048]
["Quantité produite - incluant évent dégazeur(lb/h)",{"$f":"ROUND(B67-B76,2)","v":0},"quantité d'eau alimenté - quantité d'eau prélevé (soit le % de purge)",null,null,null,null,null,null,null,null,null,null,null,null,null,null,null,null,null,null,null,null,80,0.79,0.80000000000000049]
["Quantité produite - incluant évent dégazeur(kg/h)",{"$f":"ROUND(B68-B77,2)","v":0},"Convertion",null,null,null,null,null,null,null,null,null,null,null,null,null,null,null,null,null,null,null,null,81,0.8,0.8100000000000005]
["Quantité disponible pour les utilisateurs (lb/h)",{"$f":"B84-B102","v":0},"Les quantités perdues à l'évent du désaérateur sont soustraites",null,null,"Valeur qui restera fixe pour tout le calculateur",null,null,null,null,null,null,null,null,null,null,null,null,null,null,null,null,null,82,0.81,0.82000000000000051]
["Quantité disponible pour les utilisateurs (kg/h)",{"$f":"B85-B103","v":0},"Convertion",null,null,"Valeur qui restera fixe pour tout le calculateur",null,null,null,null,null,null,null,null,null,null,null,null,null,null,null,null,null,83,0.82,0.83000000000000052]
["Énergie dans la vapeur utile (Btu/h)",{"$f":"ROUND(B89*P4,2)","v":0},"Convertion de la ligne du dessous de kW en Btu/h",null,null,"Valeur qui restera fixe pour tout le calculateur",null,null,null,null,null,null,null,null,null,null,null,null,null,null,null,null,null,84,0.83,0.84000000000000052]
["Énergie dans la vapeur utile (kW)",{"$f":"ROUND(B87*B58/3600,0)","v":0},"quantité dispo de vap *entalpie de la vapeur",null,null,"Valeur qui restera fixe pour tout le calculateur",null,null,null,null,null,null,null,null,null,null,null,null,null,null,null,null,null,85,0.84,0.85000000000000053]
[]
["DEGAZEUR de la centrale!"," Un dégazeur est un dispositif destiné à éliminer l'oxygène ou d'autres gaz dissous dans l'eau remplissant les circuits des chaudières",null,null,null,null,null,null,null,null,null,null,null,null,null,null,null,null,null,null,null,null,null,{"$f":"X89+1","v":86},0.85,{"$f":"Z89+0.01","v":0.86000000000000054}]
["Pression d'opération du dégazeur (kPa)",{"$f":"('Entrée de données'!C56+14.73)*101.235/14.696","v":101.46921271094176},null,null,null,null,null,null,null,null,null,null,null,null,null,null,null,null,null,null,null,null,null,87,0.86,0.87000000000000055]
["Enthalpie de l'eau à la pression du dégazeur (kJ/kg)",{"$f":"L96","v":506.49053150517148},null,null,null,null,null,null,"Interpolation des enthalpies",null,"Pression (kPa)","Liquide saturé (kJ/kg)","Enthalpie de vaporisation  (kJ/kg)","Vapeur saturée (kJ/kg)",null,null,null,null,null,null,null,null,null,88,0.87,0.88000000000000056]
["Apport total en vapeur au dégazeur  (lb/h)",{"$f":"ROUND(B95*P10,2)","v":0},"Convertion de la ligne du dessous de kg en lb",null,null,null,"Inclus les pertes par l'évent",null,"Pression en dessous de la valeur entrée par l'utilisateur",null,{"$f":"LOOKUP(B92,'Données vapeur'!A5:A60)","v":98.674999999999997},{"$f":"VLOOKUP(K94,'Données vapeur'!$A$5:$E$60,3,FALSE)","v":504.7},{"$f":"VLOOKUP(K94,'Données vapeur'!$A$5:$E$60,4,FALSE)","v":2201.9},{"$f":"VLOOKUP(K94,'Données vapeur'!$A$5:$E$60,5,FALSE)","v":2706.6},null,null,null,null,null,null,null,null,null,89,0.88,0.89000000000000057]
["Apport total en vapeur au dégazeur (kg/h)",{"$f":"IF('Entrée de données'!C55=2,0,SUM(I113:I116))","v":0},"m_eau alim *  [( h_dégazeur - heau_alim ) / (hv,sat - h_dégazeur)  ]  /(1-%perte) /!\\ Si c'est de la vapeur surchauffé, il faut utiliser hv_surchauffe au lieu de hv,sat",null,null,null,"Inclus les pertes par l'évent",null,"Pression au dessus de la valeur entrée par l'utilisateur",null,{"$f":"IF((K94-B92)=0,B92,INDEX('Données vapeur'!A5:A60,RANK(LOOKUP(Bilan_1!B92,'Données vapeur'!A5:A60),'Données vapeur'!A5:A60,1)+1))","v":123.675},{"$f":"VLOOKUP(K95,'Données vapeur'!$A$5:$E$60,3,FALSE)","v":520.72},{"$f":"VLOOKUP(K95,'Données vapeur'!$A$5:$E$60,4,FALSE)","v":2191.3000000000002},{"$f":"VLOOKUP(K95,'Données vapeur'!$A$5:$E$60,5,FALSE)","v":2712.0200000000004},null,null,null,null,null,null,null,null,null,90,0.89,0.90000000000000058]
["% Pertes par l'évent (% de la vapeur alimentée)",9.5000000000000001E-2,"Moyenne des données de l'USDOE",null,null,null,null,null,"Valeur pour interpolation",null,{"$f":"B92","v":101.46921271094176},{"$f":"IF(K94=K95,L94,FORECAST(K96,L94:L95,K94:K95))","v":506.49053150517148},{"$f":"IF(K94=K95,M94,FORECAST(K96,M94:M95,K94:K95))","v":2200.7152538105606},{"$f":"IF(K94=K95,N94,FORECAST(K96,N94:N95,K94:K95))","v":2707.2057853157321},null,null,null,null,null,null,null,null,null,91,0.9,0.91000000000000059]
["Pertes total de vapeur par l'évent (lb/h)",{"$f":"B98*P10","v":0},"Convertion",null,null,null,null,null,null,null,null,null,null,null,null,null,null,null,null,null,null,null,null,{"$f":"#REF!+1","v":{"$error":"#REF!"}},0.94,{"$f":"#REF!+0.01","v":{"$error":"#REF!"}}]
["Pertes de vapeur par l'évent (kg/h)",{"$f":"ROUND(B95*B96,2)","v":0},"Total apport en vapeur *%perte",null,null,null,null,null,null,null,null,null,null,null,null,null,null,null,null,null,null,null,null,{"$error":"#REF!"},0.95,{"$error":"#REF!"}]
["Perte de vapeur par l'évent (kW)",{"$f":"B98*B58/3600","v":0}]
["Apport total  en vapeur de la chaudière 1 (lb/h)",{"$f":"B101*P10","v":0}]
["Apport total en vapeur de la chaudière 1 (kg/h)",{"$f":"IF('Entrée de données'!C55=2,0,IF('Entrée de données'!F21=1,J113,IF('Entrée de données'!F21=2,J114,IF('Entrée de données'!F21=3,J115,IF('Entrée de données'!F21=4,J116,0)))))","v":0}]
["Perte de vapeur par l'évent pour la chaudière 1 (lb/h)",{"$f":"B100*B96","v":0},null,null,null,null,null,null,null,null,null,null,null,null,null,null,null,null,null,null,null,null,null,{"$f":"X98+1","v":{"$error":"#REF!"}},0.96,{"$f":"Z98+0.01","v":{"$error":"#REF!"}}]
["Perte de vapeur par l'évent pour la chaudière (kg/h)",{"$f":"B101*B96","v":0},null,null,null,null,null,null,null,null,null,null,null,null,null,null,null,null,null,null,null,null,null,{"$error":"#REF!"},0.97,{"$error":"#REF!"}]
["Pertes de vapeur par l'évent pour la chaudière 1 (%)",{"$f":"(B103*B58/3600)/B29","v":{"$error":"#DIV/0!"}},"Énergie perdue par event / puissance du bruleur en op  = masse de vapeur perdue par l'évent * hv,sat / puissance du bruleur en op",null,null,null,null,null,null,null,null,null,null,null,null,null,null,null,null,null,null,null,null,{"$error":"#REF!"},0.98,{"$error":"#REF!"}]
["Besoins en vapeur du dégazeur en % de la vapeur produite pour la chaudière 1",{"$f":"B101/B85","v":{"$error":"#DIV/0!"}},"Besoin en vap / quantité de vapeur utile produite",null,null,null,null,null,"Ch1","Ch2","Ch3","Ch4","TOTAL",null,null,null,null,null,null,null,null,null,null,{"$error":"#REF!"},0.99,{"$error":"#REF!"}]
[null,null,null,null,null,null,null,"m_eau_alim (kg/h)",{"$f":"B68","v":0},{"$f":"IF('Entrée de données'!F21<2,0,Bilan_2!B68)","v":0},{"$f":"IF('Entrée de données'!F21<3,0,Bilan_3!B68)","v":0},{"$f":"IF('Entrée de données'!F21<4,0,Bilan_4!B68)","v":0},{"$f":"SUM(I106:L106)","v":0}]
[null,null,null,null,null,null,null,"h_eau_alim (kJ/kg)",{"$f":"B55","v":0},{"$f":"IF('Entrée de données'!F21<2,0,Bilan_2!B55)","v":0},{"$f":"IF('Entrée de données'!F21<3,0,Bilan_3!B55)","v":0},{"$f":"IF('Entrée de données'!F21<4,0,Bilan_4!B55)","v":0}]
[null,null,null,null,null,null,null,"h_vapeur (kJ/kg)",{"$f":"B58","v":2675.9825800000003},{"$f":"IF('Entrée de données'!F21<2,0,Bilan_2!B58)","v":0},{"$f":"IF('Entrée de données'!F21<3,0,Bilan_3!B58)","v":0},{"$f":"IF('Entrée de données'!F21<4,0,Bilan_4!B58)","v":0}]
[]
["Vapeur disponible pour les utilisateurs",null,null,null,null,null,null,"Apport total  en vapeur pour le dégazeur:"]
["Quantité de vapeur disponible (lb/h)",{"$f":"B86","v":0},null,null,null,null,null,null,"Pour le dégazeur (kg/h)","Apport par chaudière (kg/h)"]
["Quantité de vapeur disponible (kg/h)",{"$f":"B87","v":0},null,"exclus les pertes par l'évent",null,null,null,null,null,"ch1","ch2","ch3","ch4"]
[null,null,null,null,null,null,null,"si une seule chaudière",{"$f":"IF('Entrée de données'!F21=1,(Bilan_1!I106*(Bilan_1!B93-Bilan_1!B55)/(Bilan_1!I108-Bilan_1!B93))/(1-B96),0)","v":0},{"$f":"IF('Entrée de données'!F21=1,B95,0)","v":0}]
[null,null,null,null,null,null,null,"si 2 chaudières",{"$f":"IF('Entrée de données'!F21=2,(2*(I106*(B93-I107)+J106*(B93-J107))/((I108-B93)+(J108-B93)))/(1-B96),0)","v":0},{"$f":"IF('Entrée de données'!F21=2,B95/2,0)","v":0},{"$f":"IF('Entrée de données'!F21=2,B95/2,0)","v":0}]
[null,null,null,null,null,null,null,"si 3 chaudières",{"$f":"IF('Entrée de données'!F21=3,(3*(I106*(B93-I107)+J106*(B93-J107)+K106*(B93-K107))/((I108-B93)+(J108-B93)+(K108-B93)))/(1-B96),0)","v":0},{"$f":"IF('Entrée de données'!F21=3,B95/3,0)","v":0},{"$f":"IF('Entrée de données'!F21=3,B95/3,0)","v":0},{"$f":"IF('Entrée de données'!F21=3,B95/3,0)","v":0}]
["Efficacité de génération de vapeur utile",{"$f":"ROUND((B112/3600)*(B58-B55)/B29,5)","v":{"$error":"#DIV/0!"}},null,null,null,null,null,"si 4 chaudières",{"$f":"IF('Entrée de données'!F21=4,(4*(I106*(B93-I107)+J106*(B93-J107)+K106*(B93-K107)+L106*(B93-L107))/((I108-B93)+(J108-B93)+(K108-B93)+(L108-B93)))/(1-B96),0)","v":0},{"$f":"IF('Entrée de données'!F21=4,B95/4,0)","v":0},{"$f":"IF('Entrée de données'!F21=4,B95/4,0)","v":0},{"$f":"IF('Entrée de données'!F21=4,B95/4,0)","v":0},{"$f":"IF('Entrée de données'!F21=4,B95/4,0)","v":0}]
["Consommation de gaz naturel par kg/h de vapeur, en m3/(kg/h)",{"$f":"ROUND(B31/B112,5)","v":{"$error":"#DIV/0!"}},"m3 de gaz alimenté / masse de vapeur utile produite"]
[]
[]
[null,{"$f":"ROUND((B112)*(B58-B55)/(0.03789*B31*1000000),5)","v":{"$error":"#DIV/0!"}}]
[null,{"$f":"0.03789*B31*1000000/3600","v":{"$error":"#DIV/0!"}},null,"Efficacité = énergie dispo dans vapeur / puissance du bruleur en oper"]
[null,null,null,"Efficacité = masse vapeur dispo * DH / puissance du bruleur en oper"]
[null,null,null,"Efficacité = masse vapeur dispo * (hV,sat - hL) / puissance du bruleur en oper"]

{"sheet":"Comb_1 (micro)","index":15,"n_rows":215,"n_cols":23,"rows_kept":215,"cut":false,"hidden":true,"merged":[[192,7,192,9],[198,7,198,9],[204,7,204,9],[210,7,210,9],[49,3,49,8],[73,0,73,6],[73,8,73,13],[74,3,74,6],[74,11,74,13],[75,12,75,13],[6,3,6,4],[6,5,6,8],[7,5,7,8],[29,9,29,11],[47,0,47,9],[47,11,47,18],[4,9,4,11],[4,12,4,20],[5,9,5,11],[5,12,5,14],[5,15,5,17],[5,18,5,20]]}
[]
[null,null,null,null,"EFFICACITE","%",{"$f":"1-(G4/(G5+ABS(L28)))","v":0.81946551648622823},null,"Valeur cible d'eff:"]
[null,null,null,null,null,null,null,null,{"$f":"'Entrée de données'!C87","v":0}]
[null,null,null,null,"Hout","J / mol gaz",{"$f":"U28","v":159645.57307219971}]
["BILAN THERMIQUE",null,null,null,"Hin","J / mol gaz",{"$f":"O28+R28","v":-1321.2289175442938},null,null,"PROPRIÉTÉ DU GAZ",null,null,"CALCUL ÉNERGIE"]
[null,null,null,null,null,null,null,null,null,"GAZ ****",null,null,"GAZ",null,null,"AIR",null,null,"FUMEE"]
[null,null,"Masse","* Enthalpie (J / mol)",null,"* Chaleur Spécifique (J / mol oC)",null,null,null,"M","Densité","PCS ou","T (oC) =",{"$f":"'Entrée de données'!C37","v":20},null,"T (oC) =",{"$f":"'Entrée de données'!C35","v":20},null,"T (oC) =",238.02101222962872,{"$f":"ROUND(T7*1.8+32,1)","v":460.4}]
[null,null,"Molaire","Formation","Combustion","Cp = a + bTx102 + cT2105 + dT3*109",null,null,null,"Mélange","Mélange","HHV","Débit","Cpmoy","H","Débit","Cpmoy","H","Débit","Cpmoy","H"]
["État gazeux sauf si indication",null,"g / mol",null,null,"a","b","c","d","g / mol","kg / m3","J / mol gaz","mol / mol gaz","J / mol oC","J / mol gaz","mol / mol gaz","J / mol oC","J / mol gaz","mol / mol gaz","J / mol oC","J / mol gaz"]
["Oxygène","O2",32,0,0,29.1,1.1579999999999999,-0.60760000000000003,1.3109999999999999,{"$f":"M10*C10","v":0},{"$f":"(101325*(C10/1000))/(8.3144*288.7056)*M10","v":0},{"$f":"M10*E10","v":0},{"$f":"'Comb_1 (micro)'!C55/100","v":0},{"$f":"AVERAGE($F10+$G10/100*N$7+$H10/100000*N$7^2+$I10/1000000000*N$7^3,$F10+$G10/100*$B$29+$H10/100000*$B$29^2+$I10/1000000000*$B$29^3)","v":29.357451536187501},{"$f":"M10*N10*(N$7-$B$29)","v":0},{"$f":"'Comb_1 (micro)'!D92","v":2.2869268216373007},{"$f":"AVERAGE($F10+$G10/100*Q$7+$H10/100000*Q$7^2+$I10/1000000000*Q$7^3,$F10+$G10/100*$B$29+$H10/100000*$B$29^2+$I10/1000000000*$B$29^3)","v":29.357451536187501},{"$f":"P10*Q10*(Q$7-$B$29)","v":-335.69171666512182},{"$f":"'Comb_1 (micro)'!L84","v":0.29764682163730094},{"$f":"AVERAGE($F10+$G10/100*T$7+$H10/100000*T$7^2+$I10/1000000000*T$7^3,$F10+$G10/100*$B$29+$H10/100000*$B$29^2+$I10/1000000000*$B$29^3)","v":30.457727608686469},{"$f":"S10*T10*(T$7-$B$29)","v":1931.1730484569418}]
["Monoxide de carbone","CO",28.010999999999999,-110520,-282990,28.95,0.41099999999999998,0.3548,-2.2200000000000002,0,0,0,{"$f":"'Comb_1 (micro)'!C56/100","v":0},{"$f":"AVERAGE($F11+$G11/100*N$7+$H11/100000*N$7^2+$I11/1000000000*N$7^3,$F11+$G11/100*$B$29+$H11/100000*$B$29^2+$I11/1000000000*$B$29^3)","v":29.044267126249999},{"$f":"M11*N11*(N$7-$B$29)","v":0},null,{"$f":"AVERAGE($F11+$G11/100*Q$7+$H11/100000*Q$7^2+$I11/1000000000*Q$7^3,$F11+$G11/100*$B$29+$H11/100000*$B$29^2+$I11/1000000000*$B$29^3)","v":29.044267126249999},{"$f":"P11*Q11*(Q$7-$B$29)","v":0},null,29.577135610704467,{"$f":"S11*T11*(T$7-$B$29)","v":0}]
["Dioxide de carbone","CO2",44.011000000000003,-393500,0,36.11,4.2329999999999997,-2.887,7.4640000000000004,0.14963740000000003,6.3164148191036497E-3,0,{"$f":"'Comb_1 (micro)'!C57/100","v":3.4000000000000002E-3},37.0477172935,{"$f":"M12*N12*(N$7-$B$29)","v":-0.62981119398950003},null,37.0477172935,{"$f":"P12*Q12*(Q$7-$B$29)","v":0},{"$f":"'Comb_1 (micro)'!L82","v":1.00386},40.90040107262341,{"$f":"S12*T12*(T$7-$B$29)","v":8746.2756461591907}]
["Hydrogène","H2",2.016,0,-285840,28.84,7.6499999999999997E-3,0.32879999999999998,-0.86980000000000002,0,0,0,{"$f":"'Comb_1 (micro)'!C58/100","v":0},28.843396075487497,{"$f":"M13*N13*(N$7-$B$29)","v":0},null,28.843396075487497,{"$f":"P13*Q13*(Q$7-$B$29)","v":0},null,28.938355879919676,{"$f":"S13*T13*(T$7-$B$29)","v":0}]
["Eau (v)","H20 (v)",18.015000000000001,-241830,0,33.46,0.68799999999999994,0.76039999999999996,-3.593,0,0,0,{"$f":"'Comb_1 (micro)'!C59/100","v":0},33.618654607687503,{"$f":"M14*(V14+N14*(N$7-$B$29))","v":0},{"$f":"'Comb_1 (micro)'!D93","v":1.0939348676877604E-2},33.618654607687503,{"$f":"P14*(V14+Q14*(Q$7-$B$29))","v":442.91132888313081},{"$f":"'Comb_1 (micro)'!L86-S15","v":1.9885793486768779},34.558313457973213,{"$f":"((S14-G93)*$V$14)+(S14*T14*(T$7-$B$29))","v":95042.150864966447},40656,"Enthalpie vaporisation (J/mol)"]
["Eau (l)","H2O (l)",18.015000000000001,-285840,0,75.400000000000006,0,0,0,0,0,0,0,75.400000000000006,{"$f":"M15*N15*(N$7-$B$29)","v":0},null,75.400000000000006,{"$f":"P15*Q15*(Q$7-$B$29)","v":0},{"$f":"'Comb_1 (micro)'!L96","v":0},75.400000000000006,{"$f":"S15*T15*(T$7-$B$29)","v":0}]
["Sulfure d'hydrogène","H2S",34.076000000000001,-19960,-562590,33.51,1.5469999999999999,0.30120000000000002,-3.2919999999999998,0,0,0,{"$f":"'Comb_1 (micro)'!C60/100","v":0},33.859579763249997,0,null,33.859579763249997,0,null,35.608507936732842,0]
["Méthane","CH4",16.042999999999999,-74850,-890360,34.31,5.4690000000000003,0.36609999999999998,-11,15.32539661,0.64690753953252877,-850534.19720000005,{"$f":"'Comb_1 (micro)'!C61/100","v":0.95527000000000006},35.542271325000002,-169.76232764316379,null,35.542271325000002,0,null,41.532906219251281,0]
["Éthane","C2H6",30.07,-84670,-1559900,49.37,13.92,-5.8159999999999998,7.28,0.62064480000000011,2.6198330177613489E-2,-32196.336000000003,{"$f":"'Comb_1 (micro)'!C62/100","v":2.0640000000000002E-2},52.472278994999996,-5.4151391922840002,null,52.472278994999996,0,null,66.05973076877369,0]
["Propane","C3H8",44.097000000000001,-103800,-2220000,68.031999999999996,22.59,-13.11,31.71,5.1593490000000006E-2,2.1778371236420568E-3,-2597.4,{"$f":"'Comb_1 (micro)'!C63/100","v":1.17E-3},73.047935824375003,-0.42733042457259374,null,73.047935824375003,0,null,94.199634652601191,0]
["Butane","C4H10",58.124000000000002,-134500,-2868800,89.46,30.13,-18.91,49.87,0,0,0,{"$f":"'Comb_1 (micro)'!C64/100","v":0},96.142925339374983,0,null,96.142925339374983,0,null,124.00501999716285,0]
["** i-Butane","C4H10",58.124000000000002,{"$f":"D20","v":-134500},{"$f":"E20","v":-2868800},89.46,30.13,-18.91,49.87,2.9062000000000003E-3,1.2267497796192013E-4,-143.44,{"$f":"'Comb_1 (micro)'!C65/100","v":5.0000000000000002E-5},96.142925339374983,-2.4035731334843748E-2,null,96.142925339374983,0,null,124.00501999716285,0]
["n-Butane","C4H10",58.124000000000002,-124700,-2878500,92.3,27.88,-15.47,34.979999999999997,2.9062000000000003E-3,1.2267497796192013E-4,-143.92500000000001,{"$f":"'Comb_1 (micro)'!C66/100","v":5.0000000000000002E-5},98.494129451249989,-2.4623532362812499E-2,null,98.494129451249989,0,null,124.77072146449717,0]
["Pentane","C5H12",72.150000000000006,-152000,-35292000,114.8,34.090000000000003,-18.989999999999998,42.26,0,0,0,{"$f":"'Comb_1 (micro)'!C67/100","v":0},122.37342544625,0,null,122.37342544625,0,null,154.47855515779582,0]
["Octane","C8H18",114.23,-208400,-5512200,-5.8307000000000002,4.4541000000000004,-0.42080000000000001,1.2629999999999999,0,0,0,{"$f":"'Comb_1 (micro)'!C68/100","v":0},-4.8306691808125004,0,null,-4.8306691808125004,0,null,-8.5080022380834563E-2,0]
["*** iso-Octane","Ch8H18i",114.23,{"$f":"D24","v":-208400},{"$f":"E24","v":-5512200},-5.8307000000000002,4.4541000000000004,-0.42080000000000001,1.2629999999999999,0,0,0,{"$f":"'Comb_1 (micro)'!C69/100","v":0},-4.8306691808125004,0,null,-4.8306691808125004,0,null,-8.5080022380834563E-2,0]
["Azote","N2",28.013000000000002,0,0,29,0.21990000000000001,0.57230000000000003,-2.871,0.54401246000000003,2.2963566355209533E-2,0,{"$f":"'Comb_1 (micro)'!C70/100","v":1.942E-2},29.052376623812499,{"$f":"M26*N26*(N$7-$B$29)","v":-2.8209857701721934},{"$f":"'Comb_1 (micro)'!D91","v":8.6006338996060645},29.052376623812499,-1249.344276274423,{"$f":"'Comb_1 (micro)'!L81","v":8.6006338996060645},29.433715546157117,{"$f":"S26*T26*(T$7-$B$29)","v":53925.973512617122}]
["Hélium","He",4.0020600000000002,0,0,20.8,0,0,0,0,0,0,{"$f":"'Comb_1 (micro)'!C71/100","v":0},20.8,0,null,20.8,0,null,20.8,0]
[null,null,null,null,null,null,null,null,"SOMME",{"$f":"SUM(J10:J27)","v":16.697097160000002},{"$f":"SUM(K10:K27)","v":0.70480903796402139},{"$f":"SUM(L10:L27)","v":-885615.29820000008},{"$f":"SUM(M10:M27)","v":1},null,{"$f":"SUM(O10:O27)","v":-179.10425348787973},{"$f":"SUM(P10:P27)","v":10.898500069920242},null,{"$f":"SUM(R10:R27)","v":-1142.1246640564141},{"$f":"SUM(S10:S27)","v":11.890720069920244},null,{"$f":"SUM(U10:U27)","v":159645.57307219971}]
["* Référence. Patm, T =",25,"oC"]
["** Hyp. Même propriétés que Butane",null,null,null,null,null,null,null,null,"Pouvoir Calorifique Supérieur"]
["*** Hyp. Même que Octane",null,null,null,null,null,null,null,null,null,{"$f":"ABS(L28/1000)","v":885.6152982000001},"kJ / mol"]
["**** À Patm et T = 15.6 oC (14.7 psi et 60 F)",null,null,null,null,null,null,null,null,null,{"$f":"K31/(J28/1000)","v":53040.075751706296},"kJ / kg"]
[null,null,null,null,null,null,null,null,null,null,{"$f":"(K32/1000)*K28","v":37.38312476409893},"MJ / m3"]
["Référence"]
["Elementary Principles of Chemical Processes",null,null,null,null,null,null,null,null,null,{"$f":"(K33*1000)/1.055*0.02832","v":1003.4977187860492},"BTU / ft3"]
["Wiley Series in Chemical Engineering, Second Edition",null,null,null,null,null,null,null,null,null,{"$f":"(K32/1.055)*0.4536","v":22804.71882556775},"BTU / lbm"]
["R M Felder et R W Rousseau",null,null,null,null,null,null,null,null,null,{"$f":"K35/7.4814","v":134.13234405138732},"BTU / gal"]
[]
[]
[]
[]
[null,null,null,null,null,"Constitution de l'air sec"]
[null,null,null,null,"Azote",0.78995048751598307]
[null,null,null,null,"Oxygène",{"$f":"1-F43","v":0.21004951248401693}]
["BILAN MASSIQUE",null,null,null,"Autres",0]
[]
[]
["CALCUL DE LA COMBUSTION STOÉCHIOMÉTRIQUE",null,null,null,null,null,null,null,null,null,null,"Masse H2 par livre de combustible"]
[]
[null,null,"COMPOSITION","GAZ DE COMBUSTION STOÉCHIOMÉTRIQUE",null,null,null,null,null,null,null,null,"Masse d'hydrogène dans une livre de combustible (lb/lb)",null,null,null,{"$f":"(4*N53+6*N55+8*N56+10*N57+10*N58)/(N53*O53+N54*O54+N55*O55+N56*O56+N57*O57+N58*O58+N59*O59)","v":0.23688428965217811}]
[null,null,"(mol / 100 mol gaz)","CO2","H2O","SO2","He","N2","TOTAL","O2 requis"]
["GAZ (ÉTAT GAZEUX)",null,null,null,null,null,null,null,null,null,null,null,"Compo","% mol","masse molaire"]
[null,"TOTAL",{"$f":"SUM(C55:C71)","v":100},1.00386,1.9776400000000003,0,0,1.942E-2,3.0009200000000003,1.9892799999999999,null,null,"CH4",{"$f":"C61","v":95.527000000000001},{"$f":"C17","v":16.042999999999999}]
[null,null,null,null,null,null,null,null,null,null,null,null,"CO2",{"$f":"C57","v":0.34},{"$f":"C12","v":44.011000000000003}]
["Oxygène","O2",0,null,null,null,null,null,{"$f":"SUM(D55:H55)","v":0},{"$f":"-C55/100","v":0},null,null,"C2H6",{"$f":"C62","v":2.0640000000000001},{"$f":"C18","v":30.07}]
["Monoxide de carbone","CO",0,{"$f":"C56/100","v":0},null,null,null,null,0,{"$f":"D56+E56/2+F56","v":0},null,null,"C3H8",{"$f":"C63","v":0.11700000000000001},{"$f":"C19","v":44.097000000000001}]
["Dioxide de carbone","CO2",0.34,{"$f":"C57/100","v":3.4000000000000002E-3},null,null,null,null,3.4000000000000002E-3,0,null,null,"C4H10",{"$f":"C65","v":5.0000000000000001E-3},{"$f":"C21","v":58.124000000000002}]
["Hydrogène","H2",0,null,{"$f":"C58/100","v":0},null,null,null,0,{"$f":"D58+E58/2+F58","v":0},null,null,"C4H10",{"$f":"C66","v":5.0000000000000001E-3},{"$f":"C22","v":58.124000000000002}]
["Eau (l)","H2O (l)",0,null,{"$f":"C59/100","v":0},null,null,null,0,0,null,null,"N2",{"$f":"C70","v":1.9419999999999999},{"$f":"C26","v":28.013000000000002}]
["Sulfure d'hydrogène","H2S",0,null,{"$f":"C60/100","v":0},{"$f":"C60/100","v":0},null,null,0,0]
["Méthane","CH4",95.527000000000001,{"$f":"C61/100","v":0.95527000000000006},{"$f":"C61/100*2","v":1.9105400000000001},null,null,null,2.8658100000000002,1.9105400000000001]
["Éthane","C2H6",2.0640000000000001,{"$f":"C62*2/100","v":4.1280000000000004E-2},{"$f":"C62/100*3","v":6.1920000000000003E-2},null,null,null,0.10320000000000001,7.2239999999999999E-2]
["Propane","C3H8",0.11700000000000001,{"$f":"C63*3/100","v":3.5100000000000005E-3},{"$f":"C63/100*4","v":4.6800000000000001E-3},null,null,null,8.1900000000000011E-3,5.850000000000001E-3]
["Butane","C4H10",0,{"$f":"C64*4/100","v":0},{"$f":"C64/100*5","v":0},null,null,null,0,0]
["** i-Butane","C4H10",5.0000000000000001E-3,{"$f":"C65*4/100","v":2.0000000000000001E-4},{"$f":"C65/100*5","v":2.5000000000000001E-4},null,null,null,4.4999999999999999E-4,3.2499999999999999E-4]
["n-Butane","C4H10",5.0000000000000001E-3,{"$f":"C66*4/100","v":2.0000000000000001E-4},{"$f":"C66/100*5","v":2.5000000000000001E-4},null,null,null,4.4999999999999999E-4,3.2499999999999999E-4]
["Pentane","C5H12",0,{"$f":"C67*5/100","v":0},{"$f":"C67/100*6","v":0},null,null,null,0,0]
["Octane","C8H18",0,{"$f":"C68*8/100","v":0},{"$f":"C68/100*9","v":0},null,null,null,0,0]
["*** iso-Octane","Ch8H18i",0,{"$f":"C69*8/100","v":0},{"$f":"C69/100*9","v":0},null,null,null,0,0]
["Azote","N2",1.9419999999999999,null,null,null,null,{"$f":"C70/100","v":1.942E-2},1.942E-2,0]
["Hélium","He",0,null,null,null,{"$f":"C71/100","v":0},null,0,0]
[]
[]
["AIR DE COMBUSTION",null,null,null,null,null,null,null,"FUMÉES"]
[null,null,null,"MASSIQUE",null,null,null,null,null,null,null,"MASSIQUE"]
[null,null,null,"% O2","% EA","% CO2","RÉSULTATS",null,null,null,null,null,"Proportion (%)"]
[null,null,null,{"$f":"TRUE()","v":true},{"$f":"FALSE()","v":false},false,null,null,null,null,null,"(mol / mol gaz)","Base Hum","Base Sec"]
[null,null,null,{"$f":"IF(D77,1,\"-\")","v":1},{"$f":"IF(E77,2,\"-\")","v":"-"},{"$f":"IF(F77,3,\"-\")","v":"-"},{"$f":"AVERAGE(D78:F78)","v":1}]
["Calcul de l'excès d'air (base sèche)",null,null,{"$f":"D87/D84","v":0.14962540297861585},null,{"$f":"F86/F83","v":{"$error":"#DIV/0!"}},{"$f":"INDEX(D79:F79,G$78)","v":0.14962540297861585},null,"TOTAL",null,"mol / mol gas",{"$f":"SUM(L81:L86)","v":11.890720069920242},{"$f":"SUM(M81:M86)","v":1.0000000000000002},{"$f":"SUM(N81:N86)","v":1}]
["Oxygène dans les fumées (base sèche)",null,null,{"$f":"'Entrée de données'!C89","v":0.03},{"$f":"E86/(E83*($F$43/$F$44)+I53-E53+E86/$F$44)","v":0},{"$f":"F86/(F83*($F$43/$F$44)+I53-E53+F86/$F$44)","v":{"$error":"#DIV/0!"}},{"$f":"INDEX(D80:F80,G$78)","v":0.03}]
["Dioxide de carbone dans les fumées",null,null,{"$f":"$N$82","v":0.10137807856501053},{"$f":"N82","v":0.10137807856501053},null,{"$f":"INDEX(D81:F81,G$78)","v":0.10137807856501053},null,"Azote",null,"mol / mol gas",{"$f":"G91","v":8.6006338996060645},{"$f":"L81/$L$79","v":0.72330639768090632},{"$f":"L81/($L$79-$L$86)","v":0.86856308567246088}]
[null,null,null,null,null,null,null,null,"Dioxide de carbone",null,"mol / mol gas",{"$f":"D53","v":1.00386},8.4423819087243335E-2,{"$f":"L82/($L$79-$L$86)","v":0.10137807856501053}]
["Oxygène stoéchiométrique",null,"mol / mol gas",{"$f":"$J$53","v":1.9892799999999999},{"$f":"$J$53","v":1.9892799999999999},{"$f":"$J$53","v":1.9892799999999999},{"$f":"INDEX(D83:F83,G$78)","v":1.9892799999999999},null,"Dioxide de soufre",null,"mol / mol gas",{"$f":"F53","v":0},0,{"$f":"L83/($L$79-$L$86)","v":0}]
["Air stoéchiométrique",null,"mol / mol gas",{"$f":"D83/$F$44","v":9.4705290027815128},{"$f":"E83/$F$44","v":9.4705290027815128},{"$f":"F83/$F$44","v":9.4705290027815128},{"$f":"INDEX(D84:F84,G$78)","v":9.4705290027815128},null,"Oxygène",null,"mol / mol gas",{"$f":"G86","v":0.29764682163730094},2.5031858448190464E-2,{"$f":"L84/($L$79-$L$86)","v":3.0058835762528616E-2}]
[null,null,null,null,null,null,null,null,"Hélium",null,"mol / mol gas",{"$f":"G53","v":0},0,{"$f":"L85/($L$79-$L$86)","v":0}]
["Excès oxygène",null,"mol / mol gas",{"$f":"D80/(1-D80/$F$44)*(($I$53-$E$53)+D83*$F$43/$F$44)","v":0.29764682163730094},{"$f":"E83*$E$79","v":0},{"$f":"(D53/F81-(I53-E53)-F83*(F43/F44))/(1+F43/F44)","v":{"$error":"#DIV/0!"}},{"$f":"INDEX(D86:F86,G$78)","v":0.29764682163730094},null,"Eau (liquide et vapeur)",null,"mol / mol gas",{"$f":"G93+E53","v":1.9885793486768779},0.16723792478366001,0]
["Excès air",null,"mol / mol gas",{"$f":"D86/F44","v":1.4170317184618528},{"$f":"E84*$E$79","v":0},{"$f":"F86/F44","v":{"$error":"#DIV/0!"}},{"$f":"INDEX(D87:F87,G$78)","v":1.4170317184618528},null,"Condensation (liquide)",null,"mol / mol gas",{"$f":"L96","v":0},0,1]
[null,null,null,null,null,null,null,null,"Molecular weight",null,"g/mol",null,{"$f":"M81*28+M82*44+M83*64+M84*32+M86*18","v":27.778529291352058}]
["Air de combustion",null,"mol / mol gas",{"$f":"SUM(D91:D93)","v":10.898500069920242},{"$f":"SUM(E91:E93)","v":9.4814683514583926},{"$f":"SUM(F91:F93)","v":{"$error":"#DIV/0!"}},{"$f":"INDEX(D89:F89,G$78)","v":10.898500069920242},null,"Condensation des fumées",null,null,{"$f":"IF(L91<L92,\"VRAI\",\"FAUX\")","v":"FAUX"}]
[null,null,null,null,null,null,null,null,"Humidité (sans condensation)",null,"mol / mol fumées",{"$f":"E53+G93","v":1.9885793486768779}]
["Azote",null,"mol / mol gas",{"$f":"D92*($F$43/$F$44)","v":8.6006338996060645},{"$f":"E92*($F$43/$F$44)","v":7.4812490027815137},{"$f":"F92*($F$43/$F$44)","v":{"$error":"#DIV/0!"}},{"$f":"INDEX(D91:F91,G$78)","v":8.6006338996060645},null,"Température des fumées",null,"oC",{"$f":"T7","v":238.02101222962872}]
["Oxygène",null,"mol / mol gas",{"$f":"D83+D86","v":2.2869268216373007},{"$f":"E83+E86","v":1.9892799999999999},{"$f":"F83+F86","v":{"$error":"#DIV/0!"}},{"$f":"INDEX(D92:F92,G$78)","v":2.2869268216373007},null,"Point de rosée",null,"oC",{"$f":"E135","v":56.443062043569093}]
["Vapeur d'eau",null,"mol / mol gas",{"$f":"E114*'Comb_1 (micro)'!D84","v":1.0939348676877604E-2},{"$f":"E114*'Comb_1 (micro)'!E84","v":1.0939348676877604E-2},{"$f":"E114*'Comb_1 (micro)'!F84","v":1.0939348676877604E-2},{"$f":"INDEX(D93:F93,G$78)","v":1.0939348676877604E-2},null,"Flue gas density",null,"lb/cu ft"]
[null,null,null,null,null,null,null,null,"Saturation (Tfumées)",null,"mol / mol fumées",{"$f":"E128","v":0.20082317598362523},"Fumées sèches"]
["Humidité",null,null,null,null,null,null,null,"Condensation",null,"mol / mol fumées",{"$f":"E139","v":0}]
["Humidité relative",null,null,0.05,null,null,null,null,null,null,"mol / mol gas",{"$f":"E140","v":0}]
["Point de rosée",null,"oC",{"$f":"IF(D96<>0,E118,\"-\")","v":{"$error":"#N/A"}}]
[]
[]
[]
[]
[null,null,"PRESSION ATMOSPHÉRIQUE",null,null,null,null,"TABLE VAPEUR SATURÉE"]
[null,null,"Altitude","FASL",200,"Mtl = 200",null,"Tsat (oC)","Psat (Pa)","Tsat (oC)"]
[null,null,"Pression barométrique","po Hg",{"$f":"29.9269-0.001020817*E103+0.000000011*E103^2-0.0000000000005118678*E103^3","v":29.723172505057601},null,null,0,610.48326959999986,{"$f":"H104","v":0}]
[null,null,"Pression barométrique","Pa",101312.5,{"$f":"E104*3370","v":100167.09134204412},null,2,705.80878559999985,2]
[null,null,null,null,null,null,null,4,813.39996239999994,4]
[null,null,"AIR DE COMBUSTION",null,null,null,null,6,934.98999119999985,6]
[null,null,"Température","oC",{"$f":"N7","v":20},null,null,8,1072.5787079999998,8]
[null,null,"Humidité relative",null,0.05,null,null,10,1227.7659815999998,10]
[null,null,null,null,null,null,null,12,1402.2850031999999,12]
[null,null,"Pression saturation","Pa",{"$f":"IF(E108<0,0.09*6895,I196)","v":2337.8082839999997},null,null,14,1598.1356087999998,14]
[null,null,"Pression vapeur eau","Pa",{"$f":"E109*E111","v":116.8904142},null,null,16,1817.7176015999999,16]
[null,null,null,null,null,null,null,18,2063.4307847999999,18]
[null,null,"H2O / Air sec","mol / mol",{"$f":"E112/(E105-E112)","v":1.1550937306315937E-3},null,null,20,2337.8082839999997,20]
[null,null,"H2O / Air sec","lb / lb",{"$f":"E114*18.02/28.95","v":7.1899098535341342E-4},null,null,22,2643.3832247999999,22]
[null,null,null,null,null,null,null,24,2983.3553447999998,24]
[null,null,"H2O / Air humide","mol / mol",{"$f":"E112/E105","v":1.1537610285009253E-3},null,null,26,3360.9243815999998,26]
[null,null,"Température de rosée","oC",{"$f":"H202","v":{"$error":"#N/A"}},null,null,28,3779.5567175999995,28]
[null,null,null,null,null,null,null,30,4242.8520576000001,30]
[null,null,"FUMÉES",null,null,null,null,32,4754.6767511999988,32]
[null,null,"Température","oC",{"$f":"T7","v":238.02101222962872},null,null,34,5319.2971152,34]
[null,null,null,null,null,null,null,36,5941.2461112000001,36]
[null,null,"Fumées totales","mol / mol gaz",{"$f":"L79","v":11.890720069920242},null,null,38,6625.0567007999998,38]
[null,null,"Humidité (H2O)","mol / mol gaz",{"$f":"L90","v":1.9885793486768779},"sans condensation",null,40,7375.9284575999991,40]
[null,null,null,null,null,null,null,42,8199.3275999999987,42]
[null,null,"Pression vapeur","Pa",{"$f":"E131*E105","v":16943.292254644555},null,null,44,9100.5870240000004,44]
[null,null,null,null,null,null,null,46,10085.83956,46]
[null,null,"H2O / Air sec","mol / mol",{"$f":"E124/(E123-E124)","v":0.20082317598362523},"Mair",null,48,11160.418103999998,48]
[null,null,"H2O / Air sec","lb / lb",{"$f":"E128*18.02/F129","v":0.12870979965717447},{"$f":"(M81*28+M82*48+M83*64+M84*32+M85*4+M86*18)","v":28.116224567701032},null,50,12333.655224,50]
[null,null,null,null,null,null,null,55,15737.376096,55]
[null,null,"H2O / Air humide","mol / mol",{"$f":"E124/E123","v":0.16723792478366001},null,null,60,19915.700111999999,60]
[null,null,"H2O / mol gas","mol / mol",{"$f":"E131*E123","v":1.9885793486768779},null,null,65,25003.282895999997,65]
[null,null,null,null,null,null,null,70,31157.444879999995,70]
[null,null,"Condensation",null,{"$f":"IF(E135>E121,\"VRAI\",\"FAUX\")","v":"FAUX"},null,null,75,38543.505839999998,75]
[null,null,"Point de rosée","oC",{"$f":"H208","v":56.443062043569093},null,null,80,47342.784240000001,80]
[null,null,null,null,null,null,null,85,57808.592639999995,85]
[null,null,"Pression saturation","Pa",{"$f":"I214","v":3231593.4946429115},null,null,90,70095.585023999985,90]
[null,null,"Contenu H2O à saturation","mol / mol fumées",{"$f":"IF(E134=\"VRAI\",E137/E105,\"-\")","v":"-"},null,null,91,72800.696519999983,91]
[null,null,"Condensation","mol / mol fumées",{"$f":"IF(E134=\"VRAI\",E131-E138,0)","v":0},null,null,92,75592.467575999995,92]
[null,null,"Condensation","mol / mol gaz",{"$f":"IF(E134=\"VRAI\",E139*E123,0)","v":0},null,null,93,78473.564639999997,93]
[null,null,"Condensation","g / mol gaz",{"$f":"IF(E134=\"VRAI\",E140*18,0)","v":0},null,null,94,81446.654159999991,94]
[null,null,null,null,null,null,null,95,84513.069359999994,95]
[null,null,"Humidité Relative des Fumées",null,{"$f":"IF(E134=\"VRAI\",1,IF(E121<100,E126/E137,\"N / A\"))","v":"N / A"},null,null,96,87675.476687999995,96]
[null,null,null,null,null,null,null,97,90935.209367999996,97]
[null,null,null,null,null,null,null,98,94294.933847999986,98]
[null,null,null,null,null,null,null,99,97757.316575999997,99]
[null,null,null,null,null,null,null,100,101325.02399999999,100]
[null,null,null,null,null,null,null,105,120820,105]
[null,null,null,null,null,null,null,110,143270,110]
[null,null,null,null,null,null,null,115,169060,115]
[null,null,null,null,null,null,null,120,198530,120]
[null,null,null,null,null,null,null,125,232100,125]
[null,null,null,null,null,null,null,130,270100,130]
[null,null,null,null,null,null,null,135,313000,135]
[null,null,null,null,null,null,null,140,361300,140]
[null,null,null,null,null,null,null,145,415400,145]
[null,null,null,null,null,null,null,150,475800,150]
[null,null,null,null,null,null,null,155,543100,155]
[null,null,null,null,null,null,null,160,617800,160]
[null,null,null,null,null,null,null,165,700500,165]
[null,null,null,null,null,null,null,170,791700,170]
[null,null,null,null,null,null,null,175,892000,175]
[null,null,null,null,null,null,null,180,1002100,180]
[null,null,null,null,null,null,null,185,1122700,185]
[null,null,null,null,null,null,null,190,1254400,190]
[null,null,null,null,null,null,null,195,1397800,195]
[null,null,null,null,null,null,null,200,1553800,200]
[null,null,null,null,null,null,null,205,1723000,{"$f":"H168","v":205}]
[null,null,null,null,null,null,null,210,1906200,210]
[null,null,null,null,null,null,null,215,2104000,215]
[null,null,null,null,null,null,null,220,2318000,220]
[null,null,null,null,null,null,null,225,2548000,225]
[null,null,null,null,null,null,null,230,2795000,230]
[null,null,null,null,null,null,null,235,3060000,235]
[null,null,null,null,null,null,null,240,3344000,240]
[null,null,null,null,null,null,null,245,3648000,245]
[null,null,null,null,null,null,null,250,3973000,250]
[null,null,null,null,null,null,null,255,4319000,255]
[null,null,null,null,null,null,null,260,4688000,260]
[null,null,null,null,null,null,null,265,5081000,265]
[null,null,null,null,null,null,null,270,5499000,270]
[null,null,null,null,null,null,null,275,5942000,275]
[null,null,null,null,null,null,null,280,6412000,280]
[null,null,null,null,null,null,null,285,6909000,285]
[null,null,null,null,null,null,null,290,7436000,290]
[null,null,null,null,null,null,null,295,7993000,295]
[null,null,null,null,null,null,null,300,8581000,300]
[null,null,null,null,null,null,null,320,11274000,320]
[null,null,null,null,null,null,null,340,14586000,340]
[null,null,null,null,null,null,null,360,18651000,360]
[null,null,null,null,null,null,null,374.14,22090000,374.14]
[]
[null,null,null,null,null,null,null,"Psat AIR COMBUSTION"]
[null,null,null,null,null,null,null,"T","Psat"]
[null,null,null,null,null,null,null,{"$f":"VLOOKUP(E108,H104:I191,1)","v":20},{"$f":"VLOOKUP(H195,$H$104:$I$191,2)","v":2337.8082839999997},{"$f":"MATCH(H195,H104:H191,1)","v":11}]
[null,null,null,null,null,null,null,{"$f":"E108","v":20},{"$f":"I195+((H196-H195)/(H197-H195))*(I197-I195)","v":2337.8082839999997}]
[null,null,null,null,null,null,null,{"$f":"INDEX(H104:H191,J197)","v":22},{"$f":"VLOOKUP(H197,$H$104:$I$191,2)","v":2643.3832247999999},{"$f":"J195+1","v":12}]
[]
[null,null,null,null,null,null,null,"CALCUL ROSÉE AIR COMB"]
[null,null,null,null,null,null,null,"T","Psat"]
[null,null,null,null,null,null,null,{"$f":"VLOOKUP(I201,$I$104:$J$191,2)","v":{"$error":"#N/A"}},{"$f":"VLOOKUP(I202,I104:J191,1)","v":{"$error":"#N/A"}},{"$f":"MATCH(H201,H104:H191,1)","v":{"$error":"#N/A"}}]
[null,null,null,null,null,null,null,{"$f":"H201+(I202-I201)/(I203-I201)*(H203-H201)","v":{"$error":"#N/A"}},{"$f":"E117*E105","v":116.8904142}]
[null,null,null,null,null,null,null,{"$f":"INDEX(H104:H191,J203)","v":{"$error":"#N/A"}},{"$f":"VLOOKUP(H203,H104:I191,2)","v":{"$error":"#N/A"}},{"$f":"J201+1","v":{"$error":"#N/A"}}]
[]
[null,null,null,null,null,null,null,"TEMP. CONDENSATION FUMÉE"]
[null,null,null,null,null,null,null,"T","Psat"]
[null,null,null,null,null,null,null,{"$f":"VLOOKUP(I207,$I$104:$J$191,2)","v":55},{"$f":"VLOOKUP(E126,I104:J191,1)","v":15737.376096},{"$f":"MATCH(H207,H104:H191,1)","v":27}]
[null,null,null,null,null,null,null,{"$f":"H207+(I208-I207)/(I209-I207)*(H209-H207)","v":56.443062043569093},{"$f":"E126","v":16943.292254644555}]
[null,null,null,null,null,null,null,{"$f":"INDEX(H104:H191,J209)","v":60},{"$f":"VLOOKUP(H209,H104:I191,2)","v":19915.700111999999},{"$f":"J207+1","v":28}]
[]
[null,null,null,null,null,null,null,"CALCUL FUMÉES"]
[null,null,null,null,null,null,null,"T","Psat"]
[null,null,null,null,null,null,null,{"$f":"VLOOKUP(H214,H104:I191,1)","v":235},{"$f":"VLOOKUP(H213,$H$104:$I$191,2)","v":3060000},{"$f":"MATCH(H213,H104:H191,1)","v":71}]
[null,null,null,null,null,null,null,{"$f":"E121","v":238.02101222962872},{"$f":"I213+((H214-H213)/(H215-H213))*(I215-I213)","v":3231593.4946429115}]
[null,null,null,null,null,null,null,{"$f":"INDEX(H104:H191,J215)","v":240},{"$f":"VLOOKUP(H215,$H$104:$I$191,2)","v":3344000},{"$f":"J213+1","v":72}]

{"sheet":"Bilan_1 EE","index":16,"n_rows":124,"n_cols":27,"rows_kept":124,"cut":false,"hidden":true,"merged":[[52,3,52,7],[57,3,59,6],[92,13,92,17],[93,13,93,17],[94,13,94,17],[35,6,35,8],[36,6,36,8],[49,3,49,7],[50,3,50,7],[51,3,51,7],[20,3,20,6],[21,3,21,6],[22,3,22,6],[23,3,23,6],[34,6,34,8],[109,11,110,11],[109,12,110,12],[109,13,109,16],[55,8,55,11],[54,3,54,12],[95,13,95,17]]}
["Formulaire de calcul",null,null,null,null,null,null,null,null,null,null,null,null,"Unités et paramètres de calculs",null,null,null,null,null,null,null,null,null,null,"Quantité de purge","Excès d'air"]
[null,null,null,null,null,null,null,null,null,null,null,null,null,null,null,null,null,null,null,null,"Numéro correspondant à sélection dans entrée de données",null,null,null,{"$f":"'Entrée de données'!C52","v":1},{"$f":"'Entrée de données'!C36","v":30},{"$f":"'Entrée de données'!C25","v":1}]
[null,"Type de chaudière:",{"$f":"VLOOKUP(AA2,X4:AA7,4)","v":"Tubes de fumées"},null,null,null,null,null,null,null,null,null,null,null,"Conversion",null,null,null,null,null,null,null,null,"Numéro","% Purge","% Exces d'air","Type de chaudière"]
[null,null,null,null,null,null,null,null,null,null,null,null,null,null,"1kW = ",{"$f":"1000000/293.07","v":3412.1540928788345},"Btu/h",null,null,null,null,null,null,1,0,0.01,"Tubes de fumées"]
["OUTPUT:",null,null,null,null,null,null,null,null,null,null,null,null,null,"1 Btu/h =",2.9306999999999998E-4,"kW",null,null,null,null,null,null,{"$f":"X4+1","v":2},0.01,{"$f":"Z4+0.01","v":0.02},"Tubes d'eau"]
["Puissance maximale du brûleur ",{"$f":"'Entrée de données'!C27","v":0},"kW","Donnée d'entrée",null,null,null,null,null,null,null,null,null,null,"1 kJ/kg=",0.42992999999999998,"Btu/lb",null,null,null,null,null,null,{"$f":"X5+1","v":3},0.02,{"$f":"Z5+0.01","v":0.03},"À serpentin"]
["Puissance maximale de production de vapeur  de la chaudière",{"$f":"'Entrée de données'!C29","v":0},"kW","Donnée d'entrée",null,null,null,null,null,null,null,null,null,null,"1 Btu =",1.0549999999999999E-3,"MJ",null,null,null,null,null,null,{"$f":"X6+1","v":4},0.03,0.04,"Sans tube"]
["Puissance maximale de production de vapeur  de la chaudière ",{"$f":"ROUND(B7*P4/1000000,2)","v":0},"millions Btu/h","Simple calcul de conversion des kw en btu/h",null,null,null,null,null,null,null,null,null,null,"1 MJ = ",{"$f":"1/P7","v":947.8672985781991},"Btu",null,null,null,null,null,null,{"$f":"X7+1","v":5},0.04,0.05]
["Puissance moyenne de production de vapeur  de la chaudière en opération ",{"$f":"B89+B108+B79-B74","v":0},"kW","Q = Qvap dispo + Q évent + Q purge - Qeau alimenté",null,"ATTENTION: Ce n'est pas juste pour la vapeur dispo. C'est aussi de l'énergie qui sera perdu par les purges",null,null,null,null,null,null,null,null,"1 lb =",0.45359237000000002,"kg",null,null,null,null,null,null,6,0.05,6.0000000000000005E-2]
["Puissance moyenne de production de vapeur  de la chaudière en opération ",{"$f":"ROUND(B9*P4/1000000,2)","v":0},"millions Btu/h","Données entrée converti en btu/h",null,null,null,null,null,null,null,null,null,null,"1 kg =",{"$f":"1/P9","v":2.2046226218487757},"lb",null,null,null,null,null,null,7,0.06,7.0000000000000007E-2]
[null,null,null,null,null,null,null,null,null,null,null,null,null,null,null,null,null,null,null,null,null,null,null,8,7.0000000000000007E-2,0.08]
["INFO POUR CALCUL DE L'EFFICACITÉ",null,null,null,null,null,null,null,null,null,null,null,null,null,null,null,null,null,null,null,null,null,null,9,0.08,0.09]
["Excès d'air",{"$f":"IF('Mise en forme- input'!C3=FALSE,Bilan_1!B13,'Entrée de données'!C89)","v":0.3000000000000001},null,"Donnée d'entrée",null,null,null,null,null,null,null,null,null,null,null,null,null,null,null,null,null,null,null,10,0.09,9.9999999999999992E-2]
["Température des fumées (°F)",{"$f":"IF('Mise en forme- input'!C3=FALSE,Bilan_1!B14,'Comb_1 (micro)'!U7)","v":392},"°F","Donnée entrée convertie en °F au lieu de °C",null,null,null,null,null,null,null,null,null,null,null,null,null,null,"Pertes par radiation et convection",null,null,null,null,11,0.1,0.10999999999999999]
["Température de l'air de combustion (°F)",{"$f":"ROUND(('Entrée de données'!C35*1.8+32),1)","v":68},"°F","Donnée entrée convertie en °F au lieu de °C",null,null,null,null,null,null,null,null,null,null,null,null,null,null,"Puissance maximale  kW","Puissance maximale millions Btu/h","% de Pertes","à 100% de la charge",null,12,0.11,0.11999999999999998]
["Température de l'eau d'appoint (°C)",{"$f":"IF(OR(AND('Mise en forme- input'!C5=TRUE,'Économiseurs 1 à 4 '!B7=2),'Mise en forme- input'!C6=TRUE,'Mise en forme- input'!C7=TRUE),'Économiseurs 1 à 4 '!B44,'Entrée de données'!C48)","v":0},"°C","Donnée d'entrée",null,"=SI(OU(ET('Mise en forme- input'!C5=VRAI;'Économiseurs 1 à 4 '!B6=2);'Mise en forme- input'!C6=VRAI;'Mise en forme- input'!C7=VRAI);'Économiseurs 1 à 4 '!B35;'Entrée de données'!C48)",null,null,null,null,null,null,null,null,null,null,null,null,null,null,null,null,null,13,0.12,0.12999999999999998]
[null,null,null,null,null,null,null,null,null,null,null,null,null,null,null,null,null,"Inférieure à 5 millions Btu/h","Inférieure à 1465",{"$f":"IF(B8<5,B8, \"\")","v":0},{"$f":"IF($B$8<5,$V$88/($B$10/#REF!),\"\")","v":{"$error":"#REF!"}},{"$f":"IF($B$8<5,$V$89,\"\")","v":0},null,14,0.13,0.13999999999999999]
["CALCUL DE L'EFFICACITÉ DE CHAUFFE : 100%-perte fumée - perte radiation",null,null,null,null,null,null,null,null,null,null,null,null,null,null,null,null,null,{"$f":"T18*$P$5*1000000","v":1465.35},5,{"$f":"V18/($B$10/T18)","v":{"$error":"#DIV/0!"}},2.5999999999999999E-2,null,15,0.14000000000000001,0.15]
["1. Perte par les fumée",{"$f":"IF('Mise en forme- input'!C3=FALSE,Bilan_1!B19,1-'Entrée de données'!C87)","v":0.17243290039051917},null,null,null,null,null,null,null,null,null,null,null,null,null,null,null,null,{"$f":"T19*$P$5*1000000","v":2930.7},10,{"$error":"#DIV/0!"},1.6E-2,null,16,0.15,0.16]
["2. Perte par radiation:",null,null,null,null,null,null,null,null,null,null,null,null,null,null,null,null,null,5861.4,20,{"$error":"#DIV/0!"},1.0500000000000001E-2,null,17,0.16,0.17]
["Pertes par radiation et convection",null,null,"Interpolation des pertes par radiation et convection",null,null,null,"Puissance (millions Btuh)","Pertes à 100%",null,null,null,null,null,null,null,null,null,8792.0999999999985,30,{"$error":"#DIV/0!"},8.3999999999999995E-3,null,18,0.17,0.18000000000000002]
["Pertes calculées pour une chaudière de ",{"$f":"IF(B8<T18,T17,B8)","v":0},"millions Btu/h","Puissance en dessous",null,null,null,{"$f":"IF(B8<5,B8,LOOKUP(B8,T18:T42))","v":0},{"$f":"ROUND(IF(H22<5,V17, VLOOKUP(H24,T18:V42,3,TRUE)),4)","v":0},null,null,null,null,null,null,null,null,null,11722.8,40,{"$error":"#DIV/0!"},7.3000000000000001E-3,null,19,0.18,0.19000000000000003]
[null,{"$f":"I24/(B9/B7)","v":{"$error":"#DIV/0!"}},null,"Puissance au dessus",null,null,null,{"$f":"IF(B8<T18,B8,INDEX(T18:T42,RANK(LOOKUP(B8,T18:T42),T18:T42,1)+1))","v":0},{"$f":"ROUND(IF(H23<5,V17, VLOOKUP(H23,T18:V42,3,TRUE)),4)","v":0},null,null,null,null,null,null,null,null,null,14653.5,50,{"$error":"#DIV/0!"},6.6E-3,null,20,0.19,0.20000000000000004]
[null,null,null,"Valeur pour interpolation",null,null,null,{"$f":"B8","v":0},{"$f":"ROUND(IF(H22=H23,AVERAGE(I22,I23),FORECAST(H24,I22:I23,H22:H23)),4)","v":0},null,null,null,null,null,null,null,null,null,17584.199999999997,60,{"$error":"#DIV/0!"},6.1999999999999998E-3,null,21,0.2,0.21000000000000005]
[null,null,null,null,null,null,null,null,null,null,null,null,null,null,null,null,null,null,20514.899999999998,70,{"$error":"#DIV/0!"},5.8999999999999999E-3,null,22,0.21,0.22000000000000006]
["Efficacité de chauffe",{"$f":"IF('Mise en forme- input'!C3=FALSE,Bilan_1!B26,'Entrée de données'!C87-B23)","v":{"$error":"#DIV/0!"}},"Nouvelle valeur: efficacité données par le particpant - % perte par radiation",null,null,null,null,null,null,null,null,null,null,null,null,null,null,null,23445.599999999999,80,{"$error":"#DIV/0!"},5.5999999999999999E-3,null,23,0.22,0.23000000000000007]
[null,null,null,null,null,null,null,null,null,null,null,null,null,null,null,null,null,null,26376.3,90,{"$error":"#DIV/0!"},5.4000000000000003E-3,null,24,0.23,0.24000000000000007]
["INPUT",null,null,null,null,null,null,null,null,null,null,null,null,null,null,null,null,null,29307,100,{"$error":"#DIV/0!"},5.1999999999999998E-3,null,25,0.24,0.25000000000000006]
["Puissance du brûleur en opération ",{"$f":"B30*1000000*P5","v":{"$error":"#DIV/0!"}},"kW","Convertion de B30 en kw",null,null,null,null,null,null,null,null,null,null,null,null,null,null,35168.399999999994,120,{"$error":"#DIV/0!"},4.7999999999999996E-3,null,26,0.25,0.26000000000000006]
["Puissance du brûleur en opération ",{"$f":"B10/B26","v":{"$error":"#DIV/0!"}},"millions Btu/h","Puissance moyenne production vapeur / efficacité",null,null,null,null,null,null,null,null,null,null,null,null,null,null,41029.799999999996,140,{"$error":"#DIV/0!"},4.4999999999999997E-3,null,27,0.26,0.27000000000000007]
["Volume de gaz naturel alimenté ",{"$f":"ROUND(B29/(J36*1000)*3600,2)","v":{"$error":"#DIV/0!"}},"m3/h","Convertion de la puissance en opération du bruleur de kw en m3 de gaz",null,null,null,null,null,null,null,null,null,null,null,null,null,null,46891.199999999997,160,{"$error":"#DIV/0!"},4.3E-3,null,28,0.27,0.28000000000000008]
["Nombre de moles totales pour le volume de gaz",{"$f":"ROUND(B31/(8.31451*(273.15+'Entrée de données'!C37)/101325),1)","v":{"$error":"#DIV/0!"}},"mol/h","PV=nRT => n=PV/RT",null,null,null,null,null,null,null,null,null,null,null,null,null,null,52752.6,180,{"$error":"#DIV/0!"},4.0000000000000001E-3,null,29,0.28000000000000003,0.29000000000000009]
[null,null,null,null,null,null,null,null,null,null,null,null,null,null,null,null,null,null,58614,200,{"$error":"#DIV/0!"},3.8E-3,null,30,0.28999999999999998,0.3000000000000001]
["Quantité de fumées produites",null,null,null,null,null,null,null,null,null,null,null,null,null,null,null,null,null,87921,300,{"$error":"#DIV/0!"},3.3999999999999998E-3,null,31,0.3,0.31000000000000011]
[null,"masse molaire (g/mol)","mol","masse(lb/h)","masse (kg/h)",null,"Masse d'hydrogène dans une livre de combustible (lb/lb)",null,null,{"$f":"Comb_1!Q50","v":0.23688428965217811},null,null,null,null,null,null,null,null,117228,400,{"$error":"#DIV/0!"},3.0000000000000001E-3,null,32,0.31,0.32000000000000012]
["CO2",{"$f":"Comb_1!C12","v":44.011000000000003},{"$f":"IF('Mise en forme- input'!C3=FALSE,Comb_1!L82*B32,'Comb_1 (micro)'!L82*B32)","v":{"$error":"#DIV/0!"}},{"$f":"ROUND(C36*B36/($P$9*1000),1)","v":{"$error":"#DIV/0!"}},{"$f":"ROUND(C36*B36/1000,1)","v":{"$error":"#DIV/0!"}},null,"1m3 gaz naturel (MJ)",null,null,37.89,null,null,null,null,null,null,null,null,146535,500,{"$error":"#DIV/0!"},2.8E-3,null,33,0.32,0.33000000000000013]
["H2O",{"$f":"Comb_1!C14","v":18.015000000000001},{"$f":"IF('Mise en forme- input'!C3=FALSE,Comb_1!L86*B32,'Comb_1 (micro)'!L86*B32)","v":{"$error":"#DIV/0!"}},{"$f":"ROUND(C37*B37/($P$9*1000),1)","v":{"$error":"#DIV/0!"}},{"$f":"ROUND(C37*B37/1000,1)","v":{"$error":"#DIV/0!"}},null,"1m3 gaz naturel (btu)",null,null,{"$f":"J36*P8","v":35914.691943127968},null,null,null,null,null,null,null,null,293070,1000,{"$error":"#DIV/0!"},2.3E-3,null,34,0.33,0.34000000000000014]
["O2",{"$f":"Comb_1!C10","v":32},{"$f":"IF('Mise en forme- input'!C3=FALSE,Comb_1!L84*B32,'Comb_1 (micro)'!L84*B32)","v":{"$error":"#DIV/0!"}},{"$error":"#DIV/0!"},{"$f":"ROUND(C38*B38/1000,1)","v":{"$error":"#DIV/0!"}},null,null,null,null,null,null,null,null,null,null,null,null,null,586140,2000,{"$error":"#DIV/0!"},1.9499999999999999E-3,null,35,0.34,0.35000000000000014]
["N2",{"$f":"Comb_1!C26","v":28.013000000000002},{"$f":"IF('Mise en forme- input'!C3=FALSE,Comb_1!L81*B32,'Comb_1 (micro)'!L81*B32)","v":{"$error":"#DIV/0!"}},{"$error":"#DIV/0!"},{"$f":"ROUND(C39*B39/1000,1)","v":{"$error":"#DIV/0!"}},null,null,null,null,null,null,null,null,null,null,null,null,null,1172280,4000,{"$error":"#DIV/0!"},1.75E-3,null,36,0.35,0.36000000000000015]
["Total (humide)",null,{"$f":"SUM(C36:C39)","v":{"$error":"#DIV/0!"}},{"$f":"SUM(D36:D39)","v":{"$error":"#DIV/0!"}},{"$f":"SUM(E36:E39)","v":{"$error":"#DIV/0!"}},null,null,null,null,null,null,null,null,null,null,null,null,null,1758419.9999999998,6000,{"$error":"#DIV/0!"},1.6000000000000001E-3,null,37,0.36,0.37000000000000016]
["Total (sec)",null,{"$f":"SUM(C36,C38:C39)","v":{"$error":"#DIV/0!"}},{"$f":"D40-D37","v":{"$error":"#DIV/0!"}},{"$f":"SUM(E36,E38:E39)","v":{"$error":"#DIV/0!"}},null,null,null,null,null,null,null,null,null,null,null,null,null,2930700,10000,{"$error":"#DIV/0!"},1.5E-3,null,38,0.37,0.38000000000000017]
[null,null,null,null,null,null,null,null,null,null,null,null,null,null,null,null,null,null,5861400,20000,{"$error":"#DIV/0!"},1.5E-3,null,39,0.38,0.39000000000000018]
["CONDENSAT",null,null,null,null,null,null,null,null,null,null,null,null,null,null,null,null,null,null,null,null,null,null,40,0.39,0.40000000000000019]
["Enthalpie de l'eau d'appoint (kJ/kg)",{"$f":"ROUND(4.18*(B16),3)","v":0},"kJ/kg","Cp*DT",null,null,null,null,null,null,null,null,null,null,null,null,null,null,null,null,null,null,null,41,0.4,0.4100000000000002]
["Température du condensat (°C)",{"$f":"IF(('Entrée de données'!C49=2),\"0\",('Entrée de données'!C51))","v":0},"°C  ","Donnée d'entrée",null,null,null,null,null,null,null,null,null,null,null,null,null,null,null,null,null,null,null,42,0.41,0.42000000000000021]
["Enthalpie du condensat (kJ/kg)",{"$f":"IF('Entrée de données'!C49=2,\"0\",4.18*(B45))","v":0},"kJ/kg ","Cp*DT",null,null,null,null,null,null,null,null,null,null,null,null,null,null,null,null,null,null,null,43,0.42,0.43000000000000022]
["% de condensat",{"$f":"IF('Entrée de données'!C49=1,'Entrée de données'!C50,0)","v":0},null,"Donnée d'entrée",null,null,null,null,null,null,null,null,null,null,null,null,null,null,null,null,null,null,null,44,0.43,0.44000000000000022]
["T°de l'eau alimentée à la chaudière (°C)",{"$f":"IF(AND('Mise en forme- input'!C5=TRUE,'Économiseurs 1 à 4 '!B7=1),'Économiseurs 1 à 4 '!B52,IF('Entrée de données'!C49=1,(B47*B45+(1-B47)*B16),B16))","v":0},"°C ","si retour de condensat: [% condensat * T° du condensat] + [(1-% condensat) * T°de l'eau d'appoint]. Sinon, c'est égale à la T° d'eau d'appoint",null,null,null,null,null,null,null,null,null,null,null,null,null,null,null,null,null,null,null,45,0.44,0.45000000000000023]
[null,null,null,null,null,null,null,null,null,null,null,null,null,null,null,null,null,null,null,null,null,null,null,46,0.45,0.46000000000000024]
[null,null,null,"Interpolation des enthalpies",null,null,null,null,"Pression (kPa)","Liquide saturé (kJ/kg)","Enthalpie de vaporisation  (kJ/kg)","Vapeur saturée (kJ/kg)",null,null,null,null,null,null,null,null,null,null,null,47,0.46,0.47000000000000025]
[null,null,null,"Pression en dessous de la valeur entrée par l'utilisateur",null,null,null,null,{"$f":"LOOKUP(B56,'Données vapeur'!A5:A60)","v":-1.325},{"$f":"VLOOKUP(I51,'Données vapeur'!A5:E60,3,FALSE)","v":417.46},{"$f":"VLOOKUP(I51,'Données vapeur'!A5:E60,4,FALSE)","v":2258},{"$f":"VLOOKUP(I51,'Données vapeur'!A5:E60,5,FALSE)","v":2675.46},null,null,null,null,null,null,null,null,null,null,null,48,0.47,0.48000000000000026]
[null,null,null,"Pression au dessus de la valeur entrée par l'utilisateur",null,null,null,null,{"$f":"IF((I51-B56)=0,B56,INDEX('Données vapeur'!A5:A60,RANK(LOOKUP('Bilan_1 EE'!B56,'Données vapeur'!A5:A60),'Données vapeur'!A5:A60,1)+1))","v":23.675000000000001},{"$f":"VLOOKUP(I52,'Données vapeur'!A5:E60,3,FALSE)","v":444.32},{"$f":"VLOOKUP(I52,'Données vapeur'!A5:E60,4,FALSE)","v":2241},{"$f":"VLOOKUP(I52,'Données vapeur'!A5:E60,5,FALSE)","v":2685.32},null,null,null,null,null,null,null,null,null,null,null,49,0.48,0.49000000000000027]
[null,null,null,"Valeur pour interpolation",null,null,null,null,{"$f":"B56","v":0},{"$f":"IF(I51=I52,J51,FORECAST(I53,J51:J52,I51:I52))","v":418.88357999999999},{"$f":"IF(I51=I52,K51,FORECAST(I53,K51:K52,I51:I52))","v":2257.0990000000002},{"$f":"IF(I51=I52,L51,FORECAST(I53,L51:L52,I51:I52))","v":2675.9825800000003},null,null,null,null,null,null,null,null,null,null,null,50,0.49,0.50000000000000022]
["ENTHALPIE",null,null,null,null,null,null,null,null,null,null,null,null,null,null,null,null,null,null,null,null,null,null,51,0.5,0.51000000000000023]
["Enthalpie de l'eau alimentée à la chaudière (kJ/kg)",{"$f":"ROUND(IF(AND('Mise en forme- input'!C5=TRUE,'Économiseurs 1 à 4 '!B7=1),B48*4.18,IF('Entrée de données'!C49=1,(B47*B46+(1-B47)*B44),B44)),3)","v":0},"kJ/kg"," si retour de condensat:  [% condensat * DH du condensat] + [(1-% condensat) * DH de l'eau d'appoint]. \nSinon, c'est égale à la DH d'eau d'appoint",null,null,null,null,null,null,null,null,null,null,null,null,null,null,null,null,null,null,null,52,0.51,0.52000000000000024]
["Pression de la vapeur produite (kPa)",{"$f":"'Entrée de données'!C43","v":0},"kPa","Donnée d'entrée",null,null,null,null,"Interpolation de l'enthalpie surchauffée",null,null,null,"Pression (kPa) Données saturées","Vapeur surchauffée (kJ/kg)",null,null,null,null,null,null,null,null,null,53,0.52,0.53000000000000025]
["Degré de surchauffe",{"$f":"IF('Entrée de données'!C44=\"Non nécessaire\",0,'Entrée de données'!C45)","v":0},"°C",null,null,null,null,null,"Pression en dessous de la valeur entrée par l'utilisateur",null,null,null,{"$f":"LOOKUP(B56,'Données vapeur'!$H$6:$H$31)","v":-1.325},{"$f":"VLOOKUP(M57,'Données vapeur'!$H$6:$M$33,3,FALSE)","v":2679.1811850700001}]
["Enthalpie de la vapeur saturée/surchauffée (kJ/kg)",{"$f":"IF(B57=0,L53,N59)","v":2675.9825800000003},"kJ/kg","Recherche de h en fonction de la pression",null,null,null,null,"Pression au dessus de la valeur entrée par l'utilisateur",null,null,null,{"$f":"IF((M57-B56)=0,B56,INDEX('Données vapeur'!$H$6:$H$31,RANK(LOOKUP(B56,'Données vapeur'!$H$6:$H$31),'Données vapeur'!$H$6:$H$31,1)+1))","v":98.674999999999997},{"$f":"VLOOKUP(M58,'Données vapeur'!$H$6:$M$33,3,FALSE)","v":2713.0964198699999},null,null,null,null,null,null,null,null,null,{"$f":"X56+1","v":54},0.53,{"$f":"Z56+0.01","v":0.54000000000000026}]
["Enthalpie de l'eau saturée (purge) (kJ/kg)",{"$f":"J53","v":418.88357999999999},"kJ/kg",null,null,null,null,null,"Valeur pour interpolation",null,null,null,{"$f":"B56","v":0},{"$f":"IF(M57=M58,N57,FORECAST(M59,N57:N58,M57:M58))","v":2679.6305619311001},null,null,null,null,null,null,null,null,null,55,0.54,0.55000000000000027]
["Enthalpie de vaporisation (kJ/kg)",{"$f":"K53","v":2257.0990000000002},"kJ/kg",null,null,null,null,null,null,null,null,null,null,null,null,null,null,null,null,null,null,null,null,56,0.55000000000000004,0.56000000000000028]
["Purge - % de l'eau alimentée à la chaudière",{"$f":"IF('Mise en forme- input'!C4=TRUE,'Entrée de données'!C100,('Entrée de données'!C52-1)/100)","v":0},null,"Donnée d'entrée",null,null,null,null,null,null,null,null,null,null,null,null,null,null,null,null,null,null,null,57,0.56000000000000005,0.57000000000000028]
[null,null,null,null,null,null,null,null,null,null,null,null,null,null,null,null,null,null,null,null,null,null,null,58,0.56999999999999995,0.58000000000000029]
[null,null,null,null,null,null,null,null,null,null,null,null,null,null,null,null,null,null,null,null,null,null,null,59,0.57999999999999996,0.5900000000000003]
[null,null,null,null,null,null,null,null,null,null,null,null,null,null,null,null,null,null,null,null,null,null,null,60,0.59,0.60000000000000031]
["Production de vapeur",null,null,null,null,null,null,null,null,null,null,null,null,null,null,null,null,null,null,null,null,null,null,61,0.6,0.61000000000000032]
["Eau alimentée à la chaudière",null,null,null,null,null,null,null,null,null,null,null,null,null,null,null,null,null,null,null,null,null,null,62,0.61,0.62000000000000033]
["Quantité d'eau alimentée (lb/h)",{"$f":"ROUND(B68/P9,2)","v":0},"Convertion de la ligne du dessous de kg en lb",null,null,null,null,null,null,null,null,null,null,null,null,null,null,null,null,null,null,null,null,63,0.62,0.63000000000000034]
["Quantité d'eau alimentée (kg/h)",{"$f":"B87/(1-B61)","v":0},null,null,null,null,null,null,null,null,null,null,null,null,null,null,null,null,null,null,null,null,null,64,0.63,0.64000000000000035]
["Eau d'appoint (lb/h)",{"$f":"B67*(1-B47)","v":0}," = eau_alimenté*(1-%condensat)",null,null,null,null,null,null,null,null,null,null,null,null,null,null,null,null,null,null,null,null,65,0.64,0.65000000000000036]
["Eau d'appoint (kg/h)",{"$f":"B68*(1-B47)","v":0},"Convertion",null,null,null,null,null,null,null,null,null,null,null,null,null,null,null,null,null,null,null,null,66,0.65,0.66000000000000036]
["Retour de condensat (lb/h)",{"$f":"B67*B47","v":0}," = eau_alimenté * % condensat",null,null,null,null,null,null,null,null,null,null,null,null,null,null,null,null,null,null,null,null,67,0.66,{"$f":"Z70+0.01","v":0.67000000000000037}]
["Retour de condensat (kg/h)",{"$f":"B68*B47","v":0},"Convertion",null,null,null,null,null,null,null,null,null,null,null,null,null,null,null,null,null,null,null,null,{"$f":"X71+1","v":68},0.67,0.68000000000000038]
["Énergie dans l'eau alimentée (Btu/h)",{"$f":"ROUND(B74*P4,0)","v":0},"Convertion de la ligne du dessous de kW en Btu/h",null,null,null,null,null,null,null,null,null,null,null,null,null,null,null,null,null,null,null,null,{"$f":"X72+1","v":69},0.68,0.69000000000000039]
["Énergie dans l'eau alimentée (kW)",{"$f":"ROUND(B68*B55/3600,0)","v":0},"masse d'eau alimenté *  entalpie de l'eau alimenté ",null,null,null,null,null,null,null,null,null,null,null,null,null,null,null,null,null,null,null,null,70,0.69,0.7000000000000004]
["PURGE",null,null,null,null,null,null,null,null,null,null,null,null,null,null,null,null,null,null,null,null,null,null,71,0.7,0.71000000000000041]
["Quantité d'eau prélevée (lb/h)",{"$f":"ROUND(B67*B61,2)","v":0},"eau alimenté *%purge",null,null,null,null,null,null,null,null,null,null,null,null,null,null,null,null,null,null,null,null,72,0.71,0.72000000000000042]
["Quantité d'eau (kg/h)",{"$f":"ROUND(B76*P9,2)","v":0},"Convertion",null,null,null,null,null,null,null,null,null,null,null,null,null,null,null,null,null,null,null,null,73,0.72,0.73000000000000043]
["Énergie perdue dans la purge (Btu/h)",{"$f":"ROUND(B79*P4,2)","v":0},"Convertion de la ligne du dessous de kW en Btu/h",null,null,null,null,null,null,null,null,null,null,null,null,null,null,null,null,null,null,null,null,74,0.73,0.74000000000000044]
["Énergie perdue dans la purge (kW)",{"$f":"ROUND(B77*(B59)/3600,2)","v":0},"m_eau_purge * entalpie de l'eau de la purge (soit l'enthalpie de l'eau saturée)",null,null,null,null,null,null,null,null,null,null,null,null,null,null,null,null,null,null,null,null,75,0.74,0.75000000000000044]
["Potentiel de récupération (Btu/h)",{"$f":"B78*0.9","v":0},"énergie perdue dans la purge * 90% de récupé",null,null,null,null,"90% de récupération",null,null,null,null,null,null,null,null,null,null,null,null,null,null,null,76,0.75,0.76000000000000045]
["Potentiel de récupération (KW)",{"$f":"B79*0.9","v":0},"Convertion",null,null,null,null,null,null,null,null,null,null,null,null,null,null,null,null,null,null,null,null,77,0.76,0.77000000000000046]
["% de l'énergie alimentée à la chaudière",{"$f":"ROUND(B78/(B30*1000000),4)","v":{"$error":"#DIV/0!"}},"Énergie perdue par la purge / puissance d'opération bruleur",null,null,null,null,"Équation 3.21.1 - Spirax Sarco",null,null,null,null,null,null,null,null,null,null,null,null,null,null,null,78,0.77,0.78000000000000047]
["Vapeur utile",null,null,null,null,null,null,null,null,null,null,null,null,null,null,null,null,null,null,null,null,null,null,79,0.78,0.79000000000000048]
["Quantité produite - incluant évent dégazeur(lb/h)",{"$f":"ROUND(B67-B76,2)","v":0},"quantité d'eau alimenté - quantité d'eau prélevé (soit le % de purge)",null,null,null,null,null,null,null,null,null,null,null,null,null,null,null,null,null,null,null,null,80,0.79,0.80000000000000049]
["Quantité produite - incluant évent dégazeur(kg/h)",{"$f":"ROUND(B68-B77,2)","v":0},"Convertion",null,null,null,null,null,null,null,null,null,null,null,null,null,null,null,null,null,null,null,null,81,0.8,0.8100000000000005]
["Quantité disponible pour les utilisateurs (lb/h)",{"$f":"Bilan_1!B86","v":0},"Les quantités perdues à l'évent du désaérateur sont soustraites",null,null,null,"Valeur qui restera fixe pour tout le calculateur",null,null,null,null,null,null,null,null,null,null,null,null,null,null,null,null,82,0.81,0.82000000000000051]
["Quantité disponible pour les utilisateurs (kg/h)",{"$f":"Bilan_1!B87","v":0},"Convertion",null,null,null,"Valeur qui restera fixe pour tout le calculateur",null,null,null,null,null,null,null,null,null,null,null,null,null,null,null,null,83,0.82,0.83000000000000052]
["Énergie dans la vapeur utile (Btu/h)",{"$f":"Bilan_1!B88","v":0},"Convertion de la ligne du dessous de kW en Btu/h",null,null,null,"Valeur qui restera fixe pour tout le calculateur",null,null,null,null,null,null,null,null,null,null,null,null,null,null,null,null,84,0.83,0.84000000000000052]
["Énergie dans la vapeur utile (kW)",{"$f":"Bilan_1!B89","v":0},"valeur fixe qui doit tjs resté idem peut importe la mesure",null,null,null,"Valeur qui restera fixe pour tout le calculateur",null,null,null,null,null,null,null,null,null,null,null,null,null,null,null,null,85,0.84,0.85000000000000053]
[]
["DÉGAZEUR",null,null,null,null,null,null,null,null,null,null,null,null,null,null,null,null,null,null,null,null,null,null,{"$f":"X89+1","v":86},0.85,{"$f":"Z89+0.01","v":0.86000000000000054}]
["Pression d'opération du dégazeur (kPa)",{"$f":"('Entrée de données'!C56+14.73)*101.235/14.696","v":101.46921271094176},null,null,null,null,null,null,null,null,null,null,null,null,null,null,null,null,null,null,null,null,null,87,0.86,0.87000000000000055]
["Enthalpie de l'eau a la pression du dégazeur (kJ/kg)",{"$f":"T96","v":506.49053150517148},null,null,null,null,null,null,null,null,null,null,null,"Interpolation des enthalpies",null,null,null,null,"Pression (kPa)","Liquide saturé (kJ/kg)","Enthalpie de vaporisation  (kJ/kg)","Vapeur saturée (kJ/kg)",null,88,0.87,0.88000000000000056]
["Apport total en vapeur au dégazeur  (lb/h)",{"$f":"ROUND(B95*P10,2)","v":0},"Convertion de la ligne du dessous de kg en lb",null,null,null,"Inclus les pertes par l'évent",null,null,null,null,null,null,"Pression en dessous de la valeur entrée par l'utilisateur",null,null,null,null,{"$f":"LOOKUP(B92,'Données vapeur'!A5:A60)","v":98.674999999999997},{"$f":"VLOOKUP(S94,'Données vapeur'!$A$5:$E$60,3,FALSE)","v":504.7},{"$f":"VLOOKUP(S94,'Données vapeur'!$A$5:$E$60,4,FALSE)","v":2201.9},{"$f":"VLOOKUP(S94,'Données vapeur'!$A$5:$E$60,5,FALSE)","v":2706.6},null,89,0.88,0.89000000000000057]
["Apport total en vapeur au dégazeur (kg/h)",{"$f":"IF('Entrée de données'!C55=2,0,SUM(M112:M115))","v":0},null,null,null,null,"Inclus les pertes par l'évent",null,null,null,null,null,null,"Pression au dessus de la valeur entrée par l'utilisateur",null,null,null,null,{"$f":"IF((S94-B92)=0,B92,INDEX('Données vapeur'!A5:A60,RANK(LOOKUP('Bilan_1 EE'!B92,'Données vapeur'!A5:A60),'Données vapeur'!A5:A60,1)+1))","v":123.675},{"$f":"VLOOKUP(S95,'Données vapeur'!$A$5:$E$60,3,FALSE)","v":520.72},{"$f":"VLOOKUP(S95,'Données vapeur'!$A$5:$E$60,4,FALSE)","v":2191.3000000000002},{"$f":"VLOOKUP(S95,'Données vapeur'!$A$5:$E$60,5,FALSE)","v":2712.0200000000004},null,90,0.89,0.90000000000000058]
["% Pertes par l'évent (% de la vapeur alimentée)",9.5000000000000001E-2,"Moyenne des données de l'USDOE",null,null,null,null,null,null,null,null,null,null,"Valeur pour interpolation",null,null,null,null,{"$f":"B92","v":101.46921271094176},{"$f":"IF(S94=S95,T94,FORECAST(S96,T94:T95,S94:S95))","v":506.49053150517148},{"$f":"IF(S94=S95,U94,FORECAST(S96,U94:U95,S94:S95))","v":2200.7152538105606},{"$f":"IF(S94=S95,V94,FORECAST(S96,V94:V95,S94:S95))","v":2707.2057853157321},null,91,0.9,0.91000000000000059]
["Pertes total de vapeur par l'évent (lb/h)",{"$f":"B98*P10","v":0},"Convertion",null,null,null,null,null,null,null,null,null,null,null,null,null,null,null,null,null,null,null,null,{"$f":"X96+1","v":92},0.91,{"$f":"Z96+0.01","v":0.9200000000000006}]
["Pertes de vapeur par l'évent (kg/h)",{"$f":"ROUND(B95*B96,2)","v":0},"Total apport en vapeur *%perte",null,null,null,null,null,null,null,null,null,null,null,null,null,null,null,null,null,null,null,null,93,0.92,0.9300000000000006]
["Perte de vapeur par l'évent (kW)",{"$f":"B98*B58/3600","v":0}]
["Apport total  en vapeur de la chaudière 1 (lb/h)",{"$f":"B101*P10","v":0},null,null,null,null,"quantité de vapeur qui reste",null,null,null,null,null,null,null,null,null,null,null,null,null,null,null,null,{"$f":"X98+1","v":94},0.93,{"$f":"Z98+0.01","v":0.94000000000000061}]
["Apport total en vapeur de la chaudière 1 (kg/h)",{"$f":"IF('Entrée de données'!C55=2,0,IF('Entrée de données'!F21=1,N112,IF('Entrée de données'!F21=2,N113,IF('Entrée de données'!F21=3,N114,IF('Entrée de données'!F21=4,N115,0)))))","v":0},null,null,null,null,null,null,null,null,null,null,null,null,null,null,null,null,null,null,null,null,null,95,0.94,0.95000000000000062]
["Perte de vapeur par l'évent pour la chaudière 1 (lb/h)",{"$f":"B100*B96","v":0},null,null,null,null,"quantité de vapeur qui s'échappe de dégazeur",null,null,null,null,null,null,null,null,null,null,null,null,null,null,null,null,96,0.95,0.96000000000000063]
["Perte de vapeur par l'évent pour la chaudière (kg/h)",{"$f":"B101*B96","v":0},null,null,null,null,null,null,null,null,null,null,null,null,null,null,null,null,null,null,null,null,null,97,0.96,0.97000000000000064]
["Pertes de vapeur par l'évent pour la chaudière 1 (%)",{"$f":"(B103*B58/3600)/B29","v":{"$error":"#DIV/0!"}},"Énergie perdue par event / puissance du bruleur en op  = masse de vapeur perdue par l'évent * hv,sat / puissance du bruleur en op",null,null,null,null,null,null,null,null,null,"Ch1","Ch2","Ch3","Ch4","TOTAL",null,null,null,null,null,null,98,0.97,0.98000000000000065]
["Besoins en vapeur du dégazeur en % de la vapeur produite pour la chaudière 1",{"$f":"B101/B85","v":{"$error":"#DIV/0!"}},"Besoin en vap / quantité de vapeur utile produite",null,null,null,null,null,null,null,null,"m_eau_alim (kg/h)",{"$f":"B68","v":0},{"$f":"IF('Entrée de données'!F21<2,0,'Bilan_2 EE'!B68)","v":0},{"$f":"IF('Entrée de données'!F21<3,0,'Bilan_3 EE'!B68)","v":0},{"$f":"IF('Entrée de données'!F21<4,0,'Bilan_4 EE'!B68)","v":0},{"$f":"SUM(M105:P105)","v":0},null,null,null,null,null,null,99,0.98,0.99000000000000066]
[null,null,null,null,null,null,null,null,null,null,null,"h_eau_alim (kJ/kg)",{"$f":"B55","v":0},{"$f":"IF('Entrée de données'!F21<2,0,'Bilan_2 EE'!B55)","v":0},{"$f":"IF('Entrée de données'!F21<3,0,'Bilan_3 EE'!B55)","v":0},{"$f":"IF('Entrée de données'!F21<4,0,'Bilan_4 EE'!B55)","v":0},null,null,null,null,null,null,null,100,0.99,1.0000000000000007]
[null,null,null,null,null,null,null,null,null,null,null,"h_vapeur (kJ/kg)",{"$f":"B58","v":2675.9825800000003},{"$f":"IF('Entrée de données'!F21<2,0,'Bilan_2 EE'!B58)","v":0},{"$f":"IF('Entrée de données'!F21<3,0,'Bilan_3 EE'!B58)","v":0},{"$f":"IF('Entrée de données'!F21<4,0,'Bilan_4 EE'!B58)","v":0}]
["Énergie contenue dans l'évent du dégazeur pour la chaudière 1(kW)",{"$f":"2326*B103/3600","v":0}]
[null,null,null,null,null,null,null,null,null,null,null,"Apport total  en vapeur pour le dégazeur:"]
[null,null,null,null,null,null,null,null,null,null,null,null,"Pour le dégazeur (kg/h)","Apport par chaudière (kg/h)"]
["Vapeur disponible pour les utilisateurs",null,null,null,null,null,null,null,null,null,null,null,null,"ch1","ch2","ch3","ch4"]
["Quantité de vapeur disponible (lb/h)",{"$f":"B86","v":0},null,null,null,null,null,null,null,null,null,"si une seule chaudière",{"$f":"IF('Entrée de données'!F21=1,(M105*(B93-B55)/(M107-B93))/(1-B96),0)","v":0},{"$f":"IF('Entrée de données'!F21=1,B95,0)","v":0}]
["Quantité de vapeur disponible (kg/h)",{"$f":"B87","v":0},null,"exclus les pertes par l'évent",null,null,null,null,null,null,null,"si 2 chaudière",{"$f":"IF('Entrée de données'!F21=2,(2*(M105*(B93-M106)+N105*(B93-N106))/((M107-B93)+(N107-B93)))/(1-B96),0)","v":0},{"$f":"IF('Entrée de données'!F21=2,B95/2,0)","v":0},{"$f":"IF('Entrée de données'!F21=2,B95/2,0)","v":0}]
[null,null,null,null,null,null,null,null,null,null,null,"si 3 chaudière",{"$f":"IF('Entrée de données'!F21=3,(3*(M105*(B93-M106)+N105*(B93-N106)+O105*(B93-O106))/((M107-B93)+(N107-B93)+(O107-B93)))/(1-B96),0)","v":0},{"$f":"IF('Entrée de données'!F21=3,B95/3,0)","v":0},{"$f":"IF('Entrée de données'!F21=3,B95/3,0)","v":0},{"$f":"IF('Entrée de données'!F21=3,B95/3,0)","v":0}]
[null,null,null,null,null,null,null,null,null,null,null,"si 4 chaudière",{"$f":"IF('Entrée de données'!F21=4,(4*(M105*(B93-M106)+N105*(B93-N106)+O105*(B93-O106)+P105*(B93-P106))/((M107-B93)+(N107-B93)+(O107-B93)+(P107-B93)))/(1-B96),0)","v":0},{"$f":"IF('Entrée de données'!F21=4,B95/4,0)","v":0},{"$f":"IF('Entrée de données'!F21=4,B95/4,0)","v":0},{"$f":"IF('Entrée de données'!F21=4,B95/4,0)","v":0},{"$f":"IF('Entrée de données'!F21=4,B95/4,0)","v":0}]
[]
["Efficacité de génération de vapeur utile",{"$f":"ROUND((B113/3600)*(B58-B55)/B29,5)","v":{"$error":"#DIV/0!"}}]
["Consommation de gaz naturel par kg/h de vapeur, en m3/(kg/h)",{"$f":"ROUND(B31/B113,5)","v":{"$error":"#DIV/0!"}},"m3 de gaz alimenté / masse de vapeur utile produite"]
[]
[]
[]
[null,null,null,"Efficacité = énergie dispo dans vapeur / puissance du bruleur en oper"]
[null,null,null,"Efficacité = masse vapeur dispo * DH / puissance du bruleur en oper"]
[null,null,null,"Efficacité = masse vapeur dispo * (hV,sat - hL) / puissance du bruleur en oper"]

{"sheet":"Radiation_Convection_a_jour","index":17,"n_rows":35,"n_cols":4,"rows_kept":35,"cut":false,"hidden":true,"merged":[]}
["Données de l'ABMA par lecture "]
[]
["En considérant 4 murs refroidis comme l'OEE"]
["De 10 millions à 200 millions: données de l'OEE"]
["http://oee.rncan.gc.ca/industriel/info-technique/outils/chaudieres/5875"]
[]
[]
[]
[null,"Capacité maximale  kW","Capacité maximale millions Btu/h"]
[]
[null,1465.0000000000002,5,2.5999999999999999E-2]
[null,2930.0000000000005,10,1.6E-2]
[null,5860.0000000000009,20,1.0500000000000001E-2]
[null,8790.0000000000018,30,8.3999999999999995E-3]
[null,11720.000000000002,40,7.3000000000000001E-3]
[null,14650.000000000002,50,6.6E-3]
[null,17580.000000000004,60,6.1999999999999998E-3]
[null,20510,70,5.8999999999999999E-3]
[null,23440.000000000004,80,5.5999999999999999E-3]
[null,26370,90,5.4000000000000003E-3]
[null,29300.000000000004,100,5.1999999999999998E-3]
[null,35160.000000000007,120,4.7999999999999996E-3]
[null,41020,140,4.4999999999999997E-3]
[null,46880.000000000007,160,4.3E-3]
[null,52740,180,4.0000000000000001E-3]
[null,58600.000000000007,200,3.8E-3]
[null,87900,300,3.3999999999999998E-3]
[null,117200.00000000001,400,3.0000000000000001E-3]
[null,146500.00000000003,500,2.8E-3]
[null,293000.00000000006,1000,2.3E-3]
[null,586000.00000000012,2000,1.9499999999999999E-3]
[null,1172000.0000000002,4000,1.75E-3]
[null,1758000.0000000002,6000,1.6000000000000001E-3]
[null,2930000,10000,1.5E-3]
[null,5860000,20000,1.5E-3]

{"sheet":"Radition_Convection_Equations","index":18,"n_rows":406,"n_cols":4,"rows_kept":406,"cut":false,"hidden":true,"merged":[[257,0,257,1],[28,0,28,1],[52,0,52,1],[74,0,74,1],[97,0,97,1],[119,0,119,1],[142,0,142,1],[165,0,165,1],[187,0,187,1],[204,0,204,1],[222,0,222,1],[240,0,240,1],[373,0,373,1],[274,0,274,1],[292,0,292,1],[309,0,309,1],[325,0,325,1],[340,0,340,1],[356,0,356,1]]}
["Pertes par radiation et par convection"]
["Équations établies à partir de points obtenus du graphe de l'ABMA"]
[]
["Équations"]
[null,"Équation"]
["Chaudières 20000 millions Btu/h","29,654*(Capacité Utilisée)^-0,958"]
["Chaudières 10000 millions Btu/h","13,693*(Capacité Utilisée)^-0,945"]
["Chaudières 6000 millions Btu/h","8,1891*(Capacité Utilisée)^-0,943"]
["Chaudières 4000 millions Btu/h","7,5945*(Capacité Utilisée)^-0,979"]
["Chaudières 2000 millions Btu/h","4,182*(Capacité Utilisée)^-0,972"]
["Chaudières 1000 millions Btu/h","3*(Capacité Utilisée)^-1"]
["Chaudières 500 millions Btu/h","1,8802*(Capacité Utilisée)^-1,006"]
["Chaudières 400 millions Btu/h","1,415*(Capacité Utilisée)^-0,976"]
["Chaudières 300 millions Btu/h","1,0016*(Capacité Utilisée)^-0,95"]
["Chaudières 200 millions Btu/h","0,8103*(Capacité Utilisée)^-0,946"]
["Chaudières 100 millions Btu/h","0,614*(Capacité Utilisée)^-0,974"]
["Chaudières 80 millions Btu/h","0,5271*(Capacité Utilisée)^-0,962"]
["Chaudières 60 millions Btu/h","0,492*(Capacité Utilisée)^-0,976"]
["Chaudières 50 millions Btu/h","0,3864*(Capacité Utilisée)^-0,954"]
["Chaudières 40 millions Btu/h","0,3425*(Capacité Utilisée)^-0,953"]
["Chaudières 30 millions Btu/h","0,3118*(Capacité Utilisée)^-0,968"]
["Chaudières 20 millions Btu/h","0,2802*(Capacité Utilisée)^-0,995"]
["Chaudières 10 millions Btu/h","0,1998*(Capacité Utilisée)^-0,963"]
["Chaudières 5 millions Btu/h","0,1636*(Capacité Utilisée)^-0,919"]
[]
[]
["Données"]
[]
["Chaudière 20 000 millions Btu/h",null,{"$f":"20000000000*0.000293","v":5860000},"kW"]
["Capacité utilisée (millions de Btu/h)","% de pertes"]
[20000,2.2000000000000001E-3]
[15000,2.8999999999999998E-3]
[10000,4.3E-3]
[7500,6.4999999999999997E-3]
[6000,7.0000000000000001E-3]
[5000,8.5000000000000006E-3]
[4000,1.0500000000000001E-2]
[3000,1.4E-2]
[2500,1.6E-2]
[2000,0.02]
[1000,0.04]
[750]
[500]
[400]
[300]
[200]
[100]
[]
[]
[]
[]
[]
["Chaudière 10 000 millions Btu/h",null,{"$f":"10000000000*0.000293","v":2930000},"kW"]
["Capacité utilisée (millions de Btu/h)","% de pertes"]
[]
[]
[10000,2.2000000000000001E-3]
[7500,2.8999999999999998E-3]
[6000,3.7000000000000002E-3]
[5000,4.7999999999999996E-3]
[4000,5.3E-3]
[3000,7.0000000000000001E-3]
[2500,8.5000000000000006E-3]
[2000,1.0500000000000001E-2]
[1000,0.02]
[750,2.5999999999999999E-2]
[500,3.7999999999999999E-2]
[400,4.8000000000000001E-2]
[300]
[200]
[100]
[]
[]
[]
["Chaudière 6 000 millions Btu/h",null,{"$f":"6000000000*0.000293","v":1758000.0000000002},"kW"]
["Capacité utilisée (millions de Btu/h)","% de pertes"]
[]
[]
[]
[]
[6000,2.2000000000000001E-3]
[5000,2.5999999999999999E-3]
[4000,3.3E-3]
[3000,4.4999999999999997E-3]
[2500,5.1000000000000004E-3]
[2000,6.3E-3]
[1000,1.2200000000000001E-2]
[750,1.6E-2]
[500,2.4E-2]
[400,2.9000000000000001E-2]
[300,3.7499999999999999E-2]
[200,5.5E-2]
[100,0.105]
[]
[]
[]
[]
["Chaudière 4 000 millions Btu/h",null,{"$f":"4000000000*0.000293","v":1172000},"kW"]
["Capacité utilisée (millions de Btu/h)","% de pertes"]
[]
[]
[]
[]
[]
[]
[4000,2.3E-3]
[3000,3.0000000000000001E-3]
[2500,3.5000000000000001E-3]
[2000,4.4999999999999997E-3]
[1000,8.9999999999999993E-3]
[750,1.15E-2]
[500,1.6500000000000001E-2]
[400,2.1000000000000001E-2]
[300,2.8000000000000001E-2]
[200,4.8000000000000001E-2]
[100,0.08]
[]
[]
[]
["Chaudière 2 000 millions Btu/h",null,{"$f":"2000000000*0.000293","v":586000},"kW"]
["Capacité utilisée (millions de Btu/h)","% de pertes"]
[]
[]
[]
[]
[]
[]
[]
[]
[]
[2000,2.5999999999999999E-3]
[1000,5.0000000000000001E-3]
[750,6.7999999999999996E-3]
[500,0.01]
[400,1.2E-2]
[300,1.6500000000000001E-2]
[200,2.4E-2]
[100,4.8000000000000001E-2]
[]
[]
[]
[]
["Chaudière 1 000 millions Btu/h",null,{"$f":"1000000000*0.000293","v":293000},"kW"]
["Capacité utilisée (millions de Btu/h)","% de pertes"]
[]
[]
[]
[]
[]
[]
[]
[]
[]
[]
[1000,3.0000000000000001E-3]
[750,4.0000000000000001E-3]
[500,6.0000000000000001E-3]
[400,7.4999999999999997E-3]
[300,0.01]
[200,1.4999999999999999E-2]
[100,0.03]
[]
[]
[]
[]
["Chaudière 500 millions Btu/h",null,{"$f":"500000000*0.000293","v":146500},"kW"]
["Capacité utilisée (millions de Btu/h)","% de pertes"]
[]
[]
[]
[]
[]
[]
[]
[]
[]
[]
[]
[500,3.5000000000000001E-3]
[400,4.1999999999999997E-3]
[300,6.7999999999999996E-3]
[200,9.4999999999999998E-3]
[100,1.7999999999999999E-2]
[50,3.5999999999999997E-2]
[]
[]
[]
["Chaudière 400 millions Btu/h",null,{"$f":"400000000*0.000293","v":117200.00000000001},"kW"]
["Capacité utilisée (millions de Btu/h)","% de pertes"]
[400,4.0000000000000001E-3]
[300,5.4999999999999997E-3]
[200,8.0000000000000002E-3]
[100,1.6E-2]
[80,0.02]
[60,2.5999999999999999E-2]
[50,3.1E-2]
[40,3.7999999999999999E-2]
[30]
[20]
[10]
[5]
[]
[]
[]
["Chaudière 300 millions Btu/h",null,{"$f":"300000000*0.000293","v":87900},"kW"]
["Capacité utilisée (millions de Btu/h)","% de pertes"]
[400]
[300,4.4999999999999997E-3]
[200,6.4999999999999997E-3]
[100,1.2200000000000001E-2]
[80,1.55E-2]
[60,2.1000000000000001E-2]
[50,2.4E-2]
[40,0.03]
[30,0.04]
[20]
[10]
[5]
[]
[]
[]
[]
["Chaudière 200 millions Btu/h",null,{"$f":"200000000*0.000293","v":58600.000000000007},"kW"]
["Capacité utilisée (millions de Btu/h)","% de pertes"]
[400]
[300]
[200,5.4999999999999997E-3]
[100,0.01]
[80,1.2999999999999999E-2]
[60,1.7000000000000001E-2]
[50,0.02]
[40,2.4E-2]
[30,3.3000000000000002E-2]
[20,4.8000000000000001E-2]
[10]
[5]
[]
[]
[]
[]
["Chaudière 100 millions Btu/h",null,{"$f":"100000000*0.000293","v":29300.000000000004},"kW"]
["Capacité utilisée (millions de Btu/h)","% de pertes"]
[400]
[300]
[200]
[100,6.7999999999999996E-3]
[80,8.5000000000000006E-3]
[60,1.15E-2]
[50,1.4E-2]
[40,1.7000000000000001E-2]
[30,2.1999999999999999E-2]
[20,3.3000000000000002E-2]
[10,6.5000000000000002E-2]
[5]
[]
[]
[]
["Chaudière 80 millions Btu/h",null,{"$f":"80000000*0.000293","v":23440},"kW"]
["Capacité utilisée (millions de Btu/h)","% de pertes"]
[400]
[300]
[200]
[100]
[80,7.4999999999999997E-3]
[60,0.01]
[50,1.2E-2]
[40,1.7000000000000001E-2]
[30,0.02]
[20,2.9000000000000001E-2]
[10,5.8000000000000003E-2]
[5,0.11]
[]
[]
[]
["Chaudière 60 millions Btu/h",null,{"$f":"60000000*0.000293","v":17580},"kW"]
["Capacité utilisée (millions de Btu/h)","% de pertes"]
[400]
[300]
[200]
[100]
[80]
[60,8.5000000000000006E-3]
[50,0.01]
[40,1.2999999999999999E-2]
[30,1.7999999999999999E-2]
[20,3.6200000000000003E-2]
[10,4.8000000000000001E-2]
[5,9.5000000000000001E-2]
[]
[]
[]
[]
["Chaudière 50 millions Btu/h",null,{"$f":"50000000*0.000293","v":14650.000000000002},"kW"]
["Capacité utilisée (millions de Btu/h)","% de pertes"]
[50,8.9999999999999993E-3]
[45,0.01]
[40,1.12E-2]
[35,1.2999999999999999E-2]
[30,1.6500000000000001E-2]
[25,1.7500000000000002E-2]
[20,2.2000000000000002E-2]
[15,2.8999999999999998E-2]
[10,4.4999999999999998E-2]
[8,5.2999999999999999E-2]
[6,7.0000000000000007E-2]
[5,0.08]
[]
[]
[]
["Chaudière 40 millions Btu/h",null,{"$f":"40000000*0.000293","v":11720},"kW"]
["Capacité utilisée (millions de Btu/h)","% de pertes"]
[40,0.01]
[35,1.15E-2]
[30,1.35E-2]
[25,1.6E-2]
[20,0.02]
[15,2.5999999999999999E-2]
[10,3.7999999999999999E-2]
[8,4.8000000000000001E-2]
[6,6.3E-2]
[5,7.2999999999999995E-2]
[4,0.09]
[]
[]
[]
["Chaudière 30 millions Btu/h",null,{"$f":"30000000*0.000293","v":8790},"kW"]
["Capacité utilisée (millions de Btu/h)","% de pertes"]
[30,1.15E-2]
[25,1.4E-2]
[20,1.7000000000000001E-2]
[15,2.3E-2]
[10,3.3000000000000002E-2]
[8,4.2000000000000003E-2]
[6,5.5E-2]
[5,6.5000000000000002E-2]
[4,0.08]
[3,0.11]
[]
[]
[]
["Chaudière 20 millions Btu/h",null,{"$f":"20000000*0.000293","v":5860},"kW"]
["Capacité utilisée (millions de Btu/h)","% de pertes"]
[]
[]
[20,1.4E-2]
[15,1.9E-2]
[10,2.9000000000000001E-2]
[8,3.5000000000000003E-2]
[6,4.8000000000000001E-2]
[5,5.5E-2]
[4,7.0000000000000007E-2]
[3,9.5000000000000001E-2]
[2,0.14000000000000001]
[]
[]
[]
["Chaudière 10 millions Btu/h",null,{"$f":"10000000*0.000293","v":2930},"kW"]
["Capacité utilisée (millions de Btu/h)","% de pertes"]
[]
[]
[]
[]
[10,2.1000000000000001E-2]
[8,2.5999999999999999E-2]
[6,3.5000000000000003E-2]
[5,4.4999999999999998E-2]
[4,5.5E-2]
[3,7.0000000000000007E-2]
[2,0.105]
[1,0.19]
[]
[]
[]
["Chaudière 5 millions Btu/h",null,{"$f":"5000000*0.000293","v":1465},"kW"]
["Capacité utilisée (millions de Btu/h)","% de pertes"]
[]
[]
[]
[]
[]
[]
[]
[5,3.6999999999999998E-2]
[4,4.4999999999999998E-2]
[3,0.06]
[2,0.09]
[1,0.16]
[]
[]
["Chaudière en dessous de 5 millions Btu/h"]
["Basée sur chaduière à 5 millions"]
[]
[]
["Capacité utilisée (% Cacapcité nominale)","% de pertes"]
[]
[]
[]
[]
[]
[]
[]
[1,3.6999999999999998E-2]
[0.8,4.4999999999999998E-2]
[0.6,0.06]
[0.4,0.09]
[0.2,0.16]

{"sheet":"Données vapeur surchauffée","index":19,"n_rows":75,"n_cols":35,"rows_kept":75,"cut":false,"hidden":true,"merged":[]}
[null,null,null,null,null,null,null,null,null,null,null,null,null,null,null,null,null,null,null,null,null,null,null,null,null,null,null,null,null,null,null,null,null,null,"Pas utilisé"]
[]
[]
["Pression absolue (Mpa)","Pression relative (Mpa)","Pression relative (kpa)",null,null,null,"P=0,1 MPa","P=0,2 MPa","P=0,3 MPa","P=0,4 MPa","P=0,5 MPa","P=0,6 MPa","P=0,8 MPa","P=1 MPa","P=1,2 MPa","P=1,4 MPa","P=1,6 MPa","P=1,8 MPa","P=2 MPa","P=2,5 MPa","P=3 MPa","P=3,5 MPa","P=4 MPa","P=4,5 MPa","P=5MPa","P=6MPa","P=7MPa","P=8MPa","P=9MPa","P=10MPa","P=12,5MPa","P=15 MPa","P=17,5 MPa","P=20 MPa","P=25 MPa"]
[null,null,null,null,null,"kPa-relativ",-1.3249999999999929,98.675000000000011,198.67499999999998,298.67500000000001,398.67500000000001,498.67499999999995,698.67500000000007,898.67499999999995,1098.6750000000002,1298.6749999999997,1498.675,1698.6750000000002,1898.675,2398.6749999999997,2898.6749999999997,3398.6749999999997,3898.6749999999997,4398.6750000000002,4898.6750000000002,5898.6750000000002,6898.6750000000002,7898.6750000000002,8898.6750000000011,9898.6750000000011,12398.675000000001,14898.675000000001,17398.674999999999,19898.674999999999,24898.674999999999]
[null,null,null,null,"Enthalpie à la température de surchaute (=T°sat +° surchauffe)",null,{"$f":"0.0003*(#REF!+G9)^2+1.8237*(#REF!+G9)+2495.8","v":{"$error":"#REF!"}},{"$f":"0.0003*(#REF!+H9)^2 + 1.8428*(#REF!+H9) + 2487.2","v":{"$error":"#REF!"}},{"$f":"2.2725*(#REF!+I9) + 2383.6","v":{"$error":"#REF!"}},{"$f":"2.2785*(#REF!+J9) + 2377.5","v":{"$error":"#REF!"}},{"$f":"2.2922*(#REF!+K9) + 2364.2","v":{"$error":"#REF!"}},{"$f":"2.2968*(#REF!+L9) + 2359.4","v":{"$error":"#REF!"}},{"$f":" 2.3056*(#REF!+M9) +2350.1","v":{"$error":"#REF!"}},{"$f":"2.3142*(#REF!+N9) + 2341","v":{"$error":"#REF!"}},{"$f":"2.3228*(#REF!+O9)+2331.9","v":{"$error":"#REF!"}},{"$f":"2.3313*(#REF!+P9)+ 2322.8","v":{"$error":"#REF!"}},{"$f":"2.3381*(#REF!+Q9) + 2315.3","v":{"$error":"#REF!"}},{"$f":"2.3454*(#REF!+R9) + 2307.3","v":{"$error":"#REF!"}},{"$f":"2.3541*(#REF!+S9)+ 2298","v":{"$error":"#REF!"}},{"$f":"2.3758*(#REF!+T9)+2275.9","v":{"$error":"#REF!"}},{"$f":"2.3903*(#REF!+U9)+2258.7","v":{"$error":"#REF!"}},{"$f":"0.00008*(#REF!+V9)^2 +2.2841*(#REF!+V9) + 2274.9","v":{"$error":"#REF!"}},{"$f":"0.00007*(#REF!+W9)^2 +2.3123*(#REF!+W9) + 2256.3","v":{"$error":"#REF!"}},{"$f":"4*10^-5*(#REF!+X9)^2+2.3769*(#REF!+X9) + 2228.2","v":{"$error":"#REF!"}},{"$f":"3*10^-7*(#REF!+Y9)^2 +2.4548*(#REF!+Y9)+2186.6","v":{"$error":"#REF!"}},{"$f":"-5*10^-5*(#REF!+Z9)^2 + 2.5508*(#REF!+Z9) + 2137.8","v":{"$error":"#REF!"}},{"$f":"-5*10^-5*(#REF!+AA9)^2 + 2.568*(#REF!+AA9) + 2118","v":{"$error":"#REF!"}},{"$f":"-0.0002*(#REF!+AB9)^2 + 2.8524*(#REF!+AB9) + 1991.1","v":{"$error":"#REF!"}},{"$f":"-0.0002*(#REF!+AC9)^2+2.9162*(#REF!+AC9)+1952.8","v":{"$error":"#REF!"}},{"$f":"-0.0003*(#REF!+AD9)^2 + 3.074*(#REF!+AD9) + 1875.7","v":{"$error":"#REF!"}},{"$f":"-0.0005*(#REF!+AE9)^2+3.3698*(#REF!+AE9)+1722.7","v":{"$error":"#REF!"}},{"$f":"-0.0007*(#REF!+AF9)^2+3.8402*(#REF!+AF9)+1495.3","v":{"$error":"#REF!"}},{"$f":"0.000003*(#REF!+AG9)^3 -0.0071*(#REF!+AG9)^2 + 8.8286*(#REF!+AG9) +278.47","v":{"$error":"#REF!"}},{"$f":"0.000003*(#REF!+AH9)^3-0.0092*(#REF!+AH9)^2+10.813*(#REF!+AH9)-323.93","v":{"$error":"#REF!"}},"y = -0,0015x2 + 8,2228x + 1298,5"]
[0.1,{"$f":"A7-0.101325","v":-1.3249999999999929E-3},-1.3249999999999929,null,null,"erreur pr Hsat",{"$f":"G6/G10-1","v":{"$error":"#REF!"}},{"$f":"H6/H10-1","v":{"$error":"#REF!"}},{"$f":"I6/I10-1","v":{"$error":"#REF!"}},{"$f":"J6/J10-1","v":{"$error":"#REF!"}},{"$f":"K6/K10-1","v":{"$error":"#REF!"}},{"$f":"L6/L10-1","v":{"$error":"#REF!"}},{"$f":"M6/M10-1","v":{"$error":"#REF!"}},{"$f":"N6/N10-1","v":{"$error":"#REF!"}},{"$f":"O6/O10-1","v":{"$error":"#REF!"}},{"$f":"P6/P10-1","v":{"$error":"#REF!"}},{"$f":"Q6/Q10-1","v":{"$error":"#REF!"}},{"$f":"R6/R10-1","v":{"$error":"#REF!"}},{"$f":"S6/S10-1","v":{"$error":"#REF!"}},{"$f":"T6/T10-1","v":{"$error":"#REF!"}},{"$f":"U6/U10-1","v":{"$error":"#REF!"}},{"$f":"V6/V10-1","v":{"$error":"#REF!"}},{"$f":"W6/W10-1","v":{"$error":"#REF!"}},{"$f":"X6/X10-1","v":{"$error":"#REF!"}},{"$f":"Y6/Y10-1","v":{"$error":"#REF!"}},{"$f":"Z6/Z10-1","v":{"$error":"#REF!"}},{"$f":"AA6/AA10-1","v":{"$error":"#REF!"}},{"$f":"AB6/AB10-1","v":{"$error":"#REF!"}},{"$f":"AC6/AC10-1","v":{"$error":"#REF!"}},{"$f":"AD6/AD10-1","v":{"$error":"#REF!"}},{"$error":"#REF!"},{"$error":"#REF!"},{"$error":"#REF!"},{"$f":"AH6/AH10-1","v":{"$error":"#REF!"}}]
[0.2,{"$f":"A8-0.101325","v":9.8675000000000013E-2},98.675000000000011,null,null,"T","h","h","h","h"]
[0.3,0.19867499999999999,198.67499999999998,null,null,"T°sat °C",99.63,120.23,133.55000000000001,143.63,151.86000000000001,158.85,170.43,179.91,187.99,195.07,201.41,207.15,212.42,223.99,233.9,242.6,250.4,257.49,263.99,275.64,285.88,295.06,303.39999999999998,311.06,327.89,342.24,354.75,365.81]
[0.4,0.29867500000000002,298.67500000000001,null,null,"h Tsat",2675.5,2706.7,2725.3,2738.6,2748.7,2756.8,2769.1,2778.1,2784.8,2790,2794,2797.1,2799.5,2803.1,2804.2,2803.4,2801.4,2798.3,2794.3,2784.3,2838.4,2758,2742.1,2724.7,2673.8,2610.5,2528.8000000000002,2409.6999999999998]
[0.5,0.398675,398.67500000000001,null,null,100,2676.2]
[0.6,0.49867499999999998,498.67499999999995,null,null,150,2776.4,2768.8,2761,2752.8]
[0.8,0.69867500000000005,698.67500000000007,null,null,200,2875.3,2870.5,2865.6,2860.5,2855.4,2850.1,2839.3,2827.9,2815.9,2803.3]
[1,0.898675,898.67499999999995,null,null,225,null,null,null,null,null,null,null,null,null,null,2857.3,2849.7,2835.8,2806.3]
[1.2,1.0986750000000001,1098.6750000000002,null,null,250,2974.3,2971,2967.6,2964.2,2960.7,2957.2,2950,2942.6,2935,2927.2,2919.2,2911,2902.5,2880.1,2855.8,2829.2]
[1.4,1.2986749999999998,1298.6749999999997,null,null,275,null,null,null,null,null,null,null,null,null,null,null,null,null,null,null,null,2886.2,2863.2,2838.3]
[1.6,1.498675,1498.675,null,null,300,3074.3,3071.8,3069.3,3066.8,3064.2,3061.6,3056.5,3051.2,3045.8,3040.4,3034.8,3029.2,3023.5,3008.8,2993.5,2977.5,2960.7,2943.1,2924.5,2884.2,2838.4,2785]
[1.8,1.6986750000000002,1698.6750000000002,null,null,325,null,null,null,null,null,null,null,null,null,null,null,null,null,null,null,null,null,null,null,null,null,null,2856,2809.1]
[2,1.8986749999999999,1898.675,null,null,350,null,null,null,null,3167.7,3165.7,3161.7,3157.7,3153.6,3149.5,3145.4,3141.2,3137,3126.3,3115.3,3104,3092.5,3080.6,3068.4,3043,3016,2987.3,2956.6,2923.4,2826.2,2692.4]
[2.5,2.3986749999999999,2398.6749999999997,null,null,375,null,null,null,null,null,null,null,null,null,null,null,null,null,null,null,null,null,null,null,null,null,null,null,null,null,null,null,null,1848]
[3,2.8986749999999999,2898.6749999999997,null,null,400,3278.2,3276.6,3275,3273.4,3271.9,3270.3,3267.1,3263.9,3260.7,3257.5,3254.2,3250.9,3247.6,3239.3,3230.9,3222.3,3213.6,3240.7,3195.7,3177.2,3158.4,3138.3,3117.8,3096.5,3039.3,2975.5,2902.9,2818.1,2580.1999999999998]
[3.5,3.3986749999999999,3398.6749999999997,null,null,425,null,null,null,null,null,null,null,null,null,null,null,null,null,null,null,null,null,null,null,null,null,null,null,null,null,null,null,null,2806.3]
[4,3.8986749999999999,3898.6749999999997,null,null,450,null,null,null,null,null,null,null,null,null,null,null,null,null,3350.8,3344,3337.2,3330.3,3323.3,3316.2,3301.8,3287.1,3272,3256.6,3240.9,3199.8,3156.2,3109.7,3060.1,2949.7]
[4.5,4.3986749999999999,4398.6750000000002,null,null,500,3488.1,3487.1,3486,3484.9,3483.9,3482.8,3480.6,3478.5,3476.3,3474.1,3472,3469.8,3467.6,3462.1,3456.5,3450.9,3445.3,3439.6,3433.8,3422.2,3410.3,3398.3,3386.1,3373.7,3341.8,3308.6,3274.1,3238.2,3162.4]
[5,4.8986749999999999,4898.6750000000002,null,null,550,null,null,null,null,null,null,null,null,null,null,null,null,null,null,null,null,null,null,null,3540.6,3530.9,3521,3511,3500.9,3475.2,3448.6,3421.4,3393.5,3335.6]
[6,5.8986749999999999,5898.6750000000002,null,null,600,3704.7,3704,3703.2,3702.4,3701.7,3700.9,3699.4,3697.9,3696.3,3694.8,3693.2,3691.7,3690.1,3686.3,3682.3,3678.8,3674.4,3670.5,3666.5,3658.4,3650.3,3642,3633.7,3625.3,3604,3582.3,3560.1,3537.6,3491.4]
[7,6.8986749999999999,6898.6750000000002,null,null,650,null,null,null,null,null,null,null,null,null,null,null,null,null,null,null,null,null,null,null,null,null,null,3755.3,3748.2,3730.4,3712.3,3693.9,3675.3,3637.4]
[8,7.8986749999999999,7898.6750000000002,null,null,700,3928.2,3927.6,3927.1,3926.5,3925.9,3925.3,3924.2,3923.1,3922,3920.8,3919.7,3918.5,3917.4,3914.5,3911.7,3908.8,3905.9,3903,3900.1,3894.2,3888.3,3882.4,3876.5,3870.5,3855.3,3840.1,3824.6,3809,3777.5]
[9,8.8986750000000008,8898.6750000000011,null,null,800,4158.6000000000004,4158.2,4157.8,4157.3,4156.8999999999996,4156.5,4155.6000000000004,4154.7,4153.8,4153.5,4152.1000000000004,4151.2,4150.3,4148.2,4145.8999999999996,4146.7,4141.5,4139.3,4137.1000000000004,4132.7,4128.2,4123.8,4119.3,4114.8,4103.6000000000004,4092.4,4081.1,4069.7,4047.1]
[10,9.8986750000000008,9898.6750000000011,null,null,900,4396.1000000000004,4395.8,4395.3999999999996,4395.1000000000004,4394.7,4394.3999999999996,4393.7,4392.8999999999996,4392.2,4391.5,4390.8,4390.1000000000004,4389.3999999999996,4387.6000000000004,4385.8999999999996,4384.1000000000004,4382.3,4380.6000000000004,4378.8,4375.3,4371.8,4368.3,4364.8,4361.2,4352.5,4343.8,4335.1000000000004,4326.3999999999996,4309.1000000000004]
[12.5,12.398675000000001,12398.675000000001,null,null,1000,4640.3,4640,4639.7,4639.3999999999996,4639.1000000000004,4638.8,4638.2,4637.6000000000004,4637,4636.3999999999996,4635.8,4635.2,4634.6000000000004,4633.1000000000004,4631.6000000000004,4630.1000000000004,4628.7,4627.2,4625.7,4622.7,4619.8,4616.8999999999996,4614,4611,4603.8,4596.6000000000004,4589.5,4582.5,4568.5]
[15,14.898675000000001,14898.675000000001,null,null,1100,4891,4890.7,4890.3999999999996,4890.2,4889.8999999999996,4889.6000000000004,4889.1000000000004,4888.6000000000004,4888,4887.5,4887,4886.3999999999996,4885.8999999999996,4884.6000000000004,4883.3,4881.8999999999996,4880.6000000000004,4879.3,4878,4875.3999999999996,4872.8,4870.3,4867.7,4865.1000000000004,4858.8,4852.6000000000004,4846.3999999999996,4840.2,4828.2]
[17.5,17.398675000000001,17398.674999999999,null,null,1200,5147.6000000000004,5147.3,5147.1000000000004,5146.8,5146.6000000000004,5146.3,5145.8999999999996,5145.3999999999996,5144.8999999999996,5144.3999999999996,5143.8999999999996,5143.3999999999996,5142.8999999999996,5147.7,5140.5,5139.3,5138.1000000000004,5136.8999999999996,5135.7,5133.3,5130.8999999999996,5128.5,5126.2,5123.8,5118,5112.3,5106.6000000000004,5101,5089.8999999999996]
[20,19.898675000000001,19898.674999999999,null,null,1300,5409.5,5409.3,5409,5408.8,5408.6,5408.3,5407.9,5407.4,5407,5406.5,5406,5405.6,5405.1,5404,5402.8,5401.7,5400.5,5399.4,5398.2,5396,5393.7,5391.5,5389.2,5387,5381.4,5376,5370.5,5365.1,5354.4]
[25,24.898675000000001,24898.674999999999]
[]
[]
[]
[]
[]
[null,null,null,null,null,null,"http://www.spiraxsarco.com/esc/SH_Properties.aspx"]
[]
[]
[]
[]
[]
[]
[]
[]
[]
[]
[]
[]
[]
[]
[]
[]
[]
[]
[]
[]
[]
[]
[]
[]
[]
[]
[]
[]
[]
[]
[]
[]
[]
[null,null,null,null,null,null,null,null,null,null,null,null,null,null,null,null,null,null,null,null,null,null,null,null,null,null,null,null,null,{"$f":"2.7523*209.91+2378.2","v":2955.9352929999995}]

{"sheet":"Tableau complet Vapeur","index":20,"n_rows":125,"n_cols":10,"rows_kept":125,"cut":false,"hidden":true,"merged":[[67,4,67,6],[2,1,2,3],[2,4,2,6]]}
["Données vapeur",null,null,null,null,null,null,null,null,"Conversion: 1 kJ/kg = 0,42993 Btu/lb"]
["Source: Van Wylen et al."]
["p694","Enthalpie (kJ/kg)",null,null,"Enthalpie (Btu/lb)"]
["Pression relative - kPa","Liquide sat (hf)","Évaporation (hgf)","Vapeur sat (hg)","Liquide sat (hf)","Évaporation (hgf)","vapeur sat (hg)"]
[-1.325,417.46,2258,2675.46,{"$f":"ROUND(B5*0.42993,2)","v":179.48},{"$f":"ROUND(C5*0.42993,2)","v":970.78},{"$f":"ROUND(D5*0.42993,2)","v":1150.26}]
[23.675000000000001,444.32,2241,2685.32,{"$f":"ROUND(B6*0.42993,2)","v":191.03},{"$f":"ROUND(C6*0.42993,2)","v":963.47},{"$f":"ROUND(D6*0.42993,2)","v":1154.5}]
[48.674999999999997,467.11,2226.5,2693.61,200.82,957.24,1158.06]
[73.674999999999997,486.99,2213.6,2700.59,209.37,951.69,1161.06]
[98.674999999999997,504.7,2201.9,2706.6,216.99,946.66,1163.6500000000001]
[123.675,520.72,2191.3000000000002,2712.0200000000004,223.87,942.11,1165.98]
[148.67500000000001,535.37,2181.5,2716.87,230.17,937.89,1168.06]
[173.67500000000001,548.89,2172.4,2721.29,235.98,933.98,1169.96]
[198.67500000000001,561.47,2163.8000000000002,2725.2700000000004,241.39,930.28,1171.68]
[223.67500000000001,573.25,2155.8000000000002,2729.05,246.46,926.84,1173.3]
[248.67500000000001,584.33000000000004,2148.1,2732.43,251.22,923.53,1174.75]
[273.67500000000001,594.80999999999995,2140.8000000000002,2735.61,255.73,920.39,1176.1199999999999]
[298.67500000000001,604.74,2133.8000000000002,2738.54,260,917.38,1177.3800000000001]
[348.67500000000001,623.25,2120.6999999999998,2743.95,267.95,911.75,1179.71]
[398.67500000000001,640.23,2108.5,2748.73,275.25,906.51,1181.76]
[448.67500000000001,655.93,2097,2752.93,282,901.56,1183.57]
[498.67500000000001,670.56,2086.3000000000002,2756.86,288.29000000000002,896.96,1185.26]
[548.67499999999995,684.28,2076,2760.2799999999997,294.19,892.53,1186.73]
[598.67499999999995,697.22,2066.3000000000002,2763.5200000000004,299.76,888.36,1188.1199999999999]
[648.67499999999995,709.47,2057,2766.4700000000003,305.02,884.37,1189.3900000000001]
[698.67499999999995,721.11,2048,2769.11,310.02999999999997,880.5,1190.52]
[748.67499999999995,732.22,2039.4,2771.62,314.8,876.8,1191.5999999999999]
[798.67499999999995,742.83,2031.1,2773.93,319.36,873.23,1192.5999999999999]
[848.67499999999995,753.02,2023.1,2776.12,323.75,869.79,1193.54]
[898.67499999999995,762.81,2015.3,2778.1099999999997,327.95,866.44,1194.3900000000001]
[998.67499999999995,781.34,2000.4,2781.7400000000002,335.92,860.03,1195.95]
[1098.675,798.65,1986.2,2784.85,343.36,853.93,1197.29]
[1198.675,814.93,1972.7,2787.63,350.36,848.12,1198.49]
[1298.675,830.3,1959.7,2790,356.97,842.53,1199.5]
[1398.675,844.89,1947.3,2792.19,363.24,837.2,1200.45]
[1648.675,878.5,1917.9,2796.4,377.69,824.56,1202.26]
[1898.675,908.79,1890.7,2799.49,390.72,812.87,1203.58]
[2148.6750000000002,936.49,1865.2,2801.69,{"$f":"ROUND(B37*0.42993,2)","v":402.63},801.91,1204.53]
[2398.6750000000002,962.11,1841,2803.11,413.64,791.5,1205.1400000000001]
[2898.6750000000002,1008.42,1795.7,2804.12,433.55,772.03,1205.58]
[3398.6750000000002,1049.75,1753.7,2803.45,451.32,753.97,1205.29]
[3898.6750000000002,1087.31,1714.1,2801.41,467.47,736.94,1204.4100000000001]
[4898.6750000000002,1154.23,1640.1,2794.33,496.24,705.13,1201.3699999999999]
[5898.6750000000002,1213.3499999999999,1571,2784.35,521.66,675.42,1197.08]
[6898.6750000000002,1267,1505.1,2772.1,544.72,647.09,1191.81]
[7898.6750000000002,1316.64,1441.3,2757.94,566.05999999999995,619.66,1185.72]
[8898.6749999999993,1363.26,1378.9,2742.16,586.11,592.83000000000004,1178.94]
[9898.6749999999993,1407.56,1317.1,2724.66,605.15,566.26,1171.4100000000001]
[10898.674999999999,1450.1,1255.5,2705.6,623.44000000000005,539.78,1163.22]
[11898.674999999999,1491.3,1193.5999999999999,2684.8999999999996,641.15,513.16,1154.32]
[12898.674999999999,1531.5,1130.7,2662.2,658.44,486.12,1144.56]
[13898.674999999999,1571.1,1066.5,2637.6,675.46,458.52,1133.98]
[14898.674999999999,1610.5,1000,2610.5,692.4,429.93,1122.33]
[15898.674999999999,1650.1,930.6,2580.6999999999998,709.43,400.09,1109.52]
[16898.674999999999,1690.3,856.9,2547.1999999999998,726.71,368.41,1095.1199999999999]
[17898.674999999999,1732,777.1,2509.1,744.64,334.1,1078.74]
[18898.674999999999,1776.5,688,2464.5,763.77,295.79000000000002,1059.56]
[19898.674999999999,1826.3,583.4,2409.6999999999998,785.18,250.82,1036]
[20898.674999999999,1888.4,446.2,2334.6,811.88,191.83,1003.71]
[21898.674999999999,2022.2,143.4,2165.6,869.4,61.65,931.06]
[21988.674999999999,2099.3000000000002,0,2099.3000000000002,902.55,0,902.55]
[]
[]
[]
[]
[]
["Source: Van Wilen et Al. \"Thernodynamique\", 2ème édition"]
[]
[null,null,null,null,"Enthalpie (kJ/kg)"]
["Pression Mpa - Absolu","Pression Mpa -Relative","Pression kpa -Relative arrondi","Pression relative (psig)","Liquide sat (hf)","Évaporation (hgf)","vapeur sat (hg)"]
[0.1,{"$f":"A70-0.101325","v":-1.3249999999999929E-3},{"$f":"ROUND(B70,3)*1000+1","v":0},{"$f":"B70*145.04","v":-0.19217799999999896},417.46,2258,{"$f":"E70+F70","v":2675.46}]
[0.125,{"$f":"A71-0.101325","v":2.3675000000000002E-2},{"$f":"ROUND(B71,3)*1000+1","v":25},{"$f":"B71*145.04","v":3.4338220000000002},444.32,2241,{"$f":"E71+F71","v":2685.32}]
[0.15,4.8674999999999996E-2,50,7.0598219999999987,467.11,2226.5,2693.61]
[0.17499999999999999,7.367499999999999E-2,75,10.685821999999998,486.99,2213.6,2700.59]
[0.2,9.8675000000000013E-2,100,14.311822000000001,504.7,2201.9,2706.6]
[0.22500000000000001,0.12367500000000001,125,17.937822000000001,520.72,2191.3000000000002,2712.0200000000004]
[0.25,0.148675,150,21.563821999999998,535.37,2181.5,2716.87]
[0.27500000000000002,0.17367500000000002,175,25.189822000000003,548.89,2172.4,2721.29]
[0.3,0.19867499999999999,200,28.815821999999997,561.47,2163.8000000000002,2725.2700000000004]
[0.32500000000000001,0.22367500000000001,225,32.441822000000002,573.25,2155.8000000000002,2729.05]
[0.35,0.24867499999999998,250,36.067821999999992,584.33000000000004,2148.1,2732.43]
[0.375,0.273675,275,39.693821999999997,594.80999999999995,2140.8000000000002,2735.61]
[0.4,0.29867500000000002,300,43.319822000000002,604.74,2133.8000000000002,2738.54]
[0.45,0.34867500000000001,350,50.571821999999997,623.25,2120.6999999999998,2743.95]
[0.5,0.398675,400,57.823822,640.23,2108.5,2748.73]
[0.55000000000000004,0.44867500000000005,450,65.075822000000002,655.93,2097,2752.93]
[0.6,0.49867499999999998,500,72.327821999999998,670.56,2086.3000000000002,2756.86]
[0.65,0.54867500000000002,550,79.579821999999993,684.28,2076,2760.2799999999997]
[0.7,0.59867499999999996,600,86.831821999999988,697.22,2066.3000000000002,2763.5200000000004]
[0.75,0.648675,650,94.083821999999998,709.47,2057,{"$f":"E89+F89","v":2766.4700000000003}]
[0.8,0.69867500000000005,700,101.33582200000001,721.11,2048,2769.11]
[0.85,0.74867499999999998,750,108.58782199999999,732.22,2039.4,2771.62]
[0.9,0.79867500000000002,800,115.839822,742.83,2031.1,2773.93]
[0.95,0.84867499999999996,850,123.09182199999999,753.02,2023.1,2776.12]
[1,0.898675,900,130.34382199999999,762.81,2015.3,2778.1099999999997]
[1.1000000000000001,0.99867500000000009,1000,144.84782200000001,781.34,2000.4,2781.7400000000002]
[1.2,1.0986750000000001,1100,159.351822,798.65,1986.2,2784.85]
[1.3,1.1986750000000002,1200,173.85582200000002,814.93,1972.7,2787.63]
[1.4,1.2986749999999998,1300,188.35982199999995,830.3,1959.7,2790]
[1.5,1.3986749999999999,1400,202.86382199999997,844.89,1947.3,2792.19]
[1.75,1.6486749999999999,1650,239.12382199999996,878.5,1917.9,2796.4]
[2,1.8986749999999999,1900,275.38382199999995,908.79,1890.7,2799.49]
[2.25,2.1486749999999999,2150,311.64382199999994,936.49,1865.2,2801.69]
[2.5,2.3986749999999999,2400,347.90382199999999,962.11,1841,2803.11]
[3,2.8986749999999999,2900,420.42382199999997,1008.42,1795.7,2804.12]
[3.5,3.3986749999999999,3400,492.94382199999995,1049.75,1753.7,2803.45]
[4,3.8986749999999999,3900,565.46382199999994,1087.31,1714.1,2801.41]
[5,4.8986749999999999,4900,710.5038219999999,1154.23,1640.1,2794.33]
[6,5.8986749999999999,5900,855.54382199999998,1213.3499999999999,1571,2784.35]
[7,6.8986749999999999,6900,1000.5838219999999,1267,1505.1,2772.1]
[8,7.8986749999999999,7900,1145.623822,1316.64,1441.3,2757.94]
[9,8.8986750000000008,8900,1290.663822,1363.26,1378.9,2742.16]
[10,9.8986750000000008,9900,1435.7038219999999,1407.56,1317.1,2724.66]
[11,10.898675000000001,10900,1580.7438220000001,1450.1,1255.5,2705.6]
[12,11.898675000000001,11900,1725.7838220000001,1491.3,1193.5999999999999,2684.8999999999996]
[13,12.898675000000001,12900,1870.8238220000001,1531.5,1130.7,2662.2]
[14,13.898675000000001,13900,2015.863822,1571.1,1066.5,2637.6]
[15,14.898675000000001,14900,2160.9038220000002,1610.5,1000,2610.5]
[16,15.898675000000001,15900,2305.9438220000002,1650.1,930.6,2580.6999999999998]
[17,16.898675000000001,16900,2450.9838220000001,1690.3,856.9,2547.1999999999998]
[18,17.898675000000001,17900,2596.0238220000001,1732,777.1,2509.1]
[19,18.898675000000001,18900,2741.0638220000001,1776.5,688,2464.5]
[20,19.898675000000001,19900,2886.103822,1826.3,583.4,2409.6999999999998]
[21,20.898675000000001,20900,3031.143822,1888.4,446.2,2334.6]
[22,21.898675000000001,21900,3176.183822,2022.2,143.4,2165.6]
[22.09,21.988675000000001,21990,3189.2374219999997,2099.3000000000002,0,2099.3000000000002]

{"sheet":"Comb_2","index":21,"n_rows":215,"n_cols":23,"rows_kept":215,"cut":false,"hidden":true,"merged":[[192,7,192,9],[198,7,198,9],[204,7,204,9],[210,7,210,9],[49,3,49,8],[73,0,73,6],[73,8,73,13],[74,3,74,6],[74,11,74,13],[75,12,75,13],[6,3,6,4],[6,5,6,8],[7,5,7,8],[29,9,29,11],[47,0,47,9],[47,11,47,18],[4,9,4,11],[4,12,4,20],[5,9,5,11],[5,12,5,14],[5,15,5,17],[5,18,5,20]]}
[]
[null,null,null,null,"EFFICACITE","%",{"$f":"1-(G4/(G5+ABS(L28)))","v":0.82756709960948083}]
[]
[null,null,null,null,"Hout","J / mol gaz",{"$f":"U28","v":152567.31373295138}]
["BILAN THERMIQUE",null,null,null,"Hin","J / mol gaz",{"$f":"O28+R28","v":-822.93324283140009},null,null,"PROPRIÉTÉ DU GAZ",null,null,"CALCUL ÉNERGIE"]
[null,null,null,null,null,null,null,null,null,"GAZ ****",null,null,"GAZ",null,null,"AIR",null,null,"FUMEE"]
[null,null,"Masse","* Enthalpie (J / mol)",null,"* Chaleur Spécifique (J / mol oC)",null,null,null,"M","Densité","PCS ou","T (oC) =",{"$f":"'Entrée de données'!D37","v":20},null,"T (oC) =",{"$f":"'Entrée de données'!D35","v":20},null,"T (oC) =",{"$f":"'Entrée de données'!D34","v":200}]
[null,null,"Molaire","Formation","Combustion","Cp = a + bTx102 + cT2105 + dT3*109",null,null,null,"Mélange","Mélange","HHV","Débit","Cpmoy","H","Débit","Cpmoy","H","Débit","Cpmoy","H"]
["État gazeux sauf si indication",null,"g / mol",null,null,"a","b","c","d","g / mol","kg / m3","J / mol gaz","mol / mol gaz","J / mol oC","J / mol gaz","mol / mol gaz","J / mol oC","J / mol gaz","mol / mol gaz","J / mol oC","J / mol gaz"]
["Oxygène","O2",32,0,0,29.1,1.1579999999999999,-0.60760000000000003,1.3109999999999999,{"$f":"M10*C10","v":0},{"$f":"(101325*(C10/1000))/(8.3144*288.7056)*M10","v":0},{"$f":"M10*E10","v":0},{"$f":"C55/100","v":0},{"$f":"AVERAGE($F10+$G10/100*N$7+$H10/100000*N$7^2+$I10/1000000000*N$7^3,$F10+$G10/100*$B$29+$H10/100000*$B$29^2+$I10/1000000000*$B$29^3)","v":29.357451536187501},{"$f":"M10*N10*(N$7-$B$29)","v":0},{"$f":"CD92","v":0},{"$f":"AVERAGE($F10+$G10/100*Q$7+$H10/100000*Q$7^2+$I10/1000000000*Q$7^3,$F10+$G10/100*$B$29+$H10/100000*$B$29^2+$I10/1000000000*$B$29^3)","v":29.357451536187501},{"$f":"P10*Q10*(Q$7-$B$29)","v":0},{"$f":"Comb_2!L84","v":0.5967840000000002},{"$f":"AVERAGE($F10+$G10/100*T$7+$H10/100000*T$7^2+$I10/1000000000*T$7^3,$F10+$G10/100*$B$29+$H10/100000*$B$29^2+$I10/1000000000*$B$29^3)","v":30.2845854921875},{"$f":"S10*T10*(T$7-$B$29)","v":3162.8373119646853}]
["Monoxide de carbone","CO",28.010999999999999,-110520,-282990,28.95,0.41099999999999998,0.3548,-2.2200000000000002,0,0,0,{"$f":"C56/100","v":0},{"$f":"AVERAGE($F11+$G11/100*N$7+$H11/100000*N$7^2+$I11/1000000000*N$7^3,$F11+$G11/100*$B$29+$H11/100000*$B$29^2+$I11/1000000000*$B$29^3)","v":29.044267126249999},{"$f":"M11*N11*(N$7-$B$29)","v":0},null,{"$f":"AVERAGE($F11+$G11/100*Q$7+$H11/100000*Q$7^2+$I11/1000000000*Q$7^3,$F11+$G11/100*$B$29+$H11/100000*$B$29^2+$I11/1000000000*$B$29^3)","v":29.044267126249999},{"$f":"P11*Q11*(Q$7-$B$29)","v":0},null,29.475546406249997,{"$f":"S11*T11*(T$7-$B$29)","v":0}]
["Dioxide de carbone","CO2",44.011000000000003,-393500,0,36.11,4.2329999999999997,-2.887,7.4640000000000004,0.14963740000000003,6.3164148191036497E-3,0,{"$f":"C57/100","v":3.4000000000000002E-3},37.0477172935,{"$f":"M12*N12*(N$7-$B$29)","v":-0.62981119398950003},null,37.0477172935,{"$f":"P12*Q12*(Q$7-$B$29)","v":0},{"$f":"Comb_2!L82","v":1.00386},40.315617437499995,{"$f":"S12*T12*(T$7-$B$29)","v":7082.4662511415299}]
["Hydrogène","H2",2.016,0,-285840,28.84,7.6499999999999997E-3,0.32879999999999998,-0.86980000000000002,0,0,0,{"$f":"C58/100","v":0},28.843396075487497,{"$f":"M13*N13*(N$7-$B$29)","v":0},null,28.843396075487497,{"$f":"P13*Q13*(Q$7-$B$29)","v":0},null,28.911907754687498,{"$f":"S13*T13*(T$7-$B$29)","v":0}]
["Eau (v)","H20 (v)",18.015000000000001,-241830,0,33.46,0.68799999999999994,0.76039999999999996,-3.593,0,0,0,{"$f":"C59/100","v":0},33.618654607687503,{"$f":"M14*(V14+N14*(N$7-$B$29))","v":0},{"$f":"D93","v":1.0939348676877604E-2},33.618654607687503,{"$f":"P14*(V14+Q14*(Q$7-$B$29))","v":442.91132888313081},{"$f":"Comb_2!L86-S15","v":1.9885793486768779},34.3740561796875,{"$f":"((S14-G93)*$V$14)+(S14*T14*(T$7-$B$29))","v":92365.151033607443},40656,"Enthalpie vaporisation (J/mol)"]
["Eau (l)","H2O (l)",18.015000000000001,-285840,0,75.400000000000006,0,0,0,0,0,0,0,75.400000000000006,{"$f":"M15*N15*(N$7-$B$29)","v":0},null,75.400000000000006,{"$f":"P15*Q15*(Q$7-$B$29)","v":0},{"$f":"Comb_2!L96","v":0},75.400000000000006,{"$f":"S15*T15*(T$7-$B$29)","v":0}]
["Sulfure d'hydrogène","H2S",34.076000000000001,-19960,-562590,33.51,1.5469999999999999,0.30120000000000002,-3.2919999999999998,0,0,0,{"$f":"C60/100","v":0},33.859579763249997,0,null,33.859579763249997,0,null,35.29836253125,0]
["Méthane","CH4",16.042999999999999,-74850,-890360,34.31,5.4690000000000003,0.36609999999999998,-11,15.32539661,0.64690753953252877,-850534.19720000005,0.95527000000000006,35.542271325000002,-169.76232764316379,null,35.542271325000002,0,null,40.492903124999998,0]
["Éthane","C2H6",30.07,-84670,-1559900,49.37,13.92,-5.8159999999999998,7.28,0.62064480000000011,2.6198330177613489E-2,-32196.336000000003,2.0640000000000002E-2,52.472278994999996,-5.4151391922840002,null,52.472278994999996,0,null,63.877801874999989,0]
["Propane","C3H8",44.097000000000001,-103800,-2220000,68.031999999999996,22.59,-13.11,31.71,5.1593490000000006E-2,2.1778371236420568E-3,-2597.4,1.17E-3,73.047935824375003,-0.42733042457259374,null,73.047935824375003,0,null,90.909868984374995,0]
["Butane","C4H10",58.124000000000002,-134500,-2868800,89.46,30.13,-18.91,49.87,0,0,0,0,96.142925339374983,0,null,96.142925339374983,0,null,119.71502585937499,0]
["** i-Butane","C4H10",58.124000000000002,{"$f":"D20","v":-134500},{"$f":"E20","v":-2868800},89.46,30.13,-18.91,49.87,2.9062000000000003E-3,1.2267497796192013E-4,-143.44,5.0000000000000002E-5,96.142925339374983,-2.4035731334843748E-2,null,96.142925339374983,0,null,119.71502585937499,0]
["n-Butane","C4H10",58.124000000000002,-124700,-2878500,92.3,27.88,-15.47,34.979999999999997,2.9062000000000003E-3,1.2267497796192013E-4,-143.92500000000001,5.0000000000000002E-5,98.494129451249989,-2.4623532362812499E-2,null,98.494129451249989,0,null,120.66284953125,0]
["Pentane","C5H12",72.150000000000006,-152000,-35292000,114.8,34.090000000000003,-18.989999999999998,42.26,0,0,0,{"$f":"CC67/100","v":0},122.37342544625,0,null,122.37342544625,0,null,149.46327640625,0]
["Octane","C8H18",114.23,-208400,-5512200,-5.8307000000000002,4.4541000000000004,-0.42080000000000001,1.2629999999999999,0,0,0,{"$f":"C68/100","v":0},-4.8306691808125004,0,null,-4.8306691808125004,0,null,-0.90025063281249973,0]
["*** iso-Octane","Ch8H18i",114.23,{"$f":"D24","v":-208400},{"$f":"E24","v":-5512200},-5.8307000000000002,4.4541000000000004,-0.42080000000000001,1.2629999999999999,0,0,0,{"$f":"C69/100","v":0},-4.8306691808125004,0,null,-4.8306691808125004,0,null,-0.90025063281249973,0]
["Azote","N2",28.013000000000002,0,0,29,0.21990000000000001,0.57230000000000003,-2.871,0.54401246000000003,2.2963566355209533E-2,0,{"$f":"C70/100","v":1.942E-2},29.052376623812499,{"$f":"M26*N26*(N$7-$B$29)","v":-2.8209857701721934},{"$f":"D91","v":7.4812490027815137},29.052376623812499,-1086.7403182266512,{"$f":"Comb_2!L81","v":9.7256237036159696},29.352129507812499,{"$f":"S26*T26*(T$7-$B$29)","v":49956.859136237726}]
["Hélium","He",4.0020600000000002,0,0,20.8,0,0,0,0,0,0,{"$f":"CC71/100","v":0},20.8,0,null,20.8,0,null,20.8,0]
[null,null,null,null,null,null,null,null,"SOMME",{"$f":"SUM(J10:J27)","v":16.697097160000002},{"$f":"SUM(K10:K27)","v":0.70480903796402139},{"$f":"SUM(L10:L27)","v":-885615.29820000008},{"$f":"SUM(M10:M27)","v":1},null,{"$f":"SUM(O10:O27)","v":-179.10425348787973},{"$f":"SUM(P10:P27)","v":7.4921883514583909},null,{"$f":"SUM(R10:R27)","v":-643.82898934352033},{"$f":"SUM(S10:S27)","v":13.314847052292848},null,{"$f":"SUM(U10:U27)","v":152567.31373295138}]
["* Référence. Patm, T =",25,"oC"]
["** Hyp. Même propriétés que Butane",null,null,null,null,null,null,null,null,"Pouvoir Calorifique Supérieur"]
["*** Hyp. Même que Octane",null,null,null,null,null,null,null,null,null,{"$f":"ABS(L28/1000)","v":885.6152982000001},"kJ / mol"]
["**** À Patm et T = 15.6 oC (14.7 psi et 60 F)",null,null,null,null,null,null,null,null,null,{"$f":"K31/(J28/1000)","v":53040.075751706296},"kJ / kg"]
[null,null,null,null,null,null,null,null,null,null,{"$f":"(K32/1000)*K28","v":37.38312476409893},"MJ / m3"]
["Référence"]
["Elementary Principles of Chemical Processes",null,null,null,null,null,null,null,null,null,{"$f":"(K33*1000)/1.055*0.02832","v":1003.4977187860492},"BTU / ft3"]
["Wiley Series in Chemical Engineering, Second Edition",null,null,null,null,null,null,null,null,null,{"$f":"(K32/1.055)*0.4536","v":22804.71882556775},"BTU / lbm"]
["R M Felder et R W Rousseau",null,null,null,null,null,null,null,null,null,{"$f":"K35/7.4814","v":134.13234405138732},"BTU / gal"]
[]
[]
[]
[]
[null,null,null,null,null,"Constitution de l'air sec"]
[null,null,null,null,"Azote",0.78995048751598307]
[null,null,null,null,"Oxygène",{"$f":"1-F43","v":0.21004951248401693}]
["BILAN MASSIQUE",null,null,null,"Autres",0]
[]
[]
["CALCUL DE LA COMBUSTION STOÉCHIOMÉTRIQUE",null,null,null,null,null,null,null,null,null,null,"Masse H2 par livre de combustible"]
[]
[null,null,"COMPOSITION","GAZ DE COMBUSTION STOÉCHIOMÉTRIQUE",null,null,null,null,null,null,null,null,"Masse d'hydrogène dans une livre de combustible (lb/lb)",null,null,null,{"$f":"(4*N53+6*N55+8*N56+10*N57+10*N58)/(N53*O53+N54*O54+N55*O55+N56*O56+N57*O57+N58*O58+N59*O59)","v":0.23688428965217811}]
[null,null,"(mol / 100 mol gaz)","CO2","H2O","SO2","He","N2","TOTAL","O2 requis"]
["GAZ (ÉTAT GAZEUX)",null,null,null,null,null,null,null,null,null,null,null,"Compo","% mol","masse molaire"]
[null,"TOTAL",{"$f":"SUM(C55:C71)","v":100},{"$f":"SUM(D55:D71)","v":1.00386},1.9776400000000003,0,0,1.942E-2,3.0009200000000003,1.9892799999999999,null,null,"CH4",{"$f":"C61","v":95.527000000000001},{"$f":"C17","v":16.042999999999999}]
[null,null,null,null,null,null,null,null,null,null,null,null,"CO2",{"$f":"C57","v":0.34},{"$f":"C12","v":44.011000000000003}]
["Oxygène","O2",0,null,null,null,null,null,{"$f":"SUM(D55:H55)","v":0},{"$f":"-C55/100","v":0},null,null,"C2H6",{"$f":"C62","v":2.0640000000000001},{"$f":"C18","v":30.07}]
["Monoxide de carbone","CO",0,{"$f":"C56/100","v":0},null,null,null,null,0,{"$f":"D56+E56/2+F56","v":0},null,null,"C3H8",{"$f":"C63","v":0.11700000000000001},{"$f":"C19","v":44.097000000000001}]
["Dioxide de carbone","CO2",0.34,{"$f":"C57/100","v":3.4000000000000002E-3},null,null,null,null,3.4000000000000002E-3,0,null,null,"C4H10",{"$f":"C65","v":5.0000000000000001E-3},{"$f":"C21","v":58.124000000000002}]
["Hydrogène","H2",0,null,{"$f":"C58/100","v":0},null,null,null,0,{"$f":"D58+E58/2+F58","v":0},null,null,"C4H10",{"$f":"C66","v":5.0000000000000001E-3},{"$f":"C22","v":58.124000000000002}]
["Eau (l)","H2O (l)",0,null,{"$f":"C59/100","v":0},null,null,null,0,0,null,null,"N2",{"$f":"C70","v":1.9419999999999999},{"$f":"C26","v":28.013000000000002}]
["Sulfure d'hydrogène","H2S",0,null,{"$f":"C60/100","v":0},{"$f":"C60/100","v":0},null,null,0,0]
["Méthane","CH4",95.527000000000001,{"$f":"C61/100","v":0.95527000000000006},{"$f":"C61/100*2","v":1.9105400000000001},null,null,null,2.8658100000000002,1.9105400000000001]
["Éthane","C2H6",2.0640000000000001,{"$f":"C62*2/100","v":4.1280000000000004E-2},{"$f":"C62/100*3","v":6.1920000000000003E-2},null,null,null,0.10320000000000001,7.2239999999999999E-2]
["Propane","C3H8",0.11700000000000001,{"$f":"C63*3/100","v":3.5100000000000005E-3},{"$f":"C63/100*4","v":4.6800000000000001E-3},null,null,null,8.1900000000000011E-3,5.850000000000001E-3]
["Butane","C4H10",0,{"$f":"C64*4/100","v":0},{"$f":"C64/100*5","v":0},null,null,null,0,0]
["** i-Butane","C4H10",5.0000000000000001E-3,{"$f":"C65*4/100","v":2.0000000000000001E-4},{"$f":"C65/100*5","v":2.5000000000000001E-4},null,null,null,4.4999999999999999E-4,3.2499999999999999E-4]
["n-Butane","C4H10",5.0000000000000001E-3,{"$f":"C66*4/100","v":2.0000000000000001E-4},{"$f":"C66/100*5","v":2.5000000000000001E-4},null,null,null,4.4999999999999999E-4,3.2499999999999999E-4]
["Pentane","C5H12",0,{"$f":"C67*5/100","v":0},{"$f":"C67/100*6","v":0},null,null,null,0,0]
["Octane","C8H18",0,{"$f":"C68*8/100","v":0},{"$f":"C68/100*9","v":0},null,null,null,0,0]
["*** iso-Octane","Ch8H18i",0,{"$f":"C69*8/100","v":0},{"$f":"C69/100*9","v":0},null,null,null,0,0]
["Azote","N2",1.9419999999999999,null,null,null,null,{"$f":"C70/100","v":1.942E-2},1.942E-2,0]
["Hélium","He",0,null,null,null,{"$f":"C71/100","v":0},null,0,0]
[]
[]
["AIR DE COMBUSTION",null,null,null,null,null,null,null,"FUMÉES"]
[null,null,null,"MASSIQUE",null,null,null,null,null,null,null,"MASSIQUE"]
[null,null,null,"% O2","% EA","% CO2","RÉSULTATS",null,null,null,null,null,"Proportion (%)"]
[null,null,null,false,true,false,null,null,null,null,null,"(mol / mol gaz)","Base Hum","Base Sec"]
[null,null,null,{"$f":"IF(D77,1,\"-\")","v":"-"},{"$f":"IF(E77,2,\"-\")","v":2},{"$f":"IF(F77,3,\"-\")","v":"-"},{"$f":"AVERAGE(D78:F78)","v":2}]
["Calcul de l'excès d'air (base sèche)",null,null,{"$f":"D87/D84","v":0},{"$f":"Bilan_2!B13","v":0.3000000000000001},{"$f":"F86/F83","v":{"$error":"#DIV/0!"}},{"$f":"INDEX(D79:F79,G$78)","v":0.3000000000000001},null,"TOTAL",null,"mol / mol gas",{"$f":"SUM(L81:L86)","v":13.314847052292846},{"$f":"SUM(M81:M86)","v":1.0000000000000002},{"$f":"SUM(N81:N86)","v":1}]
["Oxygène dans les fumées (base sèche)",null,null,0,{"$f":"E86/(E83*($F$43/$F$44)+I53-E53+E86/$F$44)","v":5.260007287260339E-2},{"$f":"F86/(F83*($F$43/$F$44)+I53-E53+F86/$F$44)","v":{"$error":"#DIV/0!"}},{"$f":"INDEX(D80:F80,G$78)","v":5.260007287260339E-2}]
["Dioxide de carbone dans les fumées",null,null,{"$f":"$N$82","v":8.8631138365157361E-2},{"$f":"N82","v":8.8631138365157361E-2},null,{"$f":"INDEX(D81:F81,G$78)","v":8.8631138365157361E-2},null,"Azote",null,"mol / mol gas",{"$f":"G91","v":9.7256237036159696},{"$f":"L81/$L$79","v":0.73043450408551225},{"$f":"L81/($L$79-$L$86)","v":0.85867860076369329}]
[null,null,null,null,null,null,null,null,"Dioxide de carbone",null,"mol / mol gas",{"$f":"D53","v":1.00386},7.5394031644331436E-2,{"$f":"L82/($L$79-$L$86)","v":8.8631138365157361E-2}]
["Oxygène stoéchiométrique",null,"mol / mol gas",{"$f":"$J$53","v":1.9892799999999999},{"$f":"$J$53","v":1.9892799999999999},{"$f":"$J$53","v":1.9892799999999999},{"$f":"INDEX(D83:F83,G$78)","v":1.9892799999999999},null,"Dioxide de soufre",null,"mol / mol gas",{"$f":"F53","v":0},0,{"$f":"L83/($L$79-$L$86)","v":0}]
["Air stoéchiométrique",null,"mol / mol gas",{"$f":"D83/$F$44","v":9.4705290027815128},{"$f":"E83/$F$44","v":9.4705290027815128},{"$f":"F83/$F$44","v":9.4705290027815128},{"$f":"INDEX(D84:F84,G$78)","v":9.4705290027815128},null,"Oxygène",null,"mol / mol gas",{"$f":"G86","v":0.5967840000000002},4.4820942941078148E-2,{"$f":"L84/($L$79-$L$86)","v":5.2690260871149447E-2}]
[null,null,null,null,null,null,null,null,"Hélium",null,"mol / mol gas",{"$f":"G53","v":0},0,{"$f":"L85/($L$79-$L$86)","v":0}]
["Excès oxygène",null,"mol / mol gas",{"$f":"D80/(1-D80/$F$44)*(($I$53-$E$53)+D83*$F$43/$F$44)","v":0},{"$f":"E83*$E$79","v":0.5967840000000002},{"$f":"(D53/F81-(I53-E53)-F83*(F43/F44))/(1+F43/F44)","v":{"$error":"#DIV/0!"}},{"$f":"INDEX(D86:F86,G$78)","v":0.5967840000000002},null,"Eau (liquide et vapeur)",null,"mol / mol gas",{"$f":"G93+E53","v":1.9885793486768779},0.14935052132907828,0]
["Excès air",null,"mol / mol gas",{"$f":"D86/F44","v":0},{"$f":"E84*$E$79","v":2.841158700834455},{"$f":"F86/F44","v":{"$error":"#DIV/0!"}},{"$f":"INDEX(D87:F87,G$78)","v":2.841158700834455},null,"Condensation (liquide)",null,"mol / mol gas",{"$f":"L96","v":0},0,1]
[null,null,null,null,null,null,null,null,"Molecular weight",null,"g/mol",null,{"$f":"M81*28+M82*44+M83*64+M84*32+M86*18","v":27.892083064782838}]
["Air de combustion",null,"mol / mol gas",{"$f":"SUM(D91:D93)","v":9.4814683514583926},{"$f":"SUM(E91:E93)","v":12.322627052292848},{"$f":"SUM(F91:F93)","v":{"$error":"#DIV/0!"}},{"$f":"INDEX(D89:F89,G$78)","v":12.322627052292848},null,"Condensation des fumées",null,null,{"$f":"IF(L91<L92,\"VRAI\",\"FAUX\")","v":"FAUX"}]
[null,null,null,null,null,null,null,null,"Humidité (sans condensation)",null,"mol / mol fumées",{"$f":"E53+G93","v":1.9885793486768779}]
["Azote",null,"mol / mol gas",{"$f":"D92*($F$43/$F$44)","v":7.4812490027815137},{"$f":"E92*($F$43/$F$44)","v":9.7256237036159696},{"$f":"F92*($F$43/$F$44)","v":{"$error":"#DIV/0!"}},{"$f":"INDEX(D91:F91,G$78)","v":9.7256237036159696},null,"Température des fumées",null,"oC",{"$f":"T7","v":200}]
["Oxygène",null,"mol / mol gas",{"$f":"D83+D86","v":1.9892799999999999},{"$f":"E83+E86","v":2.5860640000000004},{"$f":"F83+F86","v":{"$error":"#DIV/0!"}},{"$f":"INDEX(D92:F92,G$78)","v":2.5860640000000004},null,"Point de rosée",null,"oC",{"$f":"E135","v":54.109354987309082}]
["Vapeur d'eau",null,"mol / mol gas",{"$f":"E114*Comb_2!D84","v":1.0939348676877604E-2},{"$f":"E114*Comb_2!E84","v":1.0939348676877604E-2},{"$f":"E114*Comb_2!F84","v":1.0939348676877604E-2},{"$f":"INDEX(D93:F93,G$78)","v":1.0939348676877604E-2},null,"Flue gas density",null,"lb/cu ft"]
[null,null,null,null,null,null,null,null,"Saturation (Tfumées)",null,"mol / mol fumées",{"$f":"E128","v":0.17557234216192982},"Fumées sèches"]
["Humidité",null,null,null,null,null,null,null,"Condensation",null,"mol / mol fumées",{"$f":"E139","v":0}]
["Humidité relative",null,null,0.05,null,null,null,null,null,null,"mol / mol gas",{"$f":"E140","v":0}]
["Point de rosée",null,"oC",{"$f":"IF(D96<>0,E118,\"-\")","v":{"$error":"#N/A"}}]
[]
[]
[]
[]
[null,null,"PRESSION ATMOSPHÉRIQUE",null,null,null,null,"TABLE VAPEUR SATURÉE"]
[null,null,"Altitude","FASL",200,"Mtl = 200",null,"Tsat (oC)","Psat (Pa)","Tsat (oC)"]
[null,null,"Pression barométrique","po Hg",{"$f":"29.9269-0.001020817*E103+0.000000011*E103^2-0.0000000000005118678*E103^3","v":29.723172505057601},null,null,0,610.48326959999986,{"$f":"H104","v":0}]
[null,null,"Pression barométrique","Pa",101312.5,{"$f":"E104*3370","v":100167.09134204412},null,2,705.80878559999985,2]
[null,null,null,null,null,null,null,4,813.39996239999994,4]
[null,null,"AIR DE COMBUSTION",null,null,null,null,6,934.98999119999985,6]
[null,null,"Température","oC",{"$f":"N7","v":20},null,null,8,1072.5787079999998,8]
[null,null,"Humidité relative",null,0.05,null,null,10,1227.7659815999998,10]
[null,null,null,null,null,null,null,12,1402.2850031999999,12]
[null,null,"Pression saturation","Pa",{"$f":"IF(E108<0,0.09*6895,I196)","v":2337.8082839999997},null,null,14,1598.1356087999998,14]
[null,null,"Pression vapeur eau","Pa",{"$f":"E109*E111","v":116.8904142},null,null,16,1817.7176015999999,16]
[null,null,null,null,null,null,null,18,2063.4307847999999,18]
[null,null,"H2O / Air sec","mol / mol",{"$f":"E112/(E105-E112)","v":1.1550937306315937E-3},null,null,20,2337.8082839999997,20]
[null,null,"H2O / Air sec","lb / lb",{"$f":"E114*18.02/28.95","v":7.1899098535341342E-4},null,null,22,2643.3832247999999,22]
[null,null,null,null,null,null,null,24,2983.3553447999998,24]
[null,null,"H2O / Air humide","mol / mol",{"$f":"E112/E105","v":1.1537610285009253E-3},null,null,26,3360.9243815999998,26]
[null,null,"Température de rosée","oC",{"$f":"H202","v":{"$error":"#N/A"}},null,null,28,3779.5567175999995,28]
[null,null,null,null,null,null,null,30,4242.8520576000001,30]
[null,null,"FUMÉES",null,null,null,null,32,4754.6767511999988,32]
[null,null,"Température","oC",{"$f":"T7","v":200},null,null,34,5319.2971152,34]
[null,null,null,null,null,null,null,36,5941.2461112000001,36]
[null,null,"Fumées totales","mol / mol gaz",{"$f":"L79","v":13.314847052292846},null,null,38,6625.0567007999998,38]
[null,null,"Humidité (H2O)","mol / mol gaz",{"$f":"L90","v":1.9885793486768779},"sans condensation",null,40,7375.9284575999991,40]
[null,null,null,null,null,null,null,42,8199.3275999999987,42]
[null,null,"Pression vapeur","Pa",{"$f":"E131*E105","v":15131.074692152242},null,null,44,9100.5870240000004,44]
[null,null,null,null,null,null,null,46,10085.83956,46]
[null,null,"H2O / Air sec","mol / mol",{"$f":"E124/(E123-E124)","v":0.17557234216192982},"Mair",null,48,11160.418103999998,48]
[null,null,"H2O / Air sec","lb / lb",{"$f":"E128*18.02/F129","v":0.11221720402747558},{"$f":"(M81*28+M82*48+M83*64+M84*32+M85*4+M86*18)","v":28.193659191360162},null,50,12333.655224,50]
[null,null,null,null,null,null,null,55,15737.376096,55]
[null,null,"H2O / Air humide","mol / mol",{"$f":"E124/E123","v":0.14935052132907828},null,null,60,19915.700111999999,60]
[null,null,"H2O / mol gas","mol / mol",{"$f":"E131*E123","v":1.9885793486768777},null,null,65,25003.282895999997,65]
[null,null,null,null,null,null,null,70,31157.444879999995,70]
[null,null,"Condensation",null,{"$f":"IF(E135>E121,\"VRAI\",\"FAUX\")","v":"FAUX"},null,null,75,38543.505839999998,75]
[null,null,"Point de rosée","oC",{"$f":"H208","v":54.109354987309082},null,null,80,47342.784240000001,80]
[null,null,null,null,null,null,null,85,57808.592639999995,85]
[null,null,"Pression saturation","Pa",{"$f":"I214","v":1553800},null,null,90,70095.585023999985,90]
[null,null,"Contenu H2O à saturation","mol / mol fumées",{"$f":"IF(E134=\"VRAI\",E137/E105,\"-\")","v":"-"},null,null,91,72800.696519999983,91]
[null,null,"Condensation","mol / mol fumées",{"$f":"IF(E134=\"VRAI\",E131-E138,0)","v":0},null,null,92,75592.467575999995,92]
[null,null,"Condensation","mol / mol gaz",{"$f":"IF(E134=\"VRAI\",E139*E123,0)","v":0},null,null,93,78473.564639999997,93]
[null,null,"Condensation","g / mol gaz",{"$f":"IF(E134=\"VRAI\",E140*18,0)","v":0},null,null,94,81446.654159999991,94]
[null,null,null,null,null,null,null,95,84513.069359999994,95]
[null,null,"Humidité Relative des Fumées",null,{"$f":"IF(E134=\"VRAI\",1,IF(E121<100,E126/E137,\"N / A\"))","v":"N / A"},null,null,96,87675.476687999995,96]
[null,null,null,null,null,null,null,97,90935.209367999996,97]
[null,null,null,null,null,null,null,98,94294.933847999986,98]
[null,null,null,null,null,null,null,99,97757.316575999997,99]
[null,null,null,null,null,null,null,100,101325.02399999999,100]
[null,null,null,null,null,null,null,105,120820,105]
[null,null,null,null,null,null,null,110,143270,110]
[null,null,null,null,null,null,null,115,169060,115]
[null,null,null,null,null,null,null,120,198530,120]
[null,null,null,null,null,null,null,125,232100,125]
[null,null,null,null,null,null,null,130,270100,130]
[null,null,null,null,null,null,null,135,313000,135]
[null,null,null,null,null,null,null,140,361300,140]
[null,null,null,null,null,null,null,145,415400,145]
[null,null,null,null,null,null,null,150,475800,150]
[null,null,null,null,null,null,null,155,543100,155]
[null,null,null,null,null,null,null,160,617800,160]
[null,null,null,null,null,null,null,165,700500,165]
[null,null,null,null,null,null,null,170,791700,170]
[null,null,null,null,null,null,null,175,892000,175]
[null,null,null,null,null,null,null,180,1002100,180]
[null,null,null,null,null,null,null,185,1122700,185]
[null,null,null,null,null,null,null,190,1254400,190]
[null,null,null,null,null,null,null,195,1397800,195]
[null,null,null,null,null,null,null,200,1553800,200]
[null,null,null,null,null,null,null,205,1723000,{"$f":"H168","v":205}]
[null,null,null,null,null,null,null,210,1906200,210]
[null,null,null,null,null,null,null,215,2104000,215]
[null,null,null,null,null,null,null,220,2318000,220]
[null,null,null,null,null,null,null,225,2548000,225]
[null,null,null,null,null,null,null,230,2795000,230]
[null,null,null,null,null,null,null,235,3060000,235]
[null,null,null,null,null,null,null,240,3344000,240]
[null,null,null,null,null,null,null,245,3648000,245]
[null,null,null,null,null,null,null,250,3973000,250]
[null,null,null,null,null,null,null,255,4319000,255]
[null,null,null,null,null,null,null,260,4688000,260]
[null,null,null,null,null,null,null,265,5081000,265]
[null,null,null,null,null,null,null,270,5499000,270]
[null,null,null,null,null,null,null,275,5942000,275]
[null,null,null,null,null,null,null,280,6412000,280]
[null,null,null,null,null,null,null,285,6909000,285]
[null,null,null,null,null,null,null,290,7436000,290]
[null,null,null,null,null,null,null,295,7993000,295]
[null,null,null,null,null,null,null,300,8581000,300]
[null,null,null,null,null,null,null,320,11274000,320]
[null,null,null,null,null,null,null,340,14586000,340]
[null,null,null,null,null,null,null,360,18651000,360]
[null,null,null,null,null,null,null,374.14,22090000,374.14]
[]
[null,null,null,null,null,null,null,"Psat AIR COMBUSTION"]
[null,null,null,null,null,null,null,"T","Psat"]
[null,null,null,null,null,null,null,{"$f":"VLOOKUP(E108,H104:I191,1)","v":20},{"$f":"VLOOKUP(H195,$H$104:$I$191,2)","v":2337.8082839999997},{"$f":"MATCH(H195,H104:H191,1)","v":11}]
[null,null,null,null,null,null,null,{"$f":"E108","v":20},{"$f":"I195+((H196-H195)/(H197-H195))*(I197-I195)","v":2337.8082839999997}]
[null,null,null,null,null,null,null,{"$f":"INDEX(H104:H191,J197)","v":22},{"$f":"VLOOKUP(H197,$H$104:$I$191,2)","v":2643.3832247999999},{"$f":"J195+1","v":12}]
[]
[null,null,null,null,null,null,null,"CALCUL ROSÉE AIR COMB"]
[null,null,null,null,null,null,null,"T","Psat"]
[null,null,null,null,null,null,null,{"$f":"VLOOKUP(I201,$I$104:$J$191,2)","v":{"$error":"#N/A"}},{"$f":"VLOOKUP(I202,I104:J191,1)","v":{"$error":"#N/A"}},{"$f":"MATCH(H201,H104:H191,1)","v":{"$error":"#N/A"}}]
[null,null,null,null,null,null,null,{"$f":"H201+(I202-I201)/(I203-I201)*(H203-H201)","v":{"$error":"#N/A"}},{"$f":"E117*E105","v":116.8904142}]
[null,null,null,null,null,null,null,{"$f":"INDEX(H104:H191,J203)","v":{"$error":"#N/A"}},{"$f":"VLOOKUP(H203,H104:I191,2)","v":{"$error":"#N/A"}},{"$f":"J201+1","v":{"$error":"#N/A"}}]
[]
[null,null,null,null,null,null,null,"TEMP. CONDENSATION FUMÉE"]
[null,null,null,null,null,null,null,"T","Psat"]
[null,null,null,null,null,null,null,{"$f":"VLOOKUP(I207,$I$104:$J$191,2)","v":50},{"$f":"VLOOKUP(E126,I104:J191,1)","v":12333.655224},{"$f":"MATCH(H207,H104:H191,1)","v":26}]
[null,null,null,null,null,null,null,{"$f":"H207+(I208-I207)/(I209-I207)*(H209-H207)","v":54.109354987309082},{"$f":"E126","v":15131.074692152242}]
[null,null,null,null,null,null,null,{"$f":"INDEX(H104:H191,J209)","v":55},{"$f":"VLOOKUP(H209,H104:I191,2)","v":15737.376096},{"$f":"J207+1","v":27}]
[]
[null,null,null,null,null,null,null,"CALCUL FUMÉES"]
[null,null,null,null,null,null,null,"T","Psat"]
[null,null,null,null,null,null,null,{"$f":"VLOOKUP(H214,H104:I191,1)","v":200},{"$f":"VLOOKUP(H213,$H$104:$I$191,2)","v":1553800},{"$f":"MATCH(H213,H104:H191,1)","v":64}]
[null,null,null,null,null,null,null,{"$f":"E121","v":200},{"$f":"I213+((H214-H213)/(H215-H213))*(I215-I213)","v":1553800}]
[null,null,null,null,null,null,null,{"$f":"INDEX(H104:H191,J215)","v":205},{"$f":"VLOOKUP(H215,$H$104:$I$191,2)","v":1723000},{"$f":"J213+1","v":65}]

{"sheet":"Bilan_2","index":22,"n_rows":125,"n_cols":27,"rows_kept":125,"cut":false,"hidden":true,"merged":[[55,8,55,11],[57,3,59,6],[36,6,36,8],[49,3,49,7],[50,3,50,7],[51,3,51,7],[52,3,52,7],[54,3,54,12],[35,6,35,8],[20,3,20,6],[21,3,21,6],[22,3,22,6],[23,3,23,6],[34,6,34,8]]}
["Formulaire de calcul",null,null,null,null,null,null,null,null,null,null,null,null,"Unités et paramètres de calculs",null,null,null,null,null,null,null,null,null,null,"Quantité de purge","Excès d'air"]
[null,null,null,null,null,null,null,null,null,null,null,null,null,null,null,null,null,null,null,null,"Numéro correspondant à sélection dans entrée de données",null,null,null,{"$f":"'Entrée de données'!D52","v":1},{"$f":"'Entrée de données'!D36","v":30},{"$f":"'Entrée de données'!D25","v":1}]
[null,"Type de chaudière:",{"$f":"VLOOKUP(AA2,X4:AA7,4)","v":"Tubes de fumées"},null,null,null,null,null,null,null,null,null,null,null,"Conversion",null,null,null,null,null,null,null,null,"Numéro","% Purge","% Exces d'air","Type de chaudière"]
[null,null,null,null,null,null,null,null,null,null,null,null,null,null,"1kW = ",{"$f":"1000000/293.07","v":3412.1540928788345},"Btu/h",null,null,null,null,null,null,1,0,0.01,"Tubes de fumées"]
["OUTPUT:",null,null,null,null,null,null,null,null,null,null,null,null,null,"1 Btu/h =",2.9306999999999998E-4,"kW",null,null,null,null,null,null,{"$f":"X4+1","v":2},0.01,{"$f":"Z4+0.01","v":0.02},"Tubes d'eau"]
["Puissance maximale du brûleur ",{"$f":"'Entrée de données'!D27","v":0},"kW","Donnée d'entrée",null,null,null,null,null,null,null,null,null,null,"1 kJ/kg=",0.42992999999999998,"Btu/lb",null,null,null,null,null,null,{"$f":"X5+1","v":3},0.02,{"$f":"Z5+0.01","v":0.03},"À serpentin"]
["Puissance maximale de production de vapeur  de la chaudière",{"$f":"'Entrée de données'!D29","v":0},"kW","Donnée d'entrée",null,null,null,null,null,null,null,null,null,null,"1 Btu =",1.0549999999999999E-3,"MJ",null,null,null,null,null,null,{"$f":"X6+1","v":4},0.03,0.04,"Sans tube"]
["Puissance maximale de production de vapeur  de la chaudière ",{"$f":"ROUND(B7*P4/1000000,2)","v":0},"millions Btu/h","Simple calcul de conversion des kw en btu/h",null,null,null,null,null,null,null,null,null,null,"1 MJ = ",{"$f":"1/P7","v":947.8672985781991},"Btu",null,null,null,null,null,null,{"$f":"X7+1","v":5},0.04,0.05]
["Puissance moyenne de production de vapeur  de la chaudière en opération ",{"$f":"'Entrée de données'!D32","v":0},"kW","Donnée d'entrée","ATTENTION: Ce n'est pas juste pour la vapeur dispo. C'est aussi de l'énergie qui sera perdu par les purges",null,null,null,null,null,null,null,null,null,"1 lb =",0.45359237000000002,"kg",null,null,null,null,null,null,6,0.05,6.0000000000000005E-2]
["Puissance moyenne de production de vapeur  de la chaudière en opération ",{"$f":"ROUND(B9*P4/1000000,2)","v":0},"millions Btu/h","Données entrée converti en btu/h",null,null,null,null,null,null,null,null,null,null,"1 kg =",{"$f":"1/P9","v":2.2046226218487757},"lb",null,null,null,null,null,null,7,0.06,7.0000000000000007E-2]
[null,null,null,null,null,null,null,null,null,null,null,null,null,null,null,null,null,null,null,null,null,null,null,8,7.0000000000000007E-2,0.08]
["INFO POUR CALCUL DE L'EFFICACITÉ",null,null,null,null,null,null,null,null,null,null,null,null,null,null,null,null,null,null,null,null,null,null,9,0.08,0.09]
["Excès d'air",{"$f":"VLOOKUP(Z2,X4:Z105,3)","v":0.3000000000000001},null,"Donnée d'entrée",null,null,null,null,null,null,null,null,null,null,null,null,null,null,null,null,null,null,null,10,0.09,9.9999999999999992E-2]
["Température des fumées (°F)",{"$f":"ROUND(('Entrée de données'!D34)*1.8+32,1)","v":392},"°F","Donnée entrée convertie en °F au lieu de °C",null,null,null,null,null,null,null,null,null,null,null,null,null,null,"Pertes par radiation et convection",null,null,null,null,11,0.1,0.10999999999999999]
["Température de l'air de combustion (°F)",{"$f":"ROUND(('Entrée de données'!D35*1.8+32),1)","v":68},"°F","Donnée entrée convertie en °F au lieu de °C",null,null,null,null,null,null,null,null,null,null,null,null,null,null,"Puissance maximale  kW","Puissance maximale millions Btu/h","% de Pertes","à 100% de la charge",null,12,0.11,0.11999999999999998]
["Température de l'eau d'appoint (°C)",{"$f":"'Entrée de données'!C48","v":0},"°C","Donnée d'entrée (idem pour toutes les chaudières de la centrale)",null,null,null,null,null,null,null,null,null,null,null,null,null,null,null,null,null,null,null,13,0.12,0.12999999999999998]
[null,null,null,null,null,null,null,null,null,null,null,null,null,null,null,null,null,"Inférieure à 5 millions Btu/h","Inférieure à 1465",{"$f":"IF(B8<5,B8, \"\")","v":0},{"$f":"IF($B$8<5,$V$88/($B$10/#REF!),\"\")","v":{"$error":"#REF!"}},{"$f":"IF($B$8<5,$V$89,\"\")","v":0},null,14,0.13,0.13999999999999999]
["CALCUL DE L'EFFICACITÉ DE CHAUFFE : 100%-perte fumée - perte radiation",null,null,null,null,null,null,null,null,null,null,null,null,null,null,null,null,null,{"$f":"T18*$P$5*1000000","v":1465.35},5,{"$f":"V18/($B$10/T18)","v":{"$error":"#DIV/0!"}},2.5999999999999999E-2,null,15,0.14000000000000001,0.15]
["1. Perte par les fumée",{"$f":"1-Comb_2!G2","v":0.17243290039051917},null,null,null,null,null,null,null,null,null,null,null,null,null,null,null,null,{"$f":"T19*$P$5*1000000","v":2930.7},10,{"$error":"#DIV/0!"},1.6E-2,null,16,0.15,0.16]
["2. Perte par radiation:",null,null,null,null,null,null,null,null,null,null,null,null,null,null,null,null,null,5861.4,20,{"$error":"#DIV/0!"},1.0500000000000001E-2,null,17,0.16,0.17]
["Pertes par radiation et convection",null,null,"Interpolation des pertes par radiation et convection",null,null,null,"Puissance (millions Btuh)","Pertes à 100%",null,null,null,null,null,null,null,null,null,8792.0999999999985,30,{"$error":"#DIV/0!"},8.3999999999999995E-3,null,18,0.17,0.18000000000000002]
["Pertes calculées pour une chaudière de ",{"$f":"IF(B8<T18,T17,B8)","v":0},"millions Btu/h","Puissance en dessous",null,null,null,{"$f":"IF(B8<5,B8,LOOKUP(B8,T18:T42))","v":0},{"$f":"ROUND(IF(H22<5,V17, VLOOKUP(H24,T18:V42,3,TRUE)),4)","v":0},null,null,null,null,null,null,null,null,null,11722.8,40,{"$error":"#DIV/0!"},7.3000000000000001E-3,null,19,0.18,0.19000000000000003]
[null,{"$f":"I24/(B9/B7)","v":{"$error":"#DIV/0!"}},null,"Puissance au dessus",null,null,null,{"$f":"IF(B8<T18,B8,INDEX(T18:T42,RANK(LOOKUP(B8,T18:T42),T18:T42,1)+1))","v":0},{"$f":"ROUND(IF(H23<5,V17, VLOOKUP(H23,T18:V42,3,TRUE)),4)","v":0},null,null,null,null,null,null,null,null,null,14653.5,50,{"$error":"#DIV/0!"},6.6E-3,null,20,0.19,0.20000000000000004]
[null,null,null,"Valeur pour interpolation",null,null,null,{"$f":"B8","v":0},{"$f":"ROUND(IF(H22=H23,AVERAGE(I22,I23),FORECAST(H24,I22:I23,H22:H23)),4)","v":0},null,null,null,null,null,null,null,null,null,17584.199999999997,60,{"$error":"#DIV/0!"},6.1999999999999998E-3,null,21,0.2,0.21000000000000005]
[null,null,null,null,null,null,null,null,null,null,null,null,null,null,null,null,null,null,20514.899999999998,70,{"$error":"#DIV/0!"},5.8999999999999999E-3,null,22,0.21,0.22000000000000006]
["Efficacité de chauffe",{"$f":"1-B19-B23","v":{"$error":"#DIV/0!"}},{"$f":"(B19+B23)-1","v":{"$error":"#DIV/0!"}},null,null,null,null,null,null,null,null,null,null,null,null,null,null,null,23445.599999999999,80,{"$error":"#DIV/0!"},5.5999999999999999E-3,null,23,0.22,0.23000000000000007]
[null,null,null,null,null,null,null,null,null,null,null,null,null,null,null,null,null,null,26376.3,90,{"$error":"#DIV/0!"},5.4000000000000003E-3,null,24,0.23,0.24000000000000007]
["INPUT",null,null,null,null,null,null,null,null,null,null,null,null,null,null,null,null,null,29307,100,{"$error":"#DIV/0!"},5.1999999999999998E-3,null,25,0.24,0.25000000000000006]
["Puissance du brûleur en opération ",{"$f":"B30*1000000*P5","v":{"$error":"#DIV/0!"}},"kW","Convertion de B30 en kw",null,null,null,null,null,null,null,null,null,null,null,null,null,null,35168.399999999994,120,{"$error":"#DIV/0!"},4.7999999999999996E-3,null,26,0.25,0.26000000000000006]
["Puissance du brûleur en opération ",{"$f":"B10/B26","v":{"$error":"#DIV/0!"}},"millions Btu/h","Puissance moyenne production vapeur / efficacité",null,null,null,null,null,null,null,null,null,null,null,null,null,null,41029.799999999996,140,{"$error":"#DIV/0!"},4.4999999999999997E-3,null,27,0.26,0.27000000000000007]
["Volume de gaz naturel alimenté ",{"$f":"ROUND(B30*10^6/J37,2)","v":{"$error":"#DIV/0!"}},"m3/h","Convertion de la puissance en opération du bruleur de kw en m3 de gaz",null,null,null,null,null,null,null,null,null,null,null,null,null,null,46891.199999999997,160,{"$error":"#DIV/0!"},4.3E-3,null,28,0.27,0.28000000000000008]
["Nombre de moles totales pour le volume de gaz",{"$f":"ROUND(B31/(8.31451*(273.15+'Entrée de données'!D37)/101325),1)","v":{"$error":"#DIV/0!"}},"mol/h","PV=nRT => n=PV/RT",null,null,null,null,null,null,null,null,null,null,null,null,null,null,52752.6,180,{"$error":"#DIV/0!"},4.0000000000000001E-3,null,29,0.28000000000000003,0.29000000000000009]
[null,null,null,null,null,null,null,null,null,null,null,null,null,null,null,null,null,null,58614,200,{"$error":"#DIV/0!"},3.8E-3,null,30,0.28999999999999998,0.3000000000000001]
["Quantité de fumées produites",null,null,null,null,null,null,null,null,null,null,null,null,null,null,null,null,null,87921,300,{"$error":"#DIV/0!"},3.3999999999999998E-3,null,31,0.3,0.31000000000000011]
[null,"masse molaire (g/mol)","mol","masse(lb/h)","masse (kg/h)",null,"Masse d'hydrogène dans une livre de combustible (lb/lb)",null,null,{"$f":"Comb_2!Q50","v":0.23688428965217811},null,null,null,null,null,null,null,null,117228,400,{"$error":"#DIV/0!"},3.0000000000000001E-3,null,32,0.31,0.32000000000000012]
["CO2",{"$f":"Comb_2!C12","v":44.011000000000003},{"$f":"Comb_2!L82*B32","v":{"$error":"#DIV/0!"}},{"$f":"ROUND(C36*B36/($P$9*1000),1)","v":{"$error":"#DIV/0!"}},{"$f":"ROUND(C36*B36/1000,1)","v":{"$error":"#DIV/0!"}},null,"1m3 gaz naturel (MJ)",null,null,37.89,null,null,null,null,null,null,null,null,146535,500,{"$error":"#DIV/0!"},2.8E-3,null,33,0.32,0.33000000000000013]
["H2O",{"$f":"Comb_2!C14","v":18.015000000000001},{"$f":"Comb_2!L86*B32","v":{"$error":"#DIV/0!"}},{"$f":"ROUND(C37*B37/($P$9*1000),1)","v":{"$error":"#DIV/0!"}},{"$f":"ROUND(C37*B37/1000,1)","v":{"$error":"#DIV/0!"}},null,"1m3 gaz naturel (btu)",null,null,{"$f":"J36*P8","v":35914.691943127968},null,null,null,null,null,null,null,null,293070,1000,{"$error":"#DIV/0!"},2.3E-3,null,34,0.33,0.34000000000000014]
["O2",{"$f":"Comb_2!C10","v":32},{"$f":"Comb_2!L84*Bilan_2!B32","v":{"$error":"#DIV/0!"}},{"$error":"#DIV/0!"},{"$error":"#DIV/0!"},null,null,null,null,null,null,null,null,null,null,null,null,null,586140,2000,{"$error":"#DIV/0!"},1.9499999999999999E-3,null,35,0.34,0.35000000000000014]
["N2",{"$f":"Comb_2!C26","v":28.013000000000002},{"$f":"Comb_2!L81*B32","v":{"$error":"#DIV/0!"}},{"$error":"#DIV/0!"},{"$error":"#DIV/0!"},null,null,null,null,null,null,null,null,null,null,null,null,null,1172280,4000,{"$error":"#DIV/0!"},1.75E-3,null,36,0.35,0.36000000000000015]
["Total (humide)",null,{"$f":"SUM(C36:C39)","v":{"$error":"#DIV/0!"}},{"$f":"SUM(D36:D39)","v":{"$error":"#DIV/0!"}},{"$f":"SUM(E36:E39)","v":{"$error":"#DIV/0!"}},null,null,null,null,null,null,null,null,null,null,null,null,null,1758419.9999999998,6000,{"$error":"#DIV/0!"},1.6000000000000001E-3,null,37,0.36,0.37000000000000016]
["Total (sec)",null,{"$f":"SUM(C36,C38:C39)","v":{"$error":"#DIV/0!"}},{"$f":"D40-D37","v":{"$error":"#DIV/0!"}},{"$f":"SUM(E36,E38:E39)","v":{"$error":"#DIV/0!"}},null,null,null,null,null,null,null,null,null,null,null,null,null,2930700,10000,{"$error":"#DIV/0!"},1.5E-3,null,38,0.37,0.38000000000000017]
[null,null,null,null,null,null,null,null,null,null,null,null,null,null,null,null,null,null,5861400,20000,{"$error":"#DIV/0!"},1.5E-3,null,39,0.38,0.39000000000000018]
["CONDENSAT",null,null,null,null,null,null,null,null,null,null,null,null,null,null,null,null,null,null,null,null,null,null,40,0.39,0.40000000000000019]
["Enthalpie de l'eau d'appoint (kJ/kg)",{"$f":"ROUND(4.18*(B16),3)","v":0},"kJ/kg","Cp*DT",null,null,null,null,null,null,null,null,null,null,null,null,null,null,null,null,null,null,null,41,0.4,0.4100000000000002]
["Température du condensat (°C)",{"$f":"IF(('Entrée de données'!D49=2),\"0\",('Entrée de données'!D51))","v":100},"°C  ","Donnée d'entrée",null,null,null,null,null,null,null,null,null,null,null,null,null,null,null,null,null,null,null,42,0.41,0.42000000000000021]
["Enthalpie du condensat (kJ/kg)",{"$f":"IF('Entrée de données'!D49=2,\"0\",4.18*(B45))","v":418},"kJ/kg ","Cp*DT",null,null,null,null,null,null,null,null,null,null,null,null,null,null,null,null,null,null,null,43,0.42,0.43000000000000022]
["% de condensat",{"$f":"IF('Entrée de données'!D49=1,'Entrée de données'!D50,0)","v":0},null,"Donnée d'entrée",null,null,null,null,null,null,null,null,null,null,null,null,null,null,null,null,null,null,null,44,0.43,0.44000000000000022]
["T°de l'eau alimentée à la chaudière (°C)",{"$f":"IF('Entrée de données'!D49=1,(B47*B45+(1-B47)*B16),B16)","v":0},"°C ","si retour de condensat: [% condensat * T° du condensat] + [(1-% condensat) * T°de l'eau d'appoint]. Sinon, c'est égale à la T° d'eau d'appoint",null,null,null,null,null,null,null,null,null,null,null,null,null,null,null,null,null,null,null,45,0.44,0.45000000000000023]
[null,null,null,null,null,null,null,null,null,null,null,null,null,null,null,null,null,null,null,null,null,null,null,46,0.45,0.46000000000000024]
[null,null,null,"Interpolation des enthalpies",null,null,null,null,"Pression (kPa)","Liquide saturé (kJ/kg)","Enthalpie de vaporisation  (kJ/kg)","Vapeur saturée (kJ/kg)",null,null,null,null,null,null,null,null,null,null,null,47,0.46,0.47000000000000025]
[null,null,null,"Pression en dessous de la valeur entrée par l'utilisateur",null,null,null,null,{"$f":"LOOKUP(B56,'Données vapeur'!A5:A60)","v":-1.325},{"$f":"VLOOKUP(I51,'Données vapeur'!A5:E60,3,FALSE)","v":417.46},{"$f":"VLOOKUP(I51,'Données vapeur'!A5:E60,4,FALSE)","v":2258},{"$f":"VLOOKUP(I51,'Données vapeur'!A5:E60,5,FALSE)","v":2675.46},null,null,null,null,null,null,null,null,null,null,null,48,0.47,0.48000000000000026]
[null,null,null,"Pression au dessus de la valeur entrée par l'utilisateur",null,null,null,null,{"$f":"IF((I51-B56)=0,B56,INDEX('Données vapeur'!A5:A60,RANK(LOOKUP(Bilan_2!B56,'Données vapeur'!A5:A60),'Données vapeur'!A5:A60,1)+1))","v":23.675000000000001},{"$f":"VLOOKUP(I52,'Données vapeur'!A5:E60,3,FALSE)","v":444.32},{"$f":"VLOOKUP(I52,'Données vapeur'!A5:E60,4,FALSE)","v":2241},{"$f":"VLOOKUP(I52,'Données vapeur'!A5:E60,5,FALSE)","v":2685.32},null,null,null,null,null,null,null,null,null,null,null,49,0.48,0.49000000000000027]
[null,null,null,"Valeur pour interpolation",null,null,null,null,{"$f":"B56","v":0},{"$f":"IF(I51=I52,J51,FORECAST(I53,J51:J52,I51:I52))","v":418.88357999999999},{"$f":"IF(I51=I52,K51,FORECAST(I53,K51:K52,I51:I52))","v":2257.0990000000002},{"$f":"IF(I51=I52,L51,FORECAST(I53,L51:L52,I51:I52))","v":2675.9825800000003},null,null,null,null,null,null,null,null,null,null,null,50,0.49,0.50000000000000022]
["ENTHALPIE",null,null,null,null,null,null,null,null,null,null,null,null,null,null,null,null,null,null,null,null,null,null,51,0.5,0.51000000000000023]
["Enthalpie de l'eau alimentée à la chaudière (kJ/kg)",{"$f":"ROUND(IF('Entrée de données'!D49=1,(B47*B46+(1-B47)*B44),B44),3)","v":0},"kJ/kg"," si retour de condensat:  [% condensat * DH du condensat] + [(1-% condensat) * DH de l'eau d'appoint]. \nSinon, c'est égale à la DH d'eau d'appoint",null,null,null,null,null,null,null,null,null,null,null,null,null,null,null,null,null,null,null,52,0.51,0.52000000000000024]
["Pression de la vapeur produite (kPa)",{"$f":"'Entrée de données'!C43","v":0},"kPa","Donnée d'entrée",null,null,null,null,"Interpolation de l'enthalpie surchauffée",null,null,null,"Pression (kPa) Données saturées","Vapeur surchauffée (kJ/kg)",null,null,null,null,null,null,null,null,null,53,0.52,0.53000000000000025]
["Degré de surchauffe",{"$f":"IF('Entrée de données'!D44=\"Non nécessaire\",0,'Entrée de données'!D45)","v":0},"°C","Donnée d'entrée",null,null,null,null,"Pression en dessous de la valeur entrée par l'utilisateur",null,null,null,{"$f":"LOOKUP(B56,'Données vapeur'!$H$6:$H$31)","v":-1.325},{"$f":"VLOOKUP(M57,'Données vapeur'!$H$6:$M$33,3,FALSE)","v":2679.1811850700001}]
["Enthalpie de la vapeur saturée/surchauffée (kJ/kg)",{"$f":"IF(B57=0,L53,N59)","v":2675.9825800000003},"kJ/kg","Recherche de h en fonction de la pression",null,null,null,null,"Pression au dessus de la valeur entrée par l'utilisateur",null,null,null,{"$f":"IF((M57-B56)=0,B56,INDEX('Données vapeur'!$H$6:$H$31,RANK(LOOKUP(B56,'Données vapeur'!$H$6:$H$31),'Données vapeur'!$H$6:$H$31,1)+1))","v":98.674999999999997},{"$f":"VLOOKUP(M58,'Données vapeur'!$H$6:$M$33,3,FALSE)","v":2713.0964198699999},null,null,null,null,null,null,null,null,null,{"$f":"X56+1","v":54},0.53,{"$f":"Z56+0.01","v":0.54000000000000026}]
["Enthalpie de l'eau saturée (purge) (kJ/kg)",{"$f":"J53","v":418.88357999999999},"kJ/kg",null,null,null,null,null,"Valeur pour interpolation",null,null,null,{"$f":"B56","v":0},{"$f":"IF(M57=M58,N57,FORECAST(M59,N57:N58,M57:M58))","v":2679.6305619311001},null,null,null,null,null,null,null,null,null,55,0.54,0.55000000000000027]
["Enthalpie de vaporisation (kJ/kg)",{"$f":"K53","v":2257.0990000000002},"kJ/kg",null,null,null,null,null,null,null,null,null,null,null,null,null,null,null,null,null,null,null,null,56,0.55000000000000004,0.56000000000000028]
["Purge - % de l'eau alimentée à la chaudière",{"$f":"VLOOKUP(Y2,X4:Y105,2)","v":0},null,"Donnée d'entrée",null,null,null,null,null,null,null,null,null,null,null,null,null,null,null,null,null,null,null,{"$f":"X60+1","v":57},0.56000000000000005,{"$f":"Z60+0.01","v":0.57000000000000028}]
[null,null,null,null,null,null,null,null,null,null,null,null,null,null,null,null,null,null,null,null,null,null,null,58,0.56999999999999995,0.58000000000000029]
[null,null,null,"Q vapeur produite = mvap*Dhvap + mpurge * DH purge",null,null,null,null,null,null,null,null,null,null,null,null,null,null,null,null,null,null,null,59,0.57999999999999996,0.5900000000000003]
[null,null,null,"Q vapeur produite = m_eau_alimenté *(1 - %Purge) * (hV,sat - hL)  + m_eau_alimenté * %Purge * (hL,sat - hL)",null,null,null,null,null,null,null,null,null,null,null,null,null,null,null,null,null,null,null,60,0.59,0.60000000000000031]
["Production de vapeur",null,null,"<=> m_eau_alimenté = Q vapeur produite / [(1-%Purge)*(hV,sat - hL) + %Purge *(hL,sat - hL)]",null,null,null,null,null,null,null,null,null,null,null,null,null,null,null,null,null,null,null,61,0.6,0.61000000000000032]
["Eau alimentée à la chaudière",null,null,null,null,null,null,null,null,null,null,null,null,null,null,null,null,null,null,null,null,null,null,62,0.61,0.62000000000000033]
["Quantité d'eau alimentée (lb/h)",{"$f":"ROUND(B68/P9,2)","v":0},"Convertion de la ligne du dessous de kg en lb",null,null,null,null,null,null,null,null,null,null,null,null,null,null,null,null,null,null,null,null,63,0.62,0.63000000000000034]
["Quantité d'eau alimentée (kg/h)",{"$f":"ROUND(B9*3600/((1-B61)*(B58-B55)+B61*(B59-B55)),2)","v":0},null,null,null,null,null,null,null,null,null,null,null,null,null,null,null,null,null,null,null,null,null,64,0.63,0.64000000000000035]
["Eau d'appoint (lb/h)",{"$f":"B67*(1-B47)","v":0}," = eau_alimenté*(1-%condensat)",null,null,null,null,null,null,null,null,null,null,null,null,null,null,null,null,null,null,null,null,65,0.64,0.65000000000000036]
["Eau d'appoint (kg/h)",{"$f":"B68*(1-B47)","v":0},"Convertion",null,null,null,null,null,null,null,null,null,null,null,null,null,null,null,null,null,null,null,null,66,0.65,{"$f":"Z69+0.01","v":0.66000000000000036}]
["Retour de condensat (lb/h)",{"$f":"B67*B47","v":0}," = eau_alimenté * % condensat",null,null,null,null,null,null,null,null,null,null,null,null,null,null,null,null,null,null,null,null,67,0.66,0.67000000000000037]
["Retour de condensat (kg/h)",{"$f":"B68*B47","v":0},"Convertion",null,null,null,null,null,null,null,null,null,null,null,null,null,null,null,null,null,null,null,null,{"$f":"X71+1","v":68},0.67,0.68000000000000038]
["Énergie dans l'eau alimentée (Btu/h)",{"$f":"ROUND(B74*P4,0)","v":0},"Convertion de la ligne du dessous de kW en Btu/h",null,null,null,null,null,null,null,null,null,null,null,null,null,null,null,null,null,null,null,null,{"$f":"X72+1","v":69},0.68,0.69000000000000039]
["Énergie dans l'eau alimentée (kW)",{"$f":"ROUND(B68*B55/3600,0)","v":0},"masse d'eau alimenté *  entalpie de l'eau alimenté (à 20°C en générale)",null,null,null,null,null,null,null,"Énergie eau",null,null,null,null,null,null,null,null,null,null,null,null,70,0.69,0.7000000000000004]
["PURGE",null,null,null,null,null,null,null,null,null,"out - in",null,null,null,null,null,null,null,null,null,null,null,null,71,0.7,0.71000000000000041]
["Quantité d'eau prélevée (lb/h)",{"$f":"ROUND(B67*B61,2)","v":0},"eau alimenté *%purge",null,null,null,null,null,null,null,{"$f":"B9+B79-B74","v":0},null,null,null,null,null,null,null,null,null,null,null,null,72,0.71,0.72000000000000042]
["Quantité d'eau (kg/h)",{"$f":"ROUND(B76*P9,2)","v":0},"Convertion",null,null,null,null,null,null,null,null,null,null,null,null,null,null,null,null,null,null,null,null,73,0.72,0.73000000000000043]
["Énergie perdue dans la purge (Btu/h)",{"$f":"ROUND(B79*P4,2)","v":0},"Convertion de la ligne du dessous de kW en Btu/h",null,null,null,null,null,null,null,"Énergie gaz",null,null,null,null,null,null,null,null,null,null,null,null,74,0.73,0.74000000000000044]
["Énergie perdue dans la purge (kW)",{"$f":"ROUND(B77*(B59)/3600,2)","v":0},"m_eau_purge * entalpie de l'eau de la purge (soit l'enthalpie de l'eau saturée)",null,null,null,null,null,null,null,"out - in",null,null,null,null,null,null,null,null,null,null,null,null,75,0.74,0.75000000000000044]
["Potentiel de récupération (Btu/h)",{"$f":"B78*0.9","v":0},"énergie perdue dans la purge * 90% de récupé",null,null,null,null,"90% de récupération",null,null,{"$f":"B19*B29+B23*B29-B29","v":{"$error":"#DIV/0!"}},null,null,null,null,null,null,null,null,null,null,null,null,76,0.75,0.76000000000000045]
["Potentiel de récupération (KW)",{"$f":"B79*0.9","v":0},"Convertion",null,null,null,null,null,null,null,null,null,null,null,null,null,null,null,null,null,null,null,null,77,0.76,0.77000000000000046]
["% de l'énergie alimentée à la chaudière",{"$f":"ROUND(B78/(B30*1000000),4)","v":{"$error":"#DIV/0!"}},"Énergie perdue par la purge / puissance d'opération bruleur",null,null,null,null,"Équation 3.21.1 - Spirax Sarco",null,null,null,null,null,null,null,null,null,null,null,null,null,null,null,78,0.77,0.78000000000000047]
["Vapeur utile",null,null,null,null,null,null,null,null,null,null,null,null,null,null,null,null,null,null,null,null,null,null,79,0.78,0.79000000000000048]
["Quantité produite - incluant évent dégazeur(lb/h)",{"$f":"ROUND(B67-B76,2)","v":0},"quantité d'eau alimenté - quantité d'eau prélevé (soit le % de purge)",null,null,null,null,null,null,null,null,null,null,null,null,null,null,null,null,null,null,null,null,80,0.79,0.80000000000000049]
["Quantité produite - incluant évent dégazeur(kg/h)",{"$f":"ROUND(B68-B77,2)","v":0},"Convertion",null,null,null,null,null,null,null,null,null,null,null,null,null,null,null,null,null,null,null,null,81,0.8,0.8100000000000005]
["Quantité disponible pour les utilisateurs (lb/h)",{"$f":"B84-B107","v":0},"Les quantités perdues à l'évent du désaérateur sont soustraites",null,null,"Valeur qui restera fixe pour tout le calculateur",null,null,null,null,null,null,null,null,null,null,null,null,null,null,null,null,null,82,0.81,0.82000000000000051]
["Quantité disponible pour les utilisateurs (kg/h)",{"$f":"B85-B108","v":0},"Convertion",null,null,"Valeur qui restera fixe pour tout le calculateur",null,null,null,null,null,null,null,null,null,null,null,null,null,null,null,null,null,83,0.82,0.83000000000000052]
["Énergie dans la vapeur utile (Btu/h)",{"$f":"ROUND(B89*P4,2)","v":0},"Convertion de la ligne du dessous de kW en Btu/h",null,null,"Valeur qui restera fixe pour tout le calculateur",null,null,null,null,null,null,null,null,null,null,null,null,null,null,null,null,null,84,0.83,0.84000000000000052]
["Énergie dans la vapeur utile (kW)",{"$f":"ROUND(B87*B58/3600,0)","v":0},"quantité dispo de vap *entalpie de la vapeur",null,null,"Valeur qui restera fixe pour tout le calculateur",null,null,null,null,null,null,null,null,null,null,null,null,null,null,null,null,null,85,0.84,0.85000000000000053]
[]
["DEGAZEUR de la centrale"," Un dégazeur est un dispositif destiné à éliminer l'oxygène ou d'autres gaz dissous dans l'eau remplissant les circuits des chaudières",null,null,null,null,null,null,null,null,null,null,null,null,null,null,null,null,null,null,null,null,null,{"$f":"X89+1","v":86},0.85,{"$f":"Z89+0.01","v":0.86000000000000054}]
["Pression d'opération du dégazeur (kPa)",{"$f":"Bilan_1!B92","v":101.46921271094176},null,null,null,null,null,null,null,null,null,null,null,null,null,null,null,null,null,null,null,null,null,87,0.86,0.87000000000000055]
["Enthalpie de l'eau à la pression du dégazeur (kJ/kg)",{"$f":"Bilan_1!B93","v":506.49053150517148},null,null,null,null,null,null,"Interpolation des enthalpies",null,"Pression (kPa)","Liquide saturé (kJ/kg)","Enthalpie de vaporisation  (kJ/kg)","Vapeur saturée (kJ/kg)",null,null,null,null,null,null,null,null,null,88,0.87,0.88000000000000056]
["Besoins en vapeur pour le dégazeur  (lb/h)",{"$f":"Bilan_1!B94","v":0},"Convertion de la ligne du dessous de kg en lb",null,null,null,"Inclus les pertes par l'évent",null,"Pression en dessous de la valeur entrée par l'utilisateur",null,{"$f":"LOOKUP(B92,'Données vapeur'!A5:A60)","v":98.674999999999997},{"$f":"VLOOKUP(K94,'Données vapeur'!$A$5:$E$60,3,FALSE)","v":504.7},{"$f":"VLOOKUP(K94,'Données vapeur'!$A$5:$E$60,4,FALSE)","v":2201.9},{"$f":"VLOOKUP(K94,'Données vapeur'!$A$5:$E$60,5,FALSE)","v":2706.6},null,null,null,null,null,null,null,null,null,89,0.88,0.89000000000000057]
["Besoins en vapeur pour le dégazeur  (kg/h)",{"$f":"Bilan_1!B95","v":0},"m_eau alim *  [( h_dégazeur - heau_alim ) / (hv,sat - h_dégazeur)  ]   /!\\ Si c'est de la vapeur surchauffé, il faut utiliser hv_surchauffe au lieu de hv,sat",null,null,null,"Inclus les pertes par l'évent",null,"Pression au dessus de la valeur entrée par l'utilisateur",null,{"$f":"IF((K94-B92)=0,B92,INDEX('Données vapeur'!A5:A60,RANK(LOOKUP(Bilan_2!B92,'Données vapeur'!A5:A60),'Données vapeur'!A5:A60,1)+1))","v":123.675},{"$f":"VLOOKUP(K95,'Données vapeur'!$A$5:$E$60,3,FALSE)","v":520.72},{"$f":"VLOOKUP(K95,'Données vapeur'!$A$5:$E$60,4,FALSE)","v":2191.3000000000002},{"$f":"VLOOKUP(K95,'Données vapeur'!$A$5:$E$60,5,FALSE)","v":2712.0200000000004},null,null,null,null,null,null,null,null,null,90,0.89,0.90000000000000058]
["% Pertes par l'évent (% de la vapeur alimentée)",9.5000000000000001E-2,"Moyenne des données de l'USDOE",null,null,null,null,null,"Valeur pour interpolation",null,{"$f":"B92","v":101.46921271094176},{"$f":"IF(K94=K95,L94,FORECAST(K96,L94:L95,K94:K95))","v":506.49053150517148},{"$f":"IF(K94=K95,M94,FORECAST(K96,M94:M95,K94:K95))","v":2200.7152538105606},{"$f":"IF(K94=K95,N94,FORECAST(K96,N94:N95,K94:K95))","v":2707.2057853157321},null,null,null,null,null,null,null,null,null,91,0.9,0.91000000000000059]
[null,null,null,null,null,null,null,null,null,null,null,null,null,null,null,null,null,null,null,null,null,null,null,92,0.91,0.9200000000000006]
["Vapeur totale au dégazeur (lb/h)",{"$f":"ROUND(B99*P10,2)","v":0},"Convertion",null,null,null,null,null,null,null,null,null,null,null,null,null,null,null,null,null,null,null,null,93,0.92,0.9300000000000006]
["Vapeur totale au dégazeur (kg/h)",{"$f":"B95/(1-B96)","v":0},"besoin de vap au degazeur / (1-% perte par event)",null,null,null,"quantité de vapeur qui reste",null,null,null,null,null,null,null,null,null,null,null,null,null,null,null,null,94,0.93,0.94000000000000061]
["Pertes de vapeur par l'évent (lb/h)",{"$f":"B101*P10","v":0},"Convertion",null,null,null,null,null,null,null,null,null,null,null,null,null,null,null,null,null,null,null,null,95,0.94,0.95000000000000062]
["Pertes de vapeur par l'évent (kg/h)",{"$f":"ROUND(B99-B95,2)","v":0},"vapeur total au dégazeur - besoin en vap pour le dégazeur",null,null,null,"quantité de vapeur qui s'échappe de dégazeur",null,null,null,null,null,null,null,null,null,null,null,null,null,null,null,null,96,0.95,0.96000000000000063]
["Pertes de vapeur par l'évent (%)",{"$f":"(B101*B58/3600)/B29","v":{"$error":"#DIV/0!"}},"Énergie perdue par event / puissance du bruleur en op  = masse de vapeur perdue par l'évent * hv,sat / puissance du bruleur en op",null,null,null,null,null,null,null,null,null,null,null,null,null,null,null,null,null,null,null,null,97,0.96,0.97000000000000064]
["Besoins en vapeur du dégazeur en % de la vapeur produite",{"$f":"B95/B85","v":{"$error":"#DIV/0!"}},"Besoin en vap / quantité de vapeur utile produite",null,null,null,null,null,null,null,null,null,null,null,null,null,null,null,null,null,null,null,null,98,0.97,0.98000000000000065]
[null,null,null,null,null,null,null,null,null,null,null,null,null,null,null,null,null,null,null,null,null,null,null,99,0.98,0.99000000000000066]
["Apport total en vapeur de la chaudière 2 (lb/h)",{"$f":"ROUND(B106*P10,2)","v":0},null,null,null,null,null,null,null,null,null,null,null,null,null,null,null,null,null,null,null,null,null,100,0.99,1.0000000000000007]
["Apport total  en vapeur de la chaudière 2 (kg/h)",{"$f":"IF('Entrée de données'!C55=2,0,IF('Entrée de données'!F21=2,Bilan_1!K114,IF('Entrée de données'!F21=3,Bilan_1!K115,IF('Entrée de données'!F21=4,Bilan_1!K116,0))))","v":0}]
["Perte de vapeur par l'évent pour la chaudière 2 (lb/h)",{"$f":"B105*B96","v":0}]
["Perte de vapeur par l'évent pour la chaudière 2 (kg/h)",{"$f":"B106*B96","v":0}]
["Pertes de vapeur par l'évent pour la chaudière 2 (%)",{"$f":"(B108*B58/3600)/B29","v":{"$error":"#DIV/0!"}},"Énergie perdue par event / puissance du bruleur en op  = masse de vapeur perdue par l'évent * hv,sat / puissance du bruleur en op"]
["Besoins en vapeur du dégazeur en % de la vapeur produite pour la chaudière 2",{"$f":"B106/B85","v":{"$error":"#DIV/0!"}},"Besoin en vap / quantité de vapeur utile produite"]
[]
["Vapeur disponible pour les utilisateurs"]
["Quantité de vapeur disponible (lb/h)",{"$f":"B86","v":0}]
["Quantité de vapeur disponible (kg/h)",{"$f":"B87","v":0},null,"exclus les pertes par l'évent"]
[]
[]
[]
["Efficacité de génération de vapeur utile",{"$f":"ROUND((B114/3600)*(B58-B55)/B29,5)","v":{"$error":"#DIV/0!"}}]
["Consommation de gaz naturel par kg/h de vapeur, en m3/(kg/h)",{"$f":"ROUND(B31/B114,5)","v":{"$error":"#DIV/0!"}},"m3 de gaz alimenté / masse de vapeur utile produite"]
[]
[]
[]
[null,null,null,"Efficacité = énergie dispo dans vapeur / puissance du bruleur en oper"]
[null,null,null,"Efficacité = masse vapeur dispo * DH / puissance du bruleur en oper"]
[null,null,null,"Efficacité = masse vapeur dispo * (hV,sat - hL) / puissance du bruleur en oper"]

{"sheet":"Comb_2 (micro)","index":23,"n_rows":215,"n_cols":23,"rows_kept":215,"cut":false,"hidden":true,"merged":[[192,7,192,9],[198,7,198,9],[204,7,204,9],[210,7,210,9],[49,3,49,8],[73,0,73,6],[73,8,73,13],[74,3,74,6],[74,11,74,13],[75,12,75,13],[6,3,6,4],[6,5,6,8],[7,5,7,8],[29,9,29,11],[47,0,47,9],[47,11,47,18],[4,9,4,11],[4,12,4,20],[5,9,5,11],[5,12,5,14],[5,15,5,17],[5,18,5,20]]}
[]
[null,null,null,null,"EFFICACITE","%",{"$f":"1-(G4/(G5+ABS(L28)))","v":0.81946551648622823},null,"Valeur cible d'eff:"]
[null,null,null,null,null,null,null,null,{"$f":"'Entrée de données'!D87","v":0}]
[null,null,null,null,"Hout","J / mol gaz",{"$f":"U28","v":159645.57307219971}]
["BILAN THERMIQUE",null,null,null,"Hin","J / mol gaz",{"$f":"O28+R28","v":-1321.2289175442938},null,null,"PROPRIÉTÉ DU GAZ",null,null,"CALCUL ÉNERGIE"]
[null,null,null,null,null,null,null,null,null,"GAZ ****",null,null,"GAZ",null,null,"AIR",null,null,"FUMEE"]
[null,null,"Masse","* Enthalpie (J / mol)",null,"* Chaleur Spécifique (J / mol oC)",null,null,null,"M","Densité","PCS ou","T (oC) =",{"$f":"'Entrée de données'!D37","v":20},null,"T (oC) =",{"$f":"'Entrée de données'!D35","v":20},null,"T (oC) =",238.02101222962872,{"$f":"ROUND(T7*1.8+32,1)","v":460.4}]
[null,null,"Molaire","Formation","Combustion","Cp = a + bTx102 + cT2105 + dT3*109",null,null,null,"Mélange","Mélange","HHV","Débit","Cpmoy","H","Débit","Cpmoy","H","Débit","Cpmoy","H"]
["État gazeux sauf si indication",null,"g / mol",null,null,"a","b","c","d","g / mol","kg / m3","J / mol gaz","mol / mol gaz","J / mol oC","J / mol gaz","mol / mol gaz","J / mol oC","J / mol gaz","mol / mol gaz","J / mol oC","J / mol gaz"]
["Oxygène","O2",32,0,0,29.1,1.1579999999999999,-0.60760000000000003,1.3109999999999999,{"$f":"M10*C10","v":0},{"$f":"(101325*(C10/1000))/(8.3144*288.7056)*M10","v":0},{"$f":"M10*E10","v":0},{"$f":"'Comb_2 (micro)'!C55/100","v":0},{"$f":"AVERAGE($F10+$G10/100*N$7+$H10/100000*N$7^2+$I10/1000000000*N$7^3,$F10+$G10/100*$B$29+$H10/100000*$B$29^2+$I10/1000000000*$B$29^3)","v":29.357451536187501},{"$f":"M10*N10*(N$7-$B$29)","v":0},{"$f":"'Comb_2 (micro)'!D92","v":2.2869268216373007},{"$f":"AVERAGE($F10+$G10/100*Q$7+$H10/100000*Q$7^2+$I10/1000000000*Q$7^3,$F10+$G10/100*$B$29+$H10/100000*$B$29^2+$I10/1000000000*$B$29^3)","v":29.357451536187501},{"$f":"P10*Q10*(Q$7-$B$29)","v":-335.69171666512182},{"$f":"'Comb_2 (micro)'!L84","v":0.29764682163730094},{"$f":"AVERAGE($F10+$G10/100*T$7+$H10/100000*T$7^2+$I10/1000000000*T$7^3,$F10+$G10/100*$B$29+$H10/100000*$B$29^2+$I10/1000000000*$B$29^3)","v":30.457727608686469},{"$f":"S10*T10*(T$7-$B$29)","v":1931.1730484569418}]
["Monoxide de carbone","CO",28.010999999999999,-110520,-282990,28.95,0.41099999999999998,0.3548,-2.2200000000000002,0,0,0,{"$f":"'Comb_2 (micro)'!C56/100","v":0},{"$f":"AVERAGE($F11+$G11/100*N$7+$H11/100000*N$7^2+$I11/1000000000*N$7^3,$F11+$G11/100*$B$29+$H11/100000*$B$29^2+$I11/1000000000*$B$29^3)","v":29.044267126249999},{"$f":"M11*N11*(N$7-$B$29)","v":0},null,{"$f":"AVERAGE($F11+$G11/100*Q$7+$H11/100000*Q$7^2+$I11/1000000000*Q$7^3,$F11+$G11/100*$B$29+$H11/100000*$B$29^2+$I11/1000000000*$B$29^3)","v":29.044267126249999},{"$f":"P11*Q11*(Q$7-$B$29)","v":0},null,29.577135610704467,{"$f":"S11*T11*(T$7-$B$29)","v":0}]
["Dioxide de carbone","CO2",44.011000000000003,-393500,0,36.11,4.2329999999999997,-2.887,7.4640000000000004,0.14963740000000003,6.3164148191036497E-3,0,{"$f":"'Comb_2 (micro)'!C57/100","v":3.4000000000000002E-3},37.0477172935,{"$f":"M12*N12*(N$7-$B$29)","v":-0.62981119398950003},null,37.0477172935,{"$f":"P12*Q12*(Q$7-$B$29)","v":0},{"$f":"'Comb_2 (micro)'!L82","v":1.00386},40.90040107262341,{"$f":"S12*T12*(T$7-$B$29)","v":8746.2756461591907}]
["Hydrogène","H2",2.016,0,-285840,28.84,7.6499999999999997E-3,0.32879999999999998,-0.86980000000000002,0,0,0,{"$f":"'Comb_2 (micro)'!C58/100","v":0},28.843396075487497,{"$f":"M13*N13*(N$7-$B$29)","v":0},null,28.843396075487497,{"$f":"P13*Q13*(Q$7-$B$29)","v":0},null,28.938355879919676,{"$f":"S13*T13*(T$7-$B$29)","v":0}]
["Eau (v)","H20 (v)",18.015000000000001,-241830,0,33.46,0.68799999999999994,0.76039999999999996,-3.593,0,0,0,{"$f":"'Comb_2 (micro)'!C59/100","v":0},33.618654607687503,{"$f":"M14*(V14+N14*(N$7-$B$29))","v":0},{"$f":"'Comb_2 (micro)'!D93","v":1.0939348676877604E-2},33.618654607687503,{"$f":"P14*(V14+Q14*(Q$7-$B$29))","v":442.91132888313081},{"$f":"'Comb_2 (micro)'!L86-S15","v":1.9885793486768779},34.558313457973213,{"$f":"((S14-G93)*$V$14)+(S14*T14*(T$7-$B$29))","v":95042.150864966447},40656,"Enthalpie vaporisation (J/mol)"]
["Eau (l)","H2O (l)",18.015000000000001,-285840,0,75.400000000000006,0,0,0,0,0,0,0,75.400000000000006,{"$f":"M15*N15*(N$7-$B$29)","v":0},null,75.400000000000006,{"$f":"P15*Q15*(Q$7-$B$29)","v":0},{"$f":"'Comb_2 (micro)'!L96","v":0},75.400000000000006,{"$f":"S15*T15*(T$7-$B$29)","v":0}]
["Sulfure d'hydrogène","H2S",34.076000000000001,-19960,-562590,33.51,1.5469999999999999,0.30120000000000002,-3.2919999999999998,0,0,0,{"$f":"'Comb_2 (micro)'!C60/100","v":0},33.859579763249997,0,null,33.859579763249997,0,null,35.608507936732842,0]
["Méthane","CH4",16.042999999999999,-74850,-890360,34.31,5.4690000000000003,0.36609999999999998,-11,15.32539661,0.64690753953252877,-850534.19720000005,{"$f":"'Comb_2 (micro)'!C61/100","v":0.95527000000000006},35.542271325000002,-169.76232764316379,null,35.542271325000002,0,null,41.532906219251281,0]
["Éthane","C2H6",30.07,-84670,-1559900,49.37,13.92,-5.8159999999999998,7.28,0.62064480000000011,2.6198330177613489E-2,-32196.336000000003,{"$f":"'Comb_2 (micro)'!C62/100","v":2.0640000000000002E-2},52.472278994999996,-5.4151391922840002,null,52.472278994999996,0,null,66.05973076877369,0]
["Propane","C3H8",44.097000000000001,-103800,-2220000,68.031999999999996,22.59,-13.11,31.71,5.1593490000000006E-2,2.1778371236420568E-3,-2597.4,{"$f":"'Comb_2 (micro)'!C63/100","v":1.17E-3},73.047935824375003,-0.42733042457259374,null,73.047935824375003,0,null,94.199634652601191,0]
["Butane","C4H10",58.124000000000002,-134500,-2868800,89.46,30.13,-18.91,49.87,0,0,0,{"$f":"'Comb_2 (micro)'!C64/100","v":0},96.142925339374983,0,null,96.142925339374983,0,null,124.00501999716285,0]
["** i-Butane","C4H10",58.124000000000002,{"$f":"D20","v":-134500},{"$f":"E20","v":-2868800},89.46,30.13,-18.91,49.87,2.9062000000000003E-3,1.2267497796192013E-4,-143.44,{"$f":"'Comb_2 (micro)'!C65/100","v":5.0000000000000002E-5},96.142925339374983,-2.4035731334843748E-2,null,96.142925339374983,0,null,124.00501999716285,0]
["n-Butane","C4H10",58.124000000000002,-124700,-2878500,92.3,27.88,-15.47,34.979999999999997,2.9062000000000003E-3,1.2267497796192013E-4,-143.92500000000001,{"$f":"'Comb_2 (micro)'!C66/100","v":5.0000000000000002E-5},98.494129451249989,-2.4623532362812499E-2,null,98.494129451249989,0,null,124.77072146449717,0]
["Pentane","C5H12",72.150000000000006,-152000,-35292000,114.8,34.090000000000003,-18.989999999999998,42.26,0,0,0,{"$f":"'Comb_2 (micro)'!C67/100","v":0},122.37342544625,0,null,122.37342544625,0,null,154.47855515779582,0]
["Octane","C8H18",114.23,-208400,-5512200,-5.8307000000000002,4.4541000000000004,-0.42080000000000001,1.2629999999999999,0,0,0,{"$f":"'Comb_2 (micro)'!C68/100","v":0},-4.8306691808125004,0,null,-4.8306691808125004,0,null,-8.5080022380834563E-2,0]
["*** iso-Octane","Ch8H18i",114.23,{"$f":"D24","v":-208400},{"$f":"E24","v":-5512200},-5.8307000000000002,4.4541000000000004,-0.42080000000000001,1.2629999999999999,0,0,0,{"$f":"'Comb_2 (micro)'!C69/100","v":0},-4.8306691808125004,0,null,-4.8306691808125004,0,null,-8.5080022380834563E-2,0]
["Azote","N2",28.013000000000002,0,0,29,0.21990000000000001,0.57230000000000003,-2.871,0.54401246000000003,2.2963566355209533E-2,0,{"$f":"'Comb_2 (micro)'!C70/100","v":1.942E-2},29.052376623812499,{"$f":"M26*N26*(N$7-$B$29)","v":-2.8209857701721934},{"$f":"'Comb_2 (micro)'!D91","v":8.6006338996060645},29.052376623812499,-1249.344276274423,{"$f":"'Comb_2 (micro)'!L81","v":8.6006338996060645},29.433715546157117,{"$f":"S26*T26*(T$7-$B$29)","v":53925.973512617122}]
["Hélium","He",4.0020600000000002,0,0,20.8,0,0,0,0,0,0,{"$f":"'Comb_2 (micro)'!C71/100","v":0},20.8,0,null,20.8,0,null,20.8,0]
[null,null,null,null,null,null,null,null,"SOMME",{"$f":"SUM(J10:J27)","v":16.697097160000002},{"$f":"SUM(K10:K27)","v":0.70480903796402139},{"$f":"SUM(L10:L27)","v":-885615.29820000008},{"$f":"SUM(M10:M27)","v":1},null,{"$f":"SUM(O10:O27)","v":-179.10425348787973},{"$f":"SUM(P10:P27)","v":10.898500069920242},null,{"$f":"SUM(R10:R27)","v":-1142.1246640564141},{"$f":"SUM(S10:S27)","v":11.890720069920244},null,{"$f":"SUM(U10:U27)","v":159645.57307219971}]
["* Référence. Patm, T =",25,"oC"]
["** Hyp. Même propriétés que Butane",null,null,null,null,null,null,null,null,"Pouvoir Calorifique Supérieur"]
["*** Hyp. Même que Octane",null,null,null,null,null,null,null,null,null,{"$f":"ABS(L28/1000)","v":885.6152982000001},"kJ / mol"]
["**** À Patm et T = 15.6 oC (14.7 psi et 60 F)",null,null,null,null,null,null,null,null,null,{"$f":"K31/(J28/1000)","v":53040.075751706296},"kJ / kg"]
[null,null,null,null,null,null,null,null,null,null,{"$f":"(K32/1000)*K28","v":37.38312476409893},"MJ / m3"]
["Référence"]
["Elementary Principles of Chemical Processes",null,null,null,null,null,null,null,null,null,{"$f":"(K33*1000)/1.055*0.02832","v":1003.4977187860492},"BTU / ft3"]
["Wiley Series in Chemical Engineering, Second Edition",null,null,null,null,null,null,null,null,null,{"$f":"(K32/1.055)*0.4536","v":22804.71882556775},"BTU / lbm"]
["R M Felder et R W Rousseau",null,null,null,null,null,null,null,null,null,{"$f":"K35/7.4814","v":134.13234405138732},"BTU / gal"]
[]
[]
[]
[]
[null,null,null,null,null,"Constitution de l'air sec"]
[null,null,null,null,"Azote",0.78995048751598307]
[null,null,null,null,"Oxygène",{"$f":"1-F43","v":0.21004951248401693}]
["BILAN MASSIQUE",null,null,null,"Autres",0]
[]
[]
["CALCUL DE LA COMBUSTION STOÉCHIOMÉTRIQUE",null,null,null,null,null,null,null,null,null,null,"Masse H2 par livre de combustible"]
[]
[null,null,"COMPOSITION","GAZ DE COMBUSTION STOÉCHIOMÉTRIQUE",null,null,null,null,null,null,null,null,"Masse d'hydrogène dans une livre de combustible (lb/lb)",null,null,null,{"$f":"(4*N53+6*N55+8*N56+10*N57+10*N58)/(N53*O53+N54*O54+N55*O55+N56*O56+N57*O57+N58*O58+N59*O59)","v":0.23688428965217811}]
[null,null,"(mol / 100 mol gaz)","CO2","H2O","SO2","He","N2","TOTAL","O2 requis"]
["GAZ (ÉTAT GAZEUX)",null,null,null,null,null,null,null,null,null,null,null,"Compo","% mol","masse molaire"]
[null,"TOTAL",{"$f":"SUM(C55:C71)","v":100},1.00386,1.9776400000000003,0,0,1.942E-2,3.0009200000000003,1.9892799999999999,null,null,"CH4",{"$f":"C61","v":95.527000000000001},{"$f":"C17","v":16.042999999999999}]
[null,null,null,null,null,null,null,null,null,null,null,null,"CO2",{"$f":"C57","v":0.34},{"$f":"C12","v":44.011000000000003}]
["Oxygène","O2",0,null,null,null,null,null,{"$f":"SUM(D55:H55)","v":0},{"$f":"-C55/100","v":0},null,null,"C2H6",{"$f":"C62","v":2.0640000000000001},{"$f":"C18","v":30.07}]
["Monoxide de carbone","CO",0,{"$f":"C56/100","v":0},null,null,null,null,0,{"$f":"D56+E56/2+F56","v":0},null,null,"C3H8",{"$f":"C63","v":0.11700000000000001},{"$f":"C19","v":44.097000000000001}]
["Dioxide de carbone","CO2",0.34,{"$f":"C57/100","v":3.4000000000000002E-3},null,null,null,null,3.4000000000000002E-3,0,null,null,"C4H10",{"$f":"C65","v":5.0000000000000001E-3},{"$f":"C21","v":58.124000000000002}]
["Hydrogène","H2",0,null,{"$f":"C58/100","v":0},null,null,null,0,{"$f":"D58+E58/2+F58","v":0},null,null,"C4H10",{"$f":"C66","v":5.0000000000000001E-3},{"$f":"C22","v":58.124000000000002}]
["Eau (l)","H2O (l)",0,null,{"$f":"C59/100","v":0},null,null,null,0,0,null,null,"N2",{"$f":"C70","v":1.9419999999999999},{"$f":"C26","v":28.013000000000002}]
["Sulfure d'hydrogène","H2S",0,null,{"$f":"C60/100","v":0},{"$f":"C60/100","v":0},null,null,0,0]
["Méthane","CH4",95.527000000000001,{"$f":"C61/100","v":0.95527000000000006},{"$f":"C61/100*2","v":1.9105400000000001},null,null,null,2.8658100000000002,1.9105400000000001]
["Éthane","C2H6",2.0640000000000001,{"$f":"C62*2/100","v":4.1280000000000004E-2},{"$f":"C62/100*3","v":6.1920000000000003E-2},null,null,null,0.10320000000000001,7.2239999999999999E-2]
["Propane","C3H8",0.11700000000000001,{"$f":"C63*3/100","v":3.5100000000000005E-3},{"$f":"C63/100*4","v":4.6800000000000001E-3},null,null,null,8.1900000000000011E-3,5.850000000000001E-3]
["Butane","C4H10",0,{"$f":"C64*4/100","v":0},{"$f":"C64/100*5","v":0},null,null,null,0,0]
["** i-Butane","C4H10",5.0000000000000001E-3,{"$f":"C65*4/100","v":2.0000000000000001E-4},{"$f":"C65/100*5","v":2.5000000000000001E-4},null,null,null,4.4999999999999999E-4,3.2499999999999999E-4]
["n-Butane","C4H10",5.0000000000000001E-3,{"$f":"C66*4/100","v":2.0000000000000001E-4},{"$f":"C66/100*5","v":2.5000000000000001E-4},null,null,null,4.4999999999999999E-4,3.2499999999999999E-4]
["Pentane","C5H12",0,{"$f":"C67*5/100","v":0},{"$f":"C67/100*6","v":0},null,null,null,0,0]
["Octane","C8H18",0,{"$f":"C68*8/100","v":0},{"$f":"C68/100*9","v":0},null,null,null,0,0]
["*** iso-Octane","Ch8H18i",0,{"$f":"C69*8/100","v":0},{"$f":"C69/100*9","v":0},null,null,null,0,0]
["Azote","N2",1.9419999999999999,null,null,null,null,{"$f":"C70/100","v":1.942E-2},1.942E-2,0]
["Hélium","He",0,null,null,null,{"$f":"C71/100","v":0},null,0,0]
[]
[]
["AIR DE COMBUSTION",null,null,null,null,null,null,null,"FUMÉES"]
[null,null,null,"MASSIQUE",null,null,null,null,null,null,null,"MASSIQUE"]
[null,null,null,"% O2","% EA","% CO2","RÉSULTATS",null,null,null,null,null,"Proportion (%)"]
[null,null,null,{"$f":"TRUE()","v":true},{"$f":"FALSE()","v":false},false,null,null,null,null,null,"(mol / mol gaz)","Base Hum","Base Sec"]
[null,null,null,{"$f":"IF(D77,1,\"-\")","v":1},{"$f":"IF(E77,2,\"-\")","v":"-"},{"$f":"IF(F77,3,\"-\")","v":"-"},{"$f":"AVERAGE(D78:F78)","v":1}]
["Calcul de l'excès d'air (base sèche)",null,null,{"$f":"D87/D84","v":0.14962540297861585},null,{"$f":"F86/F83","v":{"$error":"#DIV/0!"}},{"$f":"INDEX(D79:F79,G$78)","v":0.14962540297861585},null,"TOTAL",null,"mol / mol gas",{"$f":"SUM(L81:L86)","v":11.890720069920242},{"$f":"SUM(M81:M86)","v":1.0000000000000002},{"$f":"SUM(N81:N86)","v":1}]
["Oxygène dans les fumées (base sèche)",null,null,{"$f":"'Entrée de données'!D89","v":0.03},{"$f":"E86/(E83*($F$43/$F$44)+I53-E53+E86/$F$44)","v":0},{"$f":"F86/(F83*($F$43/$F$44)+I53-E53+F86/$F$44)","v":{"$error":"#DIV/0!"}},{"$f":"INDEX(D80:F80,G$78)","v":0.03}]
["Dioxide de carbone dans les fumées",null,null,{"$f":"$N$82","v":0.10137807856501053},{"$f":"N82","v":0.10137807856501053},null,{"$f":"INDEX(D81:F81,G$78)","v":0.10137807856501053},null,"Azote",null,"mol / mol gas",{"$f":"G91","v":8.6006338996060645},{"$f":"L81/$L$79","v":0.72330639768090632},{"$f":"L81/($L$79-$L$86)","v":0.86856308567246088}]
[null,null,null,null,null,null,null,null,"Dioxide de carbone",null,"mol / mol gas",{"$f":"D53","v":1.00386},8.4423819087243335E-2,{"$f":"L82/($L$79-$L$86)","v":0.10137807856501053}]
["Oxygène stoéchiométrique",null,"mol / mol gas",{"$f":"$J$53","v":1.9892799999999999},{"$f":"$J$53","v":1.9892799999999999},{"$f":"$J$53","v":1.9892799999999999},{"$f":"INDEX(D83:F83,G$78)","v":1.9892799999999999},null,"Dioxide de soufre",null,"mol / mol gas",{"$f":"F53","v":0},0,{"$f":"L83/($L$79-$L$86)","v":0}]
["Air stoéchiométrique",null,"mol / mol gas",{"$f":"D83/$F$44","v":9.4705290027815128},{"$f":"E83/$F$44","v":9.4705290027815128},{"$f":"F83/$F$44","v":9.4705290027815128},{"$f":"INDEX(D84:F84,G$78)","v":9.4705290027815128},null,"Oxygène",null,"mol / mol gas",{"$f":"G86","v":0.29764682163730094},2.5031858448190464E-2,{"$f":"L84/($L$79-$L$86)","v":3.0058835762528616E-2}]
[null,null,null,null,null,null,null,null,"Hélium",null,"mol / mol gas",{"$f":"G53","v":0},0,{"$f":"L85/($L$79-$L$86)","v":0}]
["Excès oxygène",null,"mol / mol gas",{"$f":"D80/(1-D80/$F$44)*(($I$53-$E$53)+D83*$F$43/$F$44)","v":0.29764682163730094},{"$f":"E83*$E$79","v":0},{"$f":"(D53/F81-(I53-E53)-F83*(F43/F44))/(1+F43/F44)","v":{"$error":"#DIV/0!"}},{"$f":"INDEX(D86:F86,G$78)","v":0.29764682163730094},null,"Eau (liquide et vapeur)",null,"mol / mol gas",{"$f":"G93+E53","v":1.9885793486768779},0.16723792478366001,0]
["Excès air",null,"mol / mol gas",{"$f":"D86/F44","v":1.4170317184618528},{"$f":"E84*$E$79","v":0},{"$f":"F86/F44","v":{"$error":"#DIV/0!"}},{"$f":"INDEX(D87:F87,G$78)","v":1.4170317184618528},null,"Condensation (liquide)",null,"mol / mol gas",{"$f":"L96","v":0},0,1]
[null,null,null,null,null,null,null,null,"Molecular weight",null,"g/mol",null,{"$f":"M81*28+M82*44+M83*64+M84*32+M86*18","v":27.778529291352058}]
["Air de combustion",null,"mol / mol gas",{"$f":"SUM(D91:D93)","v":10.898500069920242},{"$f":"SUM(E91:E93)","v":9.4814683514583926},{"$f":"SUM(F91:F93)","v":{"$error":"#DIV/0!"}},{"$f":"INDEX(D89:F89,G$78)","v":10.898500069920242},null,"Condensation des fumées",null,null,{"$f":"IF(L91<L92,\"VRAI\",\"FAUX\")","v":"FAUX"}]
[null,null,null,null,null,null,null,null,"Humidité (sans condensation)",null,"mol / mol fumées",{"$f":"E53+G93","v":1.9885793486768779}]
["Azote",null,"mol / mol gas",{"$f":"D92*($F$43/$F$44)","v":8.6006338996060645},{"$f":"E92*($F$43/$F$44)","v":7.4812490027815137},{"$f":"F92*($F$43/$F$44)","v":{"$error":"#DIV/0!"}},{"$f":"INDEX(D91:F91,G$78)","v":8.6006338996060645},null,"Température des fumées",null,"oC",{"$f":"T7","v":238.02101222962872}]
["Oxygène",null,"mol / mol gas",{"$f":"D83+D86","v":2.2869268216373007},{"$f":"E83+E86","v":1.9892799999999999},{"$f":"F83+F86","v":{"$error":"#DIV/0!"}},{"$f":"INDEX(D92:F92,G$78)","v":2.2869268216373007},null,"Point de rosée",null,"oC",{"$f":"E135","v":56.443062043569093}]
["Vapeur d'eau",null,"mol / mol gas",{"$f":"E114*'Comb_2 (micro)'!D84","v":1.0939348676877604E-2},{"$f":"E114*'Comb_2 (micro)'!E84","v":1.0939348676877604E-2},{"$f":"E114*'Comb_2 (micro)'!F84","v":1.0939348676877604E-2},{"$f":"INDEX(D93:F93,G$78)","v":1.0939348676877604E-2},null,"Flue gas density",null,"lb/cu ft"]
[null,null,null,null,null,null,null,null,"Saturation (Tfumées)",null,"mol / mol fumées",{"$f":"E128","v":0.20082317598362523},"Fumées sèches"]
["Humidité",null,null,null,null,null,null,null,"Condensation",null,"mol / mol fumées",{"$f":"E139","v":0}]
["Humidité relative",null,null,0.05,null,null,null,null,null,null,"mol / mol gas",{"$f":"E140","v":0}]
["Point de rosée",null,"oC",{"$f":"IF(D96<>0,E118,\"-\")","v":{"$error":"#N/A"}}]
[]
[]
[]
[]
[null,null,"PRESSION ATMOSPHÉRIQUE",null,null,null,null,"TABLE VAPEUR SATURÉE"]
[null,null,"Altitude","FASL",200,"Mtl = 200",null,"Tsat (oC)","Psat (Pa)","Tsat (oC)"]
[null,null,"Pression barométrique","po Hg",{"$f":"29.9269-0.001020817*E103+0.000000011*E103^2-0.0000000000005118678*E103^3","v":29.723172505057601},null,null,0,610.48326959999986,{"$f":"H104","v":0}]
[null,null,"Pression barométrique","Pa",101312.5,{"$f":"E104*3370","v":100167.09134204412},null,2,705.80878559999985,2]
[null,null,null,null,null,null,null,4,813.39996239999994,4]
[null,null,"AIR DE COMBUSTION",null,null,null,null,6,934.98999119999985,6]
[null,null,"Température","oC",{"$f":"N7","v":20},null,null,8,1072.5787079999998,8]
[null,null,"Humidité relative",null,0.05,null,null,10,1227.7659815999998,10]
[null,null,null,null,null,null,null,12,1402.2850031999999,12]
[null,null,"Pression saturation","Pa",{"$f":"IF(E108<0,0.09*6895,I196)","v":2337.8082839999997},null,null,14,1598.1356087999998,14]
[null,null,"Pression vapeur eau","Pa",{"$f":"E109*E111","v":116.8904142},null,null,16,1817.7176015999999,16]
[null,null,null,null,null,null,null,18,2063.4307847999999,18]
[null,null,"H2O / Air sec","mol / mol",{"$f":"E112/(E105-E112)","v":1.1550937306315937E-3},null,null,20,2337.8082839999997,20]
[null,null,"H2O / Air sec","lb / lb",{"$f":"E114*18.02/28.95","v":7.1899098535341342E-4},null,null,22,2643.3832247999999,22]
[null,null,null,null,null,null,null,24,2983.3553447999998,24]
[null,null,"H2O / Air humide","mol / mol",{"$f":"E112/E105","v":1.1537610285009253E-3},null,null,26,3360.9243815999998,26]
[null,null,"Température de rosée","oC",{"$f":"H202","v":{"$error":"#N/A"}},null,null,28,3779.5567175999995,28]
[null,null,null,null,null,null,null,30,4242.8520576000001,30]
[null,null,"FUMÉES",null,null,null,null,32,4754.6767511999988,32]
[null,null,"Température","oC",{"$f":"T7","v":238.02101222962872},null,null,34,5319.2971152,34]
[null,null,null,null,null,null,null,36,5941.2461112000001,36]
[null,null,"Fumées totales","mol / mol gaz",{"$f":"L79","v":11.890720069920242},null,null,38,6625.0567007999998,38]
[null,null,"Humidité (H2O)","mol / mol gaz",{"$f":"L90","v":1.9885793486768779},"sans condensation",null,40,7375.9284575999991,40]
[null,null,null,null,null,null,null,42,8199.3275999999987,42]
[null,null,"Pression vapeur","Pa",{"$f":"E131*E105","v":16943.292254644555},null,null,44,9100.5870240000004,44]
[null,null,null,null,null,null,null,46,10085.83956,46]
[null,null,"H2O / Air sec","mol / mol",{"$f":"E124/(E123-E124)","v":0.20082317598362523},"Mair",null,48,11160.418103999998,48]
[null,null,"H2O / Air sec","lb / lb",{"$f":"E128*18.02/F129","v":0.12870979965717447},{"$f":"(M81*28+M82*48+M83*64+M84*32+M85*4+M86*18)","v":28.116224567701032},null,50,12333.655224,50]
[null,null,null,null,null,null,null,55,15737.376096,55]
[null,null,"H2O / Air humide","mol / mol",{"$f":"E124/E123","v":0.16723792478366001},null,null,60,19915.700111999999,60]
[null,null,"H2O / mol gas","mol / mol",{"$f":"E131*E123","v":1.9885793486768779},null,null,65,25003.282895999997,65]
[null,null,null,null,null,null,null,70,31157.444879999995,70]
[null,null,"Condensation",null,{"$f":"IF(E135>E121,\"VRAI\",\"FAUX\")","v":"FAUX"},null,null,75,38543.505839999998,75]
[null,null,"Point de rosée","oC",{"$f":"H208","v":56.443062043569093},null,null,80,47342.784240000001,80]
[null,null,null,null,null,null,null,85,57808.592639999995,85]
[null,null,"Pression saturation","Pa",{"$f":"I214","v":3231593.4946429115},null,null,90,70095.585023999985,90]
[null,null,"Contenu H2O à saturation","mol / mol fumées",{"$f":"IF(E134=\"VRAI\",E137/E105,\"-\")","v":"-"},null,null,91,72800.696519999983,91]
[null,null,"Condensation","mol / mol fumées",{"$f":"IF(E134=\"VRAI\",E131-E138,0)","v":0},null,null,92,75592.467575999995,92]
[null,null,"Condensation","mol / mol gaz",{"$f":"IF(E134=\"VRAI\",E139*E123,0)","v":0},null,null,93,78473.564639999997,93]
[null,null,"Condensation","g / mol gaz",{"$f":"IF(E134=\"VRAI\",E140*18,0)","v":0},null,null,94,81446.654159999991,94]
[null,null,null,null,null,null,null,95,84513.069359999994,95]
[null,null,"Humidité Relative des Fumées",null,{"$f":"IF(E134=\"VRAI\",1,IF(E121<100,E126/E137,\"N / A\"))","v":"N / A"},null,null,96,87675.476687999995,96]
[null,null,null,null,null,null,null,97,90935.209367999996,97]
[null,null,null,null,null,null,null,98,94294.933847999986,98]
[null,null,null,null,null,null,null,99,97757.316575999997,99]
[null,null,null,null,null,null,null,100,101325.02399999999,100]
[null,null,null,null,null,null,null,105,120820,105]
[null,null,null,null,null,null,null,110,143270,110]
[null,null,null,null,null,null,null,115,169060,115]
[null,null,null,null,null,null,null,120,198530,120]
[null,null,null,null,null,null,null,125,232100,125]
[null,null,null,null,null,null,null,130,270100,130]
[null,null,null,null,null,null,null,135,313000,135]
[null,null,null,null,null,null,null,140,361300,140]
[null,null,null,null,null,null,null,145,415400,145]
[null,null,null,null,null,null,null,150,475800,150]
[null,null,null,null,null,null,null,155,543100,155]
[null,null,null,null,null,null,null,160,617800,160]
[null,null,null,null,null,null,null,165,700500,165]
[null,null,null,null,null,null,null,170,791700,170]
[null,null,null,null,null,null,null,175,892000,175]
[null,null,null,null,null,null,null,180,1002100,180]
[null,null,null,null,null,null,null,185,1122700,185]
[null,null,null,null,null,null,null,190,1254400,190]
[null,null,null,null,null,null,null,195,1397800,195]
[null,null,null,null,null,null,null,200,1553800,200]
[null,null,null,null,null,null,null,205,1723000,{"$f":"H168","v":205}]
[null,null,null,null,null,null,null,210,1906200,210]
[null,null,null,null,null,null,null,215,2104000,215]
[null,null,null,null,null,null,null,220,2318000,220]
[null,null,null,null,null,null,null,225,2548000,225]
[null,null,null,null,null,null,null,230,2795000,230]
[null,null,null,null,null,null,null,235,3060000,235]
[null,null,null,null,null,null,null,240,3344000,240]
[null,null,null,null,null,null,null,245,3648000,245]
[null,null,null,null,null,null,null,250,3973000,250]
[null,null,null,null,null,null,null,255,4319000,255]
[null,null,null,null,null,null,null,260,4688000,260]
[null,null,null,null,null,null,null,265,5081000,265]
[null,null,null,null,null,null,null,270,5499000,270]
[null,null,null,null,null,null,null,275,5942000,275]
[null,null,null,null,null,null,null,280,6412000,280]
[null,null,null,null,null,null,null,285,6909000,285]
[null,null,null,null,null,null,null,290,7436000,290]
[null,null,null,null,null,null,null,295,7993000,295]
[null,null,null,null,null,null,null,300,8581000,300]
[null,null,null,null,null,null,null,320,11274000,320]
[null,null,null,null,null,null,null,340,14586000,340]
[null,null,null,null,null,null,null,360,18651000,360]
[null,null,null,null,null,null,null,374.14,22090000,374.14]
[]
[null,null,null,null,null,null,null,"Psat AIR COMBUSTION"]
[null,null,null,null,null,null,null,"T","Psat"]
[null,null,null,null,null,null,null,{"$f":"VLOOKUP(E108,H104:I191,1)","v":20},{"$f":"VLOOKUP(H195,$H$104:$I$191,2)","v":2337.8082839999997},{"$f":"MATCH(H195,H104:H191,1)","v":11}]
[null,null,null,null,null,null,null,{"$f":"E108","v":20},{"$f":"I195+((H196-H195)/(H197-H195))*(I197-I195)","v":2337.8082839999997}]
[null,null,null,null,null,null,null,{"$f":"INDEX(H104:H191,J197)","v":22},{"$f":"VLOOKUP(H197,$H$104:$I$191,2)","v":2643.3832247999999},{"$f":"J195+1","v":12}]
[]
[null,null,null,null,null,null,null,"CALCUL ROSÉE AIR COMB"]
[null,null,null,null,null,null,null,"T","Psat"]
[null,null,null,null,null,null,null,{"$f":"VLOOKUP(I201,$I$104:$J$191,2)","v":{"$error":"#N/A"}},{"$f":"VLOOKUP(I202,I104:J191,1)","v":{"$error":"#N/A"}},{"$f":"MATCH(H201,H104:H191,1)","v":{"$error":"#N/A"}}]
[null,null,null,null,null,null,null,{"$f":"H201+(I202-I201)/(I203-I201)*(H203-H201)","v":{"$error":"#N/A"}},{"$f":"E117*E105","v":116.8904142}]
[null,null,null,null,null,null,null,{"$f":"INDEX(H104:H191,J203)","v":{"$error":"#N/A"}},{"$f":"VLOOKUP(H203,H104:I191,2)","v":{"$error":"#N/A"}},{"$f":"J201+1","v":{"$error":"#N/A"}}]
[]
[null,null,null,null,null,null,null,"TEMP. CONDENSATION FUMÉE"]
[null,null,null,null,null,null,null,"T","Psat"]
[null,null,null,null,null,null,null,{"$f":"VLOOKUP(I207,$I$104:$J$191,2)","v":55},{"$f":"VLOOKUP(E126,I104:J191,1)","v":15737.376096},{"$f":"MATCH(H207,H104:H191,1)","v":27}]
[null,null,null,null,null,null,null,{"$f":"H207+(I208-I207)/(I209-I207)*(H209-H207)","v":56.443062043569093},{"$f":"E126","v":16943.292254644555}]
[null,null,null,null,null,null,null,{"$f":"INDEX(H104:H191,J209)","v":60},{"$f":"VLOOKUP(H209,H104:I191,2)","v":19915.700111999999},{"$f":"J207+1","v":28}]
[]
[null,null,null,null,null,null,null,"CALCUL FUMÉES"]
[null,null,null,null,null,null,null,"T","Psat"]
[null,null,null,null,null,null,null,{"$f":"VLOOKUP(H214,H104:I191,1)","v":235},{"$f":"VLOOKUP(H213,$H$104:$I$191,2)","v":3060000},{"$f":"MATCH(H213,H104:H191,1)","v":71}]
[null,null,null,null,null,null,null,{"$f":"E121","v":238.02101222962872},{"$f":"I213+((H214-H213)/(H215-H213))*(I215-I213)","v":3231593.4946429115}]
[null,null,null,null,null,null,null,{"$f":"INDEX(H104:H191,J215)","v":240},{"$f":"VLOOKUP(H215,$H$104:$I$191,2)","v":3344000},{"$f":"J213+1","v":72}]

{"sheet":"Bilan_2 EE","index":24,"n_rows":125,"n_cols":27,"rows_kept":125,"cut":false,"hidden":true,"merged":[[95,13,95,17],[36,6,36,8],[49,3,49,7],[50,3,50,7],[51,3,51,7],[52,3,52,7],[54,3,54,12],[55,8,55,11],[57,3,59,6],[92,13,92,17],[93,13,93,17],[94,13,94,17],[35,6,35,8],[20,3,20,6],[21,3,21,6],[22,3,22,6],[23,3,23,6],[34,6,34,8]]}
["Formulaire de calcul",null,null,null,null,null,null,null,null,null,null,null,null,"Unités et paramètres de calculs",null,null,null,null,null,null,null,null,null,null,"Quantité de purge","Excès d'air"]
[null,null,null,null,null,null,null,null,null,null,null,null,null,null,null,null,null,null,null,null,"Numéro correspondant à sélection dans entrée de données",null,null,null,{"$f":"'Entrée de données'!D52","v":1},{"$f":"'Entrée de données'!D36","v":30},{"$f":"'Entrée de données'!D25","v":1}]
[null,"Type de chaudière:",{"$f":"VLOOKUP(AA2,X4:AA7,4)","v":"Tubes de fumées"},null,null,null,null,null,null,null,null,null,null,null,"Conversion",null,null,null,null,null,null,null,null,"Numéro","% Purge","% Exces d'air","Type de chaudière"]
[null,null,null,null,null,null,null,null,null,null,null,null,null,null,"1kW = ",{"$f":"1000000/293.07","v":3412.1540928788345},"Btu/h",null,null,null,null,null,null,1,0,0.01,"Tubes de fumées"]
["OUTPUT:",null,null,null,null,null,null,null,null,null,null,null,null,null,"1 Btu/h =",2.9306999999999998E-4,"kW",null,null,null,null,null,null,{"$f":"X4+1","v":2},0.01,{"$f":"Z4+0.01","v":0.02},"Tubes d'eau"]
["Puissance maximale du brûleur ",{"$f":"'Entrée de données'!D27","v":0},"kW","Donnée d'entrée",null,null,null,null,null,null,null,null,null,null,"1 kJ/kg=",0.42992999999999998,"Btu/lb",null,null,null,null,null,null,{"$f":"X5+1","v":3},0.02,{"$f":"Z5+0.01","v":0.03},"À serpentin"]
["Puissance maximale de production de vapeur  de la chaudière",{"$f":"'Entrée de données'!D29","v":0},"kW","Donnée d'entrée",null,null,null,null,null,null,null,null,null,null,"1 Btu =",1.0549999999999999E-3,"MJ",null,null,null,null,null,null,{"$f":"X6+1","v":4},0.03,0.04,"Sans tube"]
["Puissance maximale de production de vapeur  de la chaudière ",{"$f":"ROUND(B7*P4/1000000,2)","v":0},"millions Btu/h","Simple calcul de conversion des kw en btu/h",null,null,null,null,null,null,null,null,null,null,"1 MJ = ",{"$f":"1/P7","v":947.8672985781991},"Btu",null,null,null,null,null,null,{"$f":"X7+1","v":5},0.04,0.05]
["Puissance moyenne de production de vapeur  de la chaudière en opération ",{"$f":"B89+B79+B111+-B74","v":0},"kW","Q = Qvap dispo + Q purge +Qevent - Qeau alimenté",null,"ATTENTION: Ce n'est pas juste pour la vapeur dispo. C'est aussi de l'énergie qui sera perdu par les purges",null,null,null,null,null,null,null,null,"1 lb =",0.45359237000000002,"kg",null,null,null,null,null,null,6,0.05,6.0000000000000005E-2]
["Puissance moyenne de production de vapeur  de la chaudière en opération ",{"$f":"ROUND(B9*P4/1000000,2)","v":0},"millions Btu/h","Données entrée converti en btu/h",null,null,null,null,null,null,null,null,null,null,"1 kg =",{"$f":"1/P9","v":2.2046226218487757},"lb",null,null,null,null,null,null,7,0.06,7.0000000000000007E-2]
[null,null,null,null,null,null,null,null,null,null,null,null,null,null,null,null,null,null,null,null,null,null,null,8,7.0000000000000007E-2,0.08]
["INFO POUR CALCUL DE L'EFFICACITÉ",null,null,null,null,null,null,null,null,null,null,null,null,null,null,null,null,null,null,null,null,null,null,9,0.08,0.09]
["Excès d'air",{"$f":"IF('Mise en forme- input'!C11=FALSE,Bilan_2!B13,'Entrée de données'!D89)","v":0.3000000000000001},null,"Donnée d'entrée",null,null,null,null,null,null,null,null,null,null,null,null,null,null,null,null,null,null,null,10,0.09,9.9999999999999992E-2]
["Température des fumées (°F)",{"$f":"IF('Mise en forme- input'!C11=FALSE,Bilan_2!B14,'Comb_2 (micro)'!U7)","v":392},"°F","Donnée entrée convertie en °F au lieu de °C",null,null,null,null,null,null,null,null,null,null,null,null,null,null,"Pertes par radiation et convection",null,null,null,null,11,0.1,0.10999999999999999]
["Température de l'air de combustion (°F)",{"$f":"ROUND(('Entrée de données'!D35*1.8+32),1)","v":68},"°F","Donnée entrée convertie en °F au lieu de °C",null,null,null,null,null,null,null,null,null,null,null,null,null,null,"Puissance maximale  kW","Puissance maximale millions Btu/h","% de Pertes","à 100% de la charge",null,12,0.11,0.11999999999999998]
["Température de l'eau d'appoint (°C)",{"$f":"IF(OR(AND('Mise en forme- input'!C17=TRUE,'Économiseurs 1 à 4 '!C7=2),'Mise en forme- input'!C6=TRUE,'Mise en forme- input'!C7=TRUE),'Économiseurs 1 à 4 '!B44,'Entrée de données'!C48)","v":0},"°C","Donnée d'entrée",null,"=SI(OU(ET('Mise en forme- input'!C5=VRAI;'Économiseurs 1 à 4 '!B6=2);'Mise en forme- input'!C6=VRAI;'Mise en forme- input'!C7=VRAI);'Économiseurs 1 à 4 '!B35;'Entrée de données'!C48)",null,null,null,null,null,null,null,null,null,null,null,null,null,null,null,null,null,13,0.12,0.12999999999999998]
[null,null,null,null,null,null,null,null,null,null,null,null,null,null,null,null,null,"Inférieure à 5 millions Btu/h","Inférieure à 1465",{"$f":"IF(B8<5,B8, \"\")","v":0},{"$f":"IF($B$8<5,$V$88/($B$10/#REF!),\"\")","v":{"$error":"#REF!"}},{"$f":"IF($B$8<5,$V$89,\"\")","v":0},null,14,0.13,0.13999999999999999]
["CALCUL DE L'EFFICACITÉ DE CHAUFFE : 100%-perte fumée - perte radiation",null,null,null,null,null,null,null,null,null,null,null,null,null,null,null,null,null,{"$f":"T18*$P$5*1000000","v":1465.35},5,{"$f":"V18/($B$10/T18)","v":{"$error":"#DIV/0!"}},2.5999999999999999E-2,null,15,0.14000000000000001,0.15]
["1. Perte par les fumée",{"$f":"IF('Mise en forme- input'!C11=FALSE,Bilan_2!B19,1-'Entrée de données'!D87)","v":0.17243290039051917},null,null,null,null,null,null,null,null,null,null,null,null,null,null,null,null,{"$f":"T19*$P$5*1000000","v":2930.7},10,{"$error":"#DIV/0!"},1.6E-2,null,16,0.15,0.16]
["2. Perte par radiation:",null,null,null,null,null,null,null,null,null,null,null,null,null,null,null,null,null,5861.4,20,{"$error":"#DIV/0!"},1.0500000000000001E-2,null,17,0.16,0.17]
["Pertes par radiation et convection",null,null,"Interpolation des pertes par radiation et convection",null,null,null,"Puissance (millions Btuh)","Pertes à 100%",null,null,null,null,null,null,null,null,null,8792.0999999999985,30,{"$error":"#DIV/0!"},8.3999999999999995E-3,null,18,0.17,0.18000000000000002]
["Pertes calculées pour une chaudière de ",{"$f":"IF(B8<T18,T17,B8)","v":0},"millions Btu/h","Puissance en dessous",null,null,null,{"$f":"IF(B8<5,B8,LOOKUP(B8,T18:T42))","v":0},{"$f":"ROUND(IF(H22<5,V17, VLOOKUP(H24,T18:V42,3,TRUE)),4)","v":0},null,null,null,null,null,null,null,null,null,11722.8,40,{"$error":"#DIV/0!"},7.3000000000000001E-3,null,19,0.18,0.19000000000000003]
[null,{"$f":"I24/(B9/B7)","v":{"$error":"#DIV/0!"}},null,"Puissance au dessus",null,null,null,{"$f":"IF(B8<T18,B8,INDEX(T18:T42,RANK(LOOKUP(B8,T18:T42),T18:T42,1)+1))","v":0},{"$f":"ROUND(IF(H23<5,V17, VLOOKUP(H23,T18:V42,3,TRUE)),4)","v":0},null,null,null,null,null,null,null,null,null,14653.5,50,{"$error":"#DIV/0!"},6.6E-3,null,20,0.19,0.20000000000000004]
[null,null,null,"Valeur pour interpolation",null,null,null,{"$f":"B8","v":0},{"$f":"ROUND(IF(H22=H23,AVERAGE(I22,I23),FORECAST(H24,I22:I23,H22:H23)),4)","v":0},null,null,null,null,null,null,null,null,null,17584.199999999997,60,{"$error":"#DIV/0!"},6.1999999999999998E-3,null,21,0.2,0.21000000000000005]
[null,null,null,null,null,null,null,null,null,null,null,null,null,null,null,null,null,null,20514.899999999998,70,{"$error":"#DIV/0!"},5.8999999999999999E-3,null,22,0.21,0.22000000000000006]
["Efficacité de chauffe",{"$f":"IF('Mise en forme- input'!C11=FALSE,Bilan_2!B26,'Entrée de données'!D87-B23)","v":{"$error":"#DIV/0!"}},"Nouvelle valeur: efficacité données par le particpant - % perte par radiation",null,null,null,null,null,null,null,null,null,null,null,null,null,null,null,23445.599999999999,80,{"$error":"#DIV/0!"},5.5999999999999999E-3,null,23,0.22,0.23000000000000007]
[null,null,null,null,null,null,null,null,null,null,null,null,null,null,null,null,null,null,26376.3,90,{"$error":"#DIV/0!"},5.4000000000000003E-3,null,24,0.23,0.24000000000000007]
["INPUT",null,null,null,null,null,null,null,null,null,null,null,null,null,null,null,null,null,29307,100,{"$error":"#DIV/0!"},5.1999999999999998E-3,null,25,0.24,0.25000000000000006]
["Puissance du brûleur en opération ",{"$f":"B30*1000000*P5","v":{"$error":"#DIV/0!"}},"kW","Convertion de B30 en kw",null,null,null,null,null,null,null,null,null,null,null,null,null,null,35168.399999999994,120,{"$error":"#DIV/0!"},4.7999999999999996E-3,null,26,0.25,0.26000000000000006]
["Puissance du brûleur en opération ",{"$f":"B10/B26","v":{"$error":"#DIV/0!"}},"millions Btu/h","Puissance moyenne production vapeur / efficacité",null,null,null,null,null,null,null,null,null,null,null,null,null,null,41029.799999999996,140,{"$error":"#DIV/0!"},4.4999999999999997E-3,null,27,0.26,0.27000000000000007]
["Volume de gaz naturel alimenté ",{"$f":"ROUND(B29/(J36*1000)*3600,2)","v":{"$error":"#DIV/0!"}},"m3/h","Convertion de la puissance en opération du bruleur de kw en m3 de gaz",null,null,null,null,null,null,null,null,null,null,null,null,null,null,46891.199999999997,160,{"$error":"#DIV/0!"},4.3E-3,null,28,0.27,0.28000000000000008]
["Nombre de moles totales pour le volume de gaz",{"$f":"ROUND(B31/(8.31451*(273.15+'Entrée de données'!D37)/101325),1)","v":{"$error":"#DIV/0!"}},"mol/h","PV=nRT => n=PV/RT",null,null,null,null,null,null,null,null,null,null,null,null,null,null,52752.6,180,{"$error":"#DIV/0!"},4.0000000000000001E-3,null,29,0.28000000000000003,0.29000000000000009]
[null,null,null,null,null,null,null,null,null,null,null,null,null,null,null,null,null,null,58614,200,{"$error":"#DIV/0!"},3.8E-3,null,30,0.28999999999999998,0.3000000000000001]
["Quantité de fumées produites",null,null,null,null,null,null,null,null,null,null,null,null,null,null,null,null,null,87921,300,{"$error":"#DIV/0!"},3.3999999999999998E-3,null,31,0.3,0.31000000000000011]
[null,"masse molaire (g/mol)","mol","masse(lb/h)","masse (kg/h)",null,"Masse d'hydrogène dans une livre de combustible (lb/lb)",null,null,{"$f":"Comb_2!Q50","v":0.23688428965217811},null,null,null,null,null,null,null,null,117228,400,{"$error":"#DIV/0!"},3.0000000000000001E-3,null,32,0.31,0.32000000000000012]
["CO2",{"$f":"Comb_2!C12","v":44.011000000000003},{"$f":"IF('Mise en forme- input'!C11=FALSE,Comb_2!L82*B32,'Comb_2 (micro)'!L82*B32)","v":{"$error":"#DIV/0!"}},{"$f":"ROUND(C36*B36/($P$9*1000),1)","v":{"$error":"#DIV/0!"}},{"$f":"ROUND(C36*B36/1000,1)","v":{"$error":"#DIV/0!"}},null,"1m3 gaz naturel (MJ)",null,null,37.89,null,null,null,null,null,null,null,null,146535,500,{"$error":"#DIV/0!"},2.8E-3,null,33,0.32,0.33000000000000013]
["H2O",{"$f":"Comb_2!C14","v":18.015000000000001},{"$f":"IF('Mise en forme- input'!C11=FALSE,Comb_2!L86*B32,'Comb_2 (micro)'!L86*B32)","v":{"$error":"#DIV/0!"}},{"$f":"ROUND(C37*B37/($P$9*1000),1)","v":{"$error":"#DIV/0!"}},{"$f":"ROUND(C37*B37/1000,1)","v":{"$error":"#DIV/0!"}},null,"1m3 gaz naturel (btu)",null,null,{"$f":"J36*P8","v":35914.691943127968},null,null,null,null,null,null,null,null,293070,1000,{"$error":"#DIV/0!"},2.3E-3,null,34,0.33,0.34000000000000014]
["O2",{"$f":"Comb_2!C10","v":32},{"$f":"IF('Mise en forme- input'!C11=FALSE,Comb_2!L84*B32,'Comb_2 (micro)'!L84*B32)","v":{"$error":"#DIV/0!"}},{"$error":"#DIV/0!"},{"$f":"ROUND(C38*B38/1000,1)","v":{"$error":"#DIV/0!"}},null,null,null,null,null,null,null,null,null,null,null,null,null,586140,2000,{"$error":"#DIV/0!"},1.9499999999999999E-3,null,35,0.34,0.35000000000000014]
["N2",{"$f":"Comb_2!C26","v":28.013000000000002},{"$f":"IF('Mise en forme- input'!C11=FALSE,Comb_2!L81*B32,'Comb_2 (micro)'!L81*B32)","v":{"$error":"#DIV/0!"}},{"$error":"#DIV/0!"},{"$f":"ROUND(C39*B39/1000,1)","v":{"$error":"#DIV/0!"}},null,null,null,null,null,null,null,null,null,null,null,null,null,1172280,4000,{"$error":"#DIV/0!"},1.75E-3,null,36,0.35,0.36000000000000015]
["Total (humide)",null,{"$f":"SUM(C36:C39)","v":{"$error":"#DIV/0!"}},{"$f":"SUM(D36:D39)","v":{"$error":"#DIV/0!"}},{"$f":"SUM(E36:E39)","v":{"$error":"#DIV/0!"}},null,null,null,null,null,null,null,null,null,null,null,null,null,1758419.9999999998,6000,{"$error":"#DIV/0!"},1.6000000000000001E-3,null,37,0.36,0.37000000000000016]
["Total (sec)",null,{"$f":"SUM(C36,C38:C39)","v":{"$error":"#DIV/0!"}},{"$f":"D40-D37","v":{"$error":"#DIV/0!"}},{"$f":"SUM(E36,E38:E39)","v":{"$error":"#DIV/0!"}},null,null,null,null,null,null,null,null,null,null,null,null,null,2930700,10000,{"$error":"#DIV/0!"},1.5E-3,null,38,0.37,0.38000000000000017]
[null,null,null,null,null,null,null,null,null,null,null,null,null,null,null,null,null,null,5861400,20000,{"$error":"#DIV/0!"},1.5E-3,null,39,0.38,0.39000000000000018]
["CONDENSAT",null,null,null,null,null,null,null,null,null,null,null,null,null,null,null,null,null,null,null,null,null,null,40,0.39,0.40000000000000019]
["Enthalpie de l'eau d'appoint (kJ/kg)",{"$f":"ROUND(4.18*(B16),3)","v":0},"kJ/kg","Cp*DT",null,null,null,null,null,null,null,null,null,null,null,null,null,null,null,null,null,null,null,41,0.4,0.4100000000000002]
["Température du condensat (°C)",{"$f":"IF(('Entrée de données'!D49=2),\"0\",('Entrée de données'!D51))","v":100},"°C  ","Donnée d'entrée",null,null,null,null,null,null,null,null,null,null,null,null,null,null,null,null,null,null,null,42,0.41,0.42000000000000021]
["Enthalpie du condensat (kJ/kg)",{"$f":"IF('Entrée de données'!D49=2,\"0\",4.18*(B45))","v":418},"kJ/kg ","Cp*DT",null,null,null,null,null,null,null,null,null,null,null,null,null,null,null,null,null,null,null,43,0.42,0.43000000000000022]
["% de condensat",{"$f":"IF('Entrée de données'!D49=1,'Entrée de données'!D50,0)","v":0},null,"Donnée d'entrée",null,null,null,null,null,null,null,null,null,null,null,null,null,null,null,null,null,null,null,44,0.43,0.44000000000000022]
["T°de l'eau alimentée à la chaudière (°C)",{"$f":"IF(AND('Mise en forme- input'!C17=TRUE,'Économiseurs 1 à 4 '!C7=1),'Économiseurs 1 à 4 '!C52,IF('Entrée de données'!D49=1,(B47*B45+(1-B47)*B16),B16))","v":0},"°C ","si retour de condensat: [% condensat * T° du condensat] + [(1-% condensat) * T°de l'eau d'appoint]. Sinon, c'est égale à la T° d'eau d'appoint",null,null,null,null,null,null,null,null,null,null,null,null,null,null,null,null,null,null,null,45,0.44,0.45000000000000023]
[null,null,null,null,null,null,null,null,null,null,null,null,null,null,null,null,null,null,null,null,null,null,null,46,0.45,0.46000000000000024]
[null,null,null,"Interpolation des enthalpies",null,null,null,null,"Pression (kPa)","Liquide saturé (kJ/kg)","Enthalpie de vaporisation  (kJ/kg)","Vapeur saturée (kJ/kg)",null,null,null,null,null,null,null,null,null,null,null,47,0.46,0.47000000000000025]
[null,null,null,"Pression en dessous de la valeur entrée par l'utilisateur",null,null,null,null,{"$f":"LOOKUP(B56,'Données vapeur'!A5:A60)","v":-1.325},{"$f":"VLOOKUP(I51,'Données vapeur'!A5:E60,3,FALSE)","v":417.46},{"$f":"VLOOKUP(I51,'Données vapeur'!A5:E60,4,FALSE)","v":2258},{"$f":"VLOOKUP(I51,'Données vapeur'!A5:E60,5,FALSE)","v":2675.46},null,null,null,null,null,null,null,null,null,null,null,48,0.47,0.48000000000000026]
[null,null,null,"Pression au dessus de la valeur entrée par l'utilisateur",null,null,null,null,{"$f":"IF((I51-B56)=0,B56,INDEX('Données vapeur'!A5:A60,RANK(LOOKUP('Bilan_2 EE'!B56,'Données vapeur'!A5:A60),'Données vapeur'!A5:A60,1)+1))","v":23.675000000000001},{"$f":"VLOOKUP(I52,'Données vapeur'!A5:E60,3,FALSE)","v":444.32},{"$f":"VLOOKUP(I52,'Données vapeur'!A5:E60,4,FALSE)","v":2241},{"$f":"VLOOKUP(I52,'Données vapeur'!A5:E60,5,FALSE)","v":2685.32},null,null,null,null,null,null,null,null,null,null,null,49,0.48,0.49000000000000027]
[null,null,null,"Valeur pour interpolation",null,null,null,null,{"$f":"B56","v":0},{"$f":"IF(I51=I52,J51,FORECAST(I53,J51:J52,I51:I52))","v":418.88357999999999},{"$f":"IF(I51=I52,K51,FORECAST(I53,K51:K52,I51:I52))","v":2257.0990000000002},{"$f":"IF(I51=I52,L51,FORECAST(I53,L51:L52,I51:I52))","v":2675.9825800000003},null,null,null,null,null,null,null,null,null,null,null,50,0.49,0.50000000000000022]
["ENTHALPIE",null,null,null,null,null,null,null,null,null,null,null,null,null,null,null,null,null,null,null,null,null,null,51,0.5,0.51000000000000023]
["Enthalpie de l'eau alimentée à la chaudière (kJ/kg)",{"$f":"ROUND(IF('Entrée de données'!D49=1,(B47*B46+(1-B47)*B44),B44),3)","v":0},"kJ/kg"," si retour de condensat:  [% condensat * DH du condensat] + [(1-% condensat) * DH de l'eau d'appoint]. \nSinon, c'est égale à la DH d'eau d'appoint",null,null,null,null,null,null,null,null,null,null,null,null,null,null,null,null,null,null,null,52,0.51,0.52000000000000024]
["Pression de la vapeur produite (kPa)",{"$f":"'Entrée de données'!C43","v":0},"kPa","Donnée d'entrée",null,null,null,null,"Interpolation de l'enthalpie surchauffée",null,null,null,"Pression (kPa) Données saturées","Vapeur surchauffée (kJ/kg)",null,null,null,null,null,null,null,null,null,53,0.52,0.53000000000000025]
["Degré de surchauffe",{"$f":"IF('Entrée de données'!D44=\"Non nécessaire\",0,'Entrée de données'!D45)","v":0},"°C",null,null,null,null,null,"Pression en dessous de la valeur entrée par l'utilisateur",null,null,null,{"$f":"LOOKUP(B56,'Données vapeur'!$H$6:$H$31)","v":-1.325},{"$f":"VLOOKUP(M57,'Données vapeur'!$H$6:$M$33,3,FALSE)","v":2679.1811850700001}]
["Enthalpie de la vapeur saturée/surchauffée (kJ/kg)",{"$f":"IF(B57=0,L53,N59)","v":2675.9825800000003},"kJ/kg","Recherche de h en fonction de la pression",null,null,null,null,"Pression au dessus de la valeur entrée par l'utilisateur",null,null,null,{"$f":"IF((M57-B56)=0,B56,INDEX('Données vapeur'!$H$6:$H$31,RANK(LOOKUP(B56,'Données vapeur'!$H$6:$H$31),'Données vapeur'!$H$6:$H$31,1)+1))","v":98.674999999999997},{"$f":"VLOOKUP(M58,'Données vapeur'!$H$6:$M$33,3,FALSE)","v":2713.0964198699999},null,null,null,null,null,null,null,null,null,{"$f":"X56+1","v":54},0.53,{"$f":"Z56+0.01","v":0.54000000000000026}]
["Enthalpie de l'eau saturée (purge) (kJ/kg)",{"$f":"J53","v":418.88357999999999},"kJ/kg",null,null,null,null,null,"Valeur pour interpolation",null,null,null,{"$f":"B56","v":0},{"$f":"IF(M57=M58,N57,FORECAST(M59,N57:N58,M57:M58))","v":2679.6305619311001},null,null,null,null,null,null,null,null,null,55,0.54,0.55000000000000027]
["Enthalpie de vaporisation (kJ/kg)",{"$f":"K53","v":2257.0990000000002},"kJ/kg",null,null,null,null,null,null,null,null,null,null,null,null,null,null,null,null,null,null,null,null,56,0.55000000000000004,0.56000000000000028]
["Purge - % de l'eau alimentée à la chaudière",{"$f":"IF('Mise en forme- input'!C24=TRUE,'Entrée de données'!D100,('Entrée de données'!D52-1)/100)","v":0},null,"Donnée d'entrée",null,null,null,null,null,null,null,null,null,null,null,null,null,null,null,null,null,null,null,57,0.56000000000000005,0.57000000000000028]
[null,null,null,null,null,null,null,null,null,null,null,null,null,null,null,null,null,null,null,null,null,null,null,58,0.56999999999999995,0.58000000000000029]
[null,null,null,null,null,null,null,null,null,null,null,null,null,null,null,null,null,null,null,null,null,null,null,59,0.57999999999999996,0.5900000000000003]
[null,null,null,null,null,null,null,null,null,null,null,null,null,null,null,null,null,null,null,null,null,null,null,60,0.59,0.60000000000000031]
["Production de vapeur",null,null,null,null,null,null,null,null,null,null,null,null,null,null,null,null,null,null,null,null,null,null,61,0.6,0.61000000000000032]
["Eau alimentée à la chaudière",null,null,null,null,null,null,null,null,null,null,null,null,null,null,null,null,null,null,null,null,null,null,62,0.61,0.62000000000000033]
["Quantité d'eau alimentée (lb/h)",{"$f":"ROUND(B68/P9,2)","v":0},"Convertion de la ligne du dessous de kg en lb",null,null,null,null,null,null,null,null,null,null,null,null,null,null,null,null,null,null,null,null,63,0.62,0.63000000000000034]
["Quantité d'eau alimentée (kg/h)",{"$f":"B87/(1-B61)","v":0},null,null,null,null,null,null,null,null,null,null,null,null,null,null,null,null,null,null,null,null,null,64,0.63,0.64000000000000035]
["Eau d'appoint (lb/h)",{"$f":"B67*(1-B47)","v":0}," = eau_alimenté*(1-%condensat)",null,null,null,null,null,null,null,null,null,null,null,null,null,null,null,null,null,null,null,null,65,0.64,0.65000000000000036]
["Eau d'appoint (kg/h)",{"$f":"B68*(1-B47)","v":0},"Convertion",null,null,null,null,null,null,null,null,null,null,null,null,null,null,null,null,null,null,null,null,66,0.65,{"$f":"Z69+0.01","v":0.66000000000000036}]
["Retour de condensat (lb/h)",{"$f":"B67*B47","v":0}," = eau_alimenté * % condensat",null,null,null,null,null,null,null,null,null,null,null,null,null,null,null,null,null,null,null,null,67,0.66,0.67000000000000037]
["Retour de condensat (kg/h)",{"$f":"B68*B47","v":0},"Convertion",null,null,null,null,null,null,null,null,null,null,null,null,null,null,null,null,null,null,null,null,{"$f":"X71+1","v":68},0.67,0.68000000000000038]
["Énergie dans l'eau alimentée (Btu/h)",{"$f":"ROUND(B74*P4,0)","v":0},"Convertion de la ligne du dessous de kW en Btu/h",null,null,null,null,null,null,null,null,null,null,null,null,null,null,null,null,null,null,null,null,{"$f":"X72+1","v":69},0.68,0.69000000000000039]
["Énergie dans l'eau alimentée (kW)",{"$f":"ROUND(B68*B55/3600,0)","v":0},"masse d'eau alimenté *  entalpie de l'eau alimenté ",null,null,null,null,null,null,null,null,null,null,null,null,null,null,null,null,null,null,null,null,70,0.69,0.7000000000000004]
["PURGE",null,null,null,null,null,null,null,null,null,null,null,null,null,null,null,null,null,null,null,null,null,null,71,0.7,0.71000000000000041]
["Quantité d'eau prélevée (lb/h)",{"$f":"ROUND(B67*B61,2)","v":0},"eau alimenté *%purge",null,null,null,null,null,null,null,null,null,null,null,null,null,null,null,null,null,null,null,null,72,0.71,0.72000000000000042]
["Quantité d'eau (kg/h)",{"$f":"ROUND(B76*P9,2)","v":0},"Convertion",null,null,null,null,null,null,null,null,null,null,null,null,null,null,null,null,null,null,null,null,73,0.72,0.73000000000000043]
["Énergie perdue dans la purge (Btu/h)",{"$f":"ROUND(B79*P4,2)","v":0},"Convertion de la ligne du dessous de kW en Btu/h",null,null,null,null,null,null,null,null,null,null,null,null,null,null,null,null,null,null,null,null,74,0.73,0.74000000000000044]
["Énergie perdue dans la purge (kW)",{"$f":"ROUND(B77*(B59)/3600,2)","v":0},"m_eau_purge * entalpie de l'eau de la purge (soit l'enthalpie de l'eau saturée)",null,null,null,null,null,null,null,null,null,null,null,null,null,null,null,null,null,null,null,null,75,0.74,0.75000000000000044]
["Potentiel de récupération (Btu/h)",{"$f":"B78*0.9","v":0},"énergie perdue dans la purge * 90% de récupé",null,null,null,null,"90% de récupération",null,null,null,null,null,null,null,null,null,null,null,null,null,null,null,76,0.75,0.76000000000000045]
["Potentiel de récupération (KW)",{"$f":"B79*0.9","v":0},"Convertion",null,null,null,null,null,null,null,null,null,null,null,null,null,null,null,null,null,null,null,null,77,0.76,0.77000000000000046]
["% de l'énergie alimentée à la chaudière",{"$f":"ROUND(B78/(B30*1000000),4)","v":{"$error":"#DIV/0!"}},"Énergie perdue par la purge / puissance d'opération bruleur",null,null,null,null,"Équation 3.21.1 - Spirax Sarco",null,null,null,null,null,null,null,null,null,null,null,null,null,null,null,78,0.77,0.78000000000000047]
["Vapeur utile",null,null,null,null,null,null,null,null,null,null,null,null,null,null,null,null,null,null,null,null,null,null,79,0.78,0.79000000000000048]
["Quantité produite - incluant évent dégazeur(lb/h)",{"$f":"ROUND(B67-B76,2)","v":0},"quantité d'eau alimenté - quantité d'eau prélevé (soit le % de purge)",null,null,null,null,null,null,null,null,null,null,null,null,null,null,null,null,null,null,null,null,80,0.79,0.80000000000000049]
["Quantité produite - incluant évent dégazeur(kg/h)",{"$f":"ROUND(B68-B77,2)","v":0},"Convertion",null,null,null,null,null,null,null,null,null,null,null,null,null,null,null,null,null,null,null,null,81,0.8,0.8100000000000005]
["Quantité disponible pour les utilisateurs (lb/h)",{"$f":"Bilan_2!B86","v":0},"Les quantités perdues à l'évent du désaérateur sont soustraites",null,null,null,"Valeur qui restera fixe pour tout le calculateur",null,null,null,null,null,null,null,null,null,null,null,null,null,null,null,null,82,0.81,0.82000000000000051]
["Quantité disponible pour les utilisateurs (kg/h)",{"$f":"Bilan_2!B87","v":0},"Convertion",null,null,null,"Valeur qui restera fixe pour tout le calculateur",null,null,null,null,null,null,null,null,null,null,null,null,null,null,null,null,83,0.82,0.83000000000000052]
["Énergie dans la vapeur utile (Btu/h)",{"$f":"Bilan_2!B88","v":0},"Convertion de la ligne du dessous de kW en Btu/h",null,null,null,"Valeur qui restera fixe pour tout le calculateur",null,null,null,null,null,null,null,null,null,null,null,null,null,null,null,null,84,0.83,0.84000000000000052]
["Énergie dans la vapeur utile (kW)",{"$f":"Bilan_2!B89","v":0},"valeur fixe qui doit tjs resté idem peut importe la mesure",null,null,null,"Valeur qui restera fixe pour tout le calculateur",null,null,null,null,null,null,null,null,null,null,null,null,null,null,null,null,85,0.84,0.85000000000000053]
[]
["DÉGAZEUR",null,null,null,null,null,null,null,null,null,null,null,null,null,null,null,null,null,null,null,null,null,null,{"$f":"X89+1","v":86},0.85,{"$f":"Z89+0.01","v":0.86000000000000054}]
["Pression d'opération du dégazeur (kPa)",{"$f":"('Entrée de données'!C56+14.73)*101.235/14.696","v":101.46921271094176},null,null,null,null,null,null,null,null,null,null,null,null,null,null,null,null,null,null,null,null,null,87,0.86,0.87000000000000055]
["Enthalpie de l'eau a la pression du dégazeur (kJ/kg)",{"$f":"T96","v":506.49053150517148},null,null,null,null,null,null,null,null,null,null,null,"Interpolation des enthalpies",null,null,null,null,"Pression (kPa)","Liquide saturé (kJ/kg)","Enthalpie de vaporisation  (kJ/kg)","Vapeur saturée (kJ/kg)",null,88,0.87,0.88000000000000056]
["Besoins en vapeur pour le dégazeur  (lb/h)",{"$f":"ROUND(B95*P10,2)","v":0},"Convertion de la ligne du dessous de kg en lb",null,null,null,"Inclus les pertes par l'évent",null,null,null,null,null,null,"Pression en dessous de la valeur entrée par l'utilisateur",null,null,null,null,{"$f":"LOOKUP(B92,'Données vapeur'!A5:A60)","v":98.674999999999997},{"$f":"VLOOKUP(S94,'Données vapeur'!$A$5:$E$60,3,FALSE)","v":504.7},{"$f":"VLOOKUP(S94,'Données vapeur'!$A$5:$E$60,4,FALSE)","v":2201.9},{"$f":"VLOOKUP(S94,'Données vapeur'!$A$5:$E$60,5,FALSE)","v":2706.6},null,89,0.88,0.89000000000000057]
["Besoins en vapeur pour le dégazeur  (kg/h)",{"$f":"ROUND(IF('Entrée de données'!C55=2,0,B68*((B93-B55)/(B58-B93))),2)","v":0},null,null,null,null,"Inclus les pertes par l'évent",null,null,null,null,null,null,"Pression au dessus de la valeur entrée par l'utilisateur",null,null,null,null,{"$f":"IF((S94-B92)=0,B92,INDEX('Données vapeur'!A5:A60,RANK(LOOKUP('Bilan_2 EE'!B92,'Données vapeur'!A5:A60),'Données vapeur'!A5:A60,1)+1))","v":123.675},{"$f":"VLOOKUP(S95,'Données vapeur'!$A$5:$E$60,3,FALSE)","v":520.72},{"$f":"VLOOKUP(S95,'Données vapeur'!$A$5:$E$60,4,FALSE)","v":2191.3000000000002},{"$f":"VLOOKUP(S95,'Données vapeur'!$A$5:$E$60,5,FALSE)","v":2712.0200000000004},null,90,0.89,0.90000000000000058]
["% Pertes par l'évent (% de la vapeur alimentée)",9.5000000000000001E-2,"Moyenne des données de l'USDOE",null,null,null,null,null,null,null,null,null,null,"Valeur pour interpolation",null,null,null,null,{"$f":"B92","v":101.46921271094176},{"$f":"IF(S94=S95,T94,FORECAST(S96,T94:T95,S94:S95))","v":506.49053150517148},{"$f":"IF(S94=S95,U94,FORECAST(S96,U94:U95,S94:S95))","v":2200.7152538105606},{"$f":"IF(S94=S95,V94,FORECAST(S96,V94:V95,S94:S95))","v":2707.2057853157321},null,91,0.9,0.91000000000000059]
[null,null,null,null,null,null,null,null,null,null,null,null,null,null,null,null,null,null,null,null,null,null,null,92,0.91,0.9200000000000006]
["Vapeur totale au dégazeur (lb/h)",{"$f":"ROUND(B99*P10,2)","v":0},"Convertion",null,null,null,null,null,null,null,null,null,null,null,null,null,null,null,null,null,null,null,null,93,0.92,0.9300000000000006]
["Vapeur totale au dégazeur (kg/h)",{"$f":"B95/(1-B96)","v":0},"besoin de vap au degazeur / (1-% perte par event)",null,null,null,"quantité de vapeur qui reste",null,null,null,null,null,null,null,null,null,null,null,null,null,null,null,null,94,0.93,0.94000000000000061]
["Pertes de vapeur par l'évent (lb/h)",{"$f":"B101*P10","v":0},"Convertion",null,null,null,null,null,null,null,null,null,null,null,null,null,null,null,null,null,null,null,null,95,0.94,0.95000000000000062]
["Pertes de vapeur par l'évent (kg/h)",{"$f":"ROUND(B99-B95,2)","v":0},"vapeur total au dégazeur - besoin en vap pour le dégazeur",null,null,null,"quantité de vapeur qui s'échappe de dégazeur",null,null,null,null,null,null,null,null,null,null,null,null,null,null,null,null,96,0.95,0.96000000000000063]
["Pertes de vapeur par l'évent (%)",{"$f":"(B101*B58/3600)/B29","v":{"$error":"#DIV/0!"}},"Énergie perdue par event / puissance du bruleur en op  = masse de vapeur perdue par l'évent * hv,sat / puissance du bruleur en op",null,null,null,null,null,null,null,null,null,null,null,null,null,null,null,null,null,null,null,null,97,0.96,0.97000000000000064]
["Besoins en vapeur du dégazeur en % de la vapeur produite",{"$f":"B95/B85","v":{"$error":"#DIV/0!"}},"Besoin en vap / quantité de vapeur utile produite",null,null,null,null,null,null,null,null,null,null,null,null,null,null,null,null,null,null,null,null,98,0.97,0.98000000000000065]
[null,null,null,null,null,null,null,null,null,null,null,null,null,null,null,null,null,null,null,null,null,null,null,99,0.98,0.99000000000000066]
["Apport total en vapeur de la chaudière 2 (lb/h)",{"$f":"ROUND(B106*P10,2)","v":0},null,null,null,null,null,null,null,null,null,null,null,null,null,null,null,null,null,null,null,null,null,100,0.99,1.0000000000000007]
["Apport total en vapeur de la chaudière 2 (kg/h)",{"$f":"IF('Entrée de données'!C55=2,0,IF('Entrée de données'!F21=2,'Bilan_1 EE'!O113,IF('Entrée de données'!F21=3,'Bilan_1 EE'!O114,IF('Entrée de données'!F21=4,'Bilan_1 EE'!O115,0))))","v":0}]
["Perte de vapeur par l'évent pour la chaudière 2 (lb/h)",{"$f":"B105*B96","v":0},null,"9,5% de pertes"]
["Perte de vapeur par l'évent pour la chaudière 2 (kg/h)",{"$f":"B106*B96","v":0},null,"9,5% de pertes"]
["Pertes de vapeur par l'évent pour la chaudière 2 (%)",{"$f":"(B108*B58/3600)/B29","v":{"$error":"#DIV/0!"}},"Énergie perdue par event / puissance du bruleur en op  = masse de vapeur perdue par l'évent * hv,sat / puissance du bruleur en op"]
["Besoins en vapeur du dégazeur en % de la vapeur produite pour la chaudière 2",{"$f":"B106/B85","v":{"$error":"#DIV/0!"}},"Besoin en vap / quantité de vapeur utile produite"]
["Énergie contenue dans l'évent du dégazeur pour la chaudière 2(kW)",{"$f":"2326*B108/3600","v":0}]
["Vapeur disponible pour les utilisateurs"]
["Quantité de vapeur disponible (lb/h)",{"$f":"B86","v":0}]
["Quantité de vapeur disponible (kg/h)",{"$f":"B87","v":0},null,"exclus les pertes par l'évent"]
[]
[]
[]
["Efficacité de génération de vapeur utile",{"$f":"ROUND((B114/3600)*(B58-B55)/B29,5)","v":{"$error":"#DIV/0!"}}]
["Consommation de gaz naturel par kg/h de vapeur, en m3/(kg/h)",{"$f":"ROUND(B31/B114,5)","v":{"$error":"#DIV/0!"}},"m3 de gaz alimenté / masse de vapeur utile produite"]
[]
[]
[]
[null,null,null,"Efficacité = énergie dispo dans vapeur / puissance du bruleur en oper"]
[null,null,null,"Efficacité = masse vapeur dispo * DH / puissance du bruleur en oper"]
[null,null,null,"Efficacité = masse vapeur dispo * (hV,sat - hL) / puissance du bruleur en oper"]

{"sheet":"Comb_3","index":25,"n_rows":215,"n_cols":23,"rows_kept":215,"cut":false,"hidden":true,"merged":[[4,9,4,11],[4,12,4,20],[5,9,5,11],[5,12,5,14],[5,15,5,17],[5,18,5,20],[6,3,6,4],[6,5,6,8],[7,5,7,8],[29,9,29,11],[47,0,47,9],[47,11,47,18],[192,7,192,9],[198,7,198,9],[204,7,204,9],[210,7,210,9],[49,3,49,8],[73,0,73,6],[73,8,73,13],[74,3,74,6],[74,11,74,13],[75,12,75,13]]}
[]
[null,null,null,null,"EFFICACITE","%",{"$f":"1-(G4/(G5+ABS(L28)))","v":0.82756709960948083}]
[]
[null,null,null,null,"Hout","J / mol gaz",{"$f":"U28","v":152567.31373295138}]
["BILAN THERMIQUE",null,null,null,"Hin","J / mol gaz",{"$f":"O28+R28","v":-822.93324283140009},null,null,"PROPRIÉTÉ DU GAZ",null,null,"CALCUL ÉNERGIE"]
[null,null,null,null,null,null,null,null,null,"GAZ ****",null,null,"GAZ",null,null,"AIR",null,null,"FUMEE"]
[null,null,"Masse","* Enthalpie (J / mol)",null,"* Chaleur Spécifique (J / mol oC)",null,null,null,"M","Densité","PCS ou","T (oC) =",{"$f":"'Entrée de données'!E37","v":20},null,"T (oC) =",{"$f":"'Entrée de données'!E35","v":20},null,"T (oC) =",{"$f":"'Entrée de données'!E34","v":200}]
[null,null,"Molaire","Formation","Combustion","Cp = a + bTx102 + cT2105 + dT3*109",null,null,null,"Mélange","Mélange","HHV","Débit","Cpmoy","H","Débit","Cpmoy","H","Débit","Cpmoy","H"]
["État gazeux sauf si indication",null,"g / mol",null,null,"a","b","c","d","g / mol","kg / m3","J / mol gaz","mol / mol gaz","J / mol oC","J / mol gaz","mol / mol gaz","J / mol oC","J / mol gaz","mol / mol gaz","J / mol oC","J / mol gaz"]
["Oxygène","O2",32,0,0,29.1,1.1579999999999999,-0.60760000000000003,1.3109999999999999,{"$f":"M10*C10","v":0},{"$f":"(101325*(C10/1000))/(8.3144*288.7056)*M10","v":0},{"$f":"M10*E10","v":0},{"$f":"C55/100","v":0},{"$f":"AVERAGE($F10+$G10/100*N$7+$H10/100000*N$7^2+$I10/1000000000*N$7^3,$F10+$G10/100*$B$29+$H10/100000*$B$29^2+$I10/1000000000*$B$29^3)","v":29.357451536187501},{"$f":"M10*N10*(N$7-$B$29)","v":0},{"$f":"CD92","v":0},{"$f":"AVERAGE($F10+$G10/100*Q$7+$H10/100000*Q$7^2+$I10/1000000000*Q$7^3,$F10+$G10/100*$B$29+$H10/100000*$B$29^2+$I10/1000000000*$B$29^3)","v":29.357451536187501},{"$f":"P10*Q10*(Q$7-$B$29)","v":0},{"$f":"Comb_3!L84","v":0.5967840000000002},{"$f":"AVERAGE($F10+$G10/100*T$7+$H10/100000*T$7^2+$I10/1000000000*T$7^3,$F10+$G10/100*$B$29+$H10/100000*$B$29^2+$I10/1000000000*$B$29^3)","v":30.2845854921875},{"$f":"S10*T10*(T$7-$B$29)","v":3162.8373119646853}]
["Monoxide de carbone","CO",28.010999999999999,-110520,-282990,28.95,0.41099999999999998,0.3548,-2.2200000000000002,0,0,0,{"$f":"C56/100","v":0},{"$f":"AVERAGE($F11+$G11/100*N$7+$H11/100000*N$7^2+$I11/1000000000*N$7^3,$F11+$G11/100*$B$29+$H11/100000*$B$29^2+$I11/1000000000*$B$29^3)","v":29.044267126249999},{"$f":"M11*N11*(N$7-$B$29)","v":0},null,{"$f":"AVERAGE($F11+$G11/100*Q$7+$H11/100000*Q$7^2+$I11/1000000000*Q$7^3,$F11+$G11/100*$B$29+$H11/100000*$B$29^2+$I11/1000000000*$B$29^3)","v":29.044267126249999},{"$f":"P11*Q11*(Q$7-$B$29)","v":0},null,29.475546406249997,{"$f":"S11*T11*(T$7-$B$29)","v":0}]
["Dioxide de carbone","CO2",44.011000000000003,-393500,0,36.11,4.2329999999999997,-2.887,7.4640000000000004,0.14963740000000003,6.3164148191036497E-3,0,{"$f":"C57/100","v":3.4000000000000002E-3},37.0477172935,{"$f":"M12*N12*(N$7-$B$29)","v":-0.62981119398950003},null,37.0477172935,{"$f":"P12*Q12*(Q$7-$B$29)","v":0},{"$f":"Comb_3!L82","v":1.00386},40.315617437499995,{"$f":"S12*T12*(T$7-$B$29)","v":7082.4662511415299}]
["Hydrogène","H2",2.016,0,-285840,28.84,7.6499999999999997E-3,0.32879999999999998,-0.86980000000000002,0,0,0,{"$f":"C58/100","v":0},28.843396075487497,{"$f":"M13*N13*(N$7-$B$29)","v":0},null,28.843396075487497,{"$f":"P13*Q13*(Q$7-$B$29)","v":0},null,28.911907754687498,{"$f":"S13*T13*(T$7-$B$29)","v":0}]
["Eau (v)","H20 (v)",18.015000000000001,-241830,0,33.46,0.68799999999999994,0.76039999999999996,-3.593,0,0,0,{"$f":"C59/100","v":0},33.618654607687503,{"$f":"M14*(V14+N14*(N$7-$B$29))","v":0},{"$f":"D93","v":1.0939348676877604E-2},33.618654607687503,{"$f":"P14*(V14+Q14*(Q$7-$B$29))","v":442.91132888313081},{"$f":"Comb_3!L86-S15","v":1.9885793486768779},34.3740561796875,{"$f":"((S14-G93)*$V$14)+(S14*T14*(T$7-$B$29))","v":92365.151033607443},40656,"Enthalpie vaporisation (J/mol)"]
["Eau (l)","H2O (l)",18.015000000000001,-285840,0,75.400000000000006,0,0,0,0,0,0,0,75.400000000000006,{"$f":"M15*N15*(N$7-$B$29)","v":0},null,75.400000000000006,{"$f":"P15*Q15*(Q$7-$B$29)","v":0},{"$f":"Comb_3!L96","v":0},75.400000000000006,{"$f":"S15*T15*(T$7-$B$29)","v":0}]
["Sulfure d'hydrogène","H2S",34.076000000000001,-19960,-562590,33.51,1.5469999999999999,0.30120000000000002,-3.2919999999999998,0,0,0,{"$f":"C60/100","v":0},33.859579763249997,0,null,33.859579763249997,0,null,35.29836253125,0]
["Méthane","CH4",16.042999999999999,-74850,-890360,34.31,5.4690000000000003,0.36609999999999998,-11,15.32539661,0.64690753953252877,-850534.19720000005,0.95527000000000006,35.542271325000002,-169.76232764316379,null,35.542271325000002,0,null,40.492903124999998,0]
["Éthane","C2H6",30.07,-84670,-1559900,49.37,13.92,-5.8159999999999998,7.28,0.62064480000000011,2.6198330177613489E-2,-32196.336000000003,2.0640000000000002E-2,52.472278994999996,-5.4151391922840002,null,52.472278994999996,0,null,63.877801874999989,0]
["Propane","C3H8",44.097000000000001,-103800,-2220000,68.031999999999996,22.59,-13.11,31.71,5.1593490000000006E-2,2.1778371236420568E-3,-2597.4,1.17E-3,73.047935824375003,-0.42733042457259374,null,73.047935824375003,0,null,90.909868984374995,0]
["Butane","C4H10",58.124000000000002,-134500,-2868800,89.46,30.13,-18.91,49.87,0,0,0,0,96.142925339374983,0,null,96.142925339374983,0,null,119.71502585937499,0]
["** i-Butane","C4H10",58.124000000000002,{"$f":"D20","v":-134500},{"$f":"E20","v":-2868800},89.46,30.13,-18.91,49.87,2.9062000000000003E-3,1.2267497796192013E-4,-143.44,5.0000000000000002E-5,96.142925339374983,-2.4035731334843748E-2,null,96.142925339374983,0,null,119.71502585937499,0]
["n-Butane","C4H10",58.124000000000002,-124700,-2878500,92.3,27.88,-15.47,34.979999999999997,2.9062000000000003E-3,1.2267497796192013E-4,-143.92500000000001,5.0000000000000002E-5,98.494129451249989,-2.4623532362812499E-2,null,98.494129451249989,0,null,120.66284953125,0]
["Pentane","C5H12",72.150000000000006,-152000,-35292000,114.8,34.090000000000003,-18.989999999999998,42.26,0,0,0,{"$f":"CC67/100","v":0},122.37342544625,0,null,122.37342544625,0,null,149.46327640625,0]
["Octane","C8H18",114.23,-208400,-5512200,-5.8307000000000002,4.4541000000000004,-0.42080000000000001,1.2629999999999999,0,0,0,{"$f":"C68/100","v":0},-4.8306691808125004,0,null,-4.8306691808125004,0,null,-0.90025063281249973,0]
["*** iso-Octane","Ch8H18i",114.23,{"$f":"D24","v":-208400},{"$f":"E24","v":-5512200},-5.8307000000000002,4.4541000000000004,-0.42080000000000001,1.2629999999999999,0,0,0,{"$f":"C69/100","v":0},-4.8306691808125004,0,null,-4.8306691808125004,0,null,-0.90025063281249973,0]
["Azote","N2",28.013000000000002,0,0,29,0.21990000000000001,0.57230000000000003,-2.871,0.54401246000000003,2.2963566355209533E-2,0,{"$f":"C70/100","v":1.942E-2},29.052376623812499,{"$f":"M26*N26*(N$7-$B$29)","v":-2.8209857701721934},{"$f":"D91","v":7.4812490027815137},29.052376623812499,-1086.7403182266512,{"$f":"Comb_3!L81","v":9.7256237036159696},29.352129507812499,{"$f":"S26*T26*(T$7-$B$29)","v":49956.859136237726}]
["Hélium","He",4.0020600000000002,0,0,20.8,0,0,0,0,0,0,{"$f":"CC71/100","v":0},20.8,0,null,20.8,0,null,20.8,0]
[null,null,null,null,null,null,null,null,"SOMME",{"$f":"SUM(J10:J27)","v":16.697097160000002},{"$f":"SUM(K10:K27)","v":0.70480903796402139},{"$f":"SUM(L10:L27)","v":-885615.29820000008},{"$f":"SUM(M10:M27)","v":1},null,{"$f":"SUM(O10:O27)","v":-179.10425348787973},{"$f":"SUM(P10:P27)","v":7.4921883514583909},null,{"$f":"SUM(R10:R27)","v":-643.82898934352033},{"$f":"SUM(S10:S27)","v":13.314847052292848},null,{"$f":"SUM(U10:U27)","v":152567.31373295138}]
["* Référence. Patm, T =",25,"oC"]
["** Hyp. Même propriétés que Butane",null,null,null,null,null,null,null,null,"Pouvoir Calorifique Supérieur"]
["*** Hyp. Même que Octane",null,null,null,null,null,null,null,null,null,{"$f":"ABS(L28/1000)","v":885.6152982000001},"kJ / mol"]
["**** À Patm et T = 15.6 oC (14.7 psi et 60 F)",null,null,null,null,null,null,null,null,null,{"$f":"K31/(J28/1000)","v":53040.075751706296},"kJ / kg"]
[null,null,null,null,null,null,null,null,null,null,{"$f":"(K32/1000)*K28","v":37.38312476409893},"MJ / m3"]
["Référence"]
["Elementary Principles of Chemical Processes",null,null,null,null,null,null,null,null,null,{"$f":"(K33*1000)/1.055*0.02832","v":1003.4977187860492},"BTU / ft3"]
["Wiley Series in Chemical Engineering, Second Edition",null,null,null,null,null,null,null,null,null,{"$f":"(K32/1.055)*0.4536","v":22804.71882556775},"BTU / lbm"]
["R M Felder et R W Rousseau",null,null,null,null,null,null,null,null,null,{"$f":"K35/7.4814","v":134.13234405138732},"BTU / gal"]
[]
[]
[]
[]
[null,null,null,null,null,"Constitution de l'air sec"]
[null,null,null,null,"Azote",0.78995048751598307]
[null,null,null,null,"Oxygène",{"$f":"1-F43","v":0.21004951248401693}]
["BILAN MASSIQUE",null,null,null,"Autres",0]
[]
[]
["CALCUL DE LA COMBUSTION STOÉCHIOMÉTRIQUE",null,null,null,null,null,null,null,null,null,null,"Masse H2 par livre de combustible"]
[]
[null,null,"COMPOSITION","GAZ DE COMBUSTION STOÉCHIOMÉTRIQUE",null,null,null,null,null,null,null,null,"Masse d'hydrogène dans une livre de combustible (lb/lb)",null,null,null,{"$f":"(4*N53+6*N55+8*N56+10*N57+10*N58)/(N53*O53+N54*O54+N55*O55+N56*O56+N57*O57+N58*O58+N59*O59)","v":0.23688428965217811}]
[null,null,"(mol / 100 mol gaz)","CO2","H2O","SO2","He","N2","TOTAL","O2 requis"]
["GAZ (ÉTAT GAZEUX)",null,null,null,null,null,null,null,null,null,null,null,"Compo","% mol","masse molaire"]
[null,"TOTAL",{"$f":"SUM(C55:C71)","v":100},{"$f":"SUM(D55:D71)","v":1.00386},1.9776400000000003,0,0,1.942E-2,3.0009200000000003,1.9892799999999999,null,null,"CH4",{"$f":"C61","v":95.527000000000001},{"$f":"C17","v":16.042999999999999}]
[null,null,null,null,null,null,null,null,null,null,null,null,"CO2",{"$f":"C57","v":0.34},{"$f":"C12","v":44.011000000000003}]
["Oxygène","O2",0,null,null,null,null,null,{"$f":"SUM(D55:H55)","v":0},{"$f":"-C55/100","v":0},null,null,"C2H6",{"$f":"C62","v":2.0640000000000001},{"$f":"C18","v":30.07}]
["Monoxide de carbone","CO",0,{"$f":"C56/100","v":0},null,null,null,null,0,{"$f":"D56+E56/2+F56","v":0},null,null,"C3H8",{"$f":"C63","v":0.11700000000000001},{"$f":"C19","v":44.097000000000001}]
["Dioxide de carbone","CO2",0.34,{"$f":"C57/100","v":3.4000000000000002E-3},null,null,null,null,3.4000000000000002E-3,0,null,null,"C4H10",{"$f":"C65","v":5.0000000000000001E-3},{"$f":"C21","v":58.124000000000002}]
["Hydrogène","H2",0,null,{"$f":"C58/100","v":0},null,null,null,0,{"$f":"D58+E58/2+F58","v":0},null,null,"C4H10",{"$f":"C66","v":5.0000000000000001E-3},{"$f":"C22","v":58.124000000000002}]
["Eau (l)","H2O (l)",0,null,{"$f":"C59/100","v":0},null,null,null,0,0,null,null,"N2",{"$f":"C70","v":1.9419999999999999},{"$f":"C26","v":28.013000000000002}]
["Sulfure d'hydrogène","H2S",0,null,{"$f":"C60/100","v":0},{"$f":"C60/100","v":0},null,null,0,0]
["Méthane","CH4",95.527000000000001,{"$f":"C61/100","v":0.95527000000000006},{"$f":"C61/100*2","v":1.9105400000000001},null,null,null,2.8658100000000002,1.9105400000000001]
["Éthane","C2H6",2.0640000000000001,{"$f":"C62*2/100","v":4.1280000000000004E-2},{"$f":"C62/100*3","v":6.1920000000000003E-2},null,null,null,0.10320000000000001,7.2239999999999999E-2]
["Propane","C3H8",0.11700000000000001,{"$f":"C63*3/100","v":3.5100000000000005E-3},{"$f":"C63/100*4","v":4.6800000000000001E-3},null,null,null,8.1900000000000011E-3,5.850000000000001E-3]
["Butane","C4H10",0,{"$f":"C64*4/100","v":0},{"$f":"C64/100*5","v":0},null,null,null,0,0]
["** i-Butane","C4H10",5.0000000000000001E-3,{"$f":"C65*4/100","v":2.0000000000000001E-4},{"$f":"C65/100*5","v":2.5000000000000001E-4},null,null,null,4.4999999999999999E-4,3.2499999999999999E-4]
["n-Butane","C4H10",5.0000000000000001E-3,{"$f":"C66*4/100","v":2.0000000000000001E-4},{"$f":"C66/100*5","v":2.5000000000000001E-4},null,null,null,4.4999999999999999E-4,3.2499999999999999E-4]
["Pentane","C5H12",0,{"$f":"C67*5/100","v":0},{"$f":"C67/100*6","v":0},null,null,null,0,0]
["Octane","C8H18",0,{"$f":"C68*8/100","v":0},{"$f":"C68/100*9","v":0},null,null,null,0,0]
["*** iso-Octane","Ch8H18i",0,{"$f":"C69*8/100","v":0},{"$f":"C69/100*9","v":0},null,null,null,0,0]
["Azote","N2",1.9419999999999999,null,null,null,null,{"$f":"C70/100","v":1.942E-2},1.942E-2,0]
["Hélium","He",0,null,null,null,{"$f":"C71/100","v":0},null,0,0]
[]
[]
["AIR DE COMBUSTION",null,null,null,null,null,null,null,"FUMÉES"]
[null,null,null,"MASSIQUE",null,null,null,null,null,null,null,"MASSIQUE"]
[null,null,null,"% O2","% EA","% CO2","RÉSULTATS",null,null,null,null,null,"Proportion (%)"]
[null,null,null,false,true,false,null,null,null,null,null,"(mol / mol gaz)","Base Hum","Base Sec"]
[null,null,null,{"$f":"IF(D77,1,\"-\")","v":"-"},{"$f":"IF(E77,2,\"-\")","v":2},{"$f":"IF(F77,3,\"-\")","v":"-"},{"$f":"AVERAGE(D78:F78)","v":2}]
["Calcul de l'excès d'air (base sèche)",null,null,{"$f":"D87/D84","v":0},{"$f":"Bilan_3!B13","v":0.3000000000000001},{"$f":"F86/F83","v":{"$error":"#DIV/0!"}},{"$f":"INDEX(D79:F79,G$78)","v":0.3000000000000001},null,"TOTAL",null,"mol / mol gas",{"$f":"SUM(L81:L86)","v":13.314847052292846},{"$f":"SUM(M81:M86)","v":1.0000000000000002},{"$f":"SUM(N81:N86)","v":1}]
["Oxygène dans les fumées (base sèche)",null,null,0,{"$f":"E86/(E83*($F$43/$F$44)+I53-E53+E86/$F$44)","v":5.260007287260339E-2},{"$f":"F86/(F83*($F$43/$F$44)+I53-E53+F86/$F$44)","v":{"$error":"#DIV/0!"}},{"$f":"INDEX(D80:F80,G$78)","v":5.260007287260339E-2}]
["Dioxide de carbone dans les fumées",null,null,{"$f":"$N$82","v":8.8631138365157361E-2},{"$f":"N82","v":8.8631138365157361E-2},null,{"$f":"INDEX(D81:F81,G$78)","v":8.8631138365157361E-2},null,"Azote",null,"mol / mol gas",{"$f":"G91","v":9.7256237036159696},{"$f":"L81/$L$79","v":0.73043450408551225},{"$f":"L81/($L$79-$L$86)","v":0.85867860076369329}]
[null,null,null,null,null,null,null,null,"Dioxide de carbone",null,"mol / mol gas",{"$f":"D53","v":1.00386},7.5394031644331436E-2,{"$f":"L82/($L$79-$L$86)","v":8.8631138365157361E-2}]
["Oxygène stoéchiométrique",null,"mol / mol gas",{"$f":"$J$53","v":1.9892799999999999},{"$f":"$J$53","v":1.9892799999999999},{"$f":"$J$53","v":1.9892799999999999},{"$f":"INDEX(D83:F83,G$78)","v":1.9892799999999999},null,"Dioxide de soufre",null,"mol / mol gas",{"$f":"F53","v":0},0,{"$f":"L83/($L$79-$L$86)","v":0}]
["Air stoéchiométrique",null,"mol / mol gas",{"$f":"D83/$F$44","v":9.4705290027815128},{"$f":"E83/$F$44","v":9.4705290027815128},{"$f":"F83/$F$44","v":9.4705290027815128},{"$f":"INDEX(D84:F84,G$78)","v":9.4705290027815128},null,"Oxygène",null,"mol / mol gas",{"$f":"G86","v":0.5967840000000002},4.4820942941078148E-2,{"$f":"L84/($L$79-$L$86)","v":5.2690260871149447E-2}]
[null,null,null,null,null,null,null,null,"Hélium",null,"mol / mol gas",{"$f":"G53","v":0},0,{"$f":"L85/($L$79-$L$86)","v":0}]
["Excès oxygène",null,"mol / mol gas",{"$f":"D80/(1-D80/$F$44)*(($I$53-$E$53)+D83*$F$43/$F$44)","v":0},{"$f":"E83*$E$79","v":0.5967840000000002},{"$f":"(D53/F81-(I53-E53)-F83*(F43/F44))/(1+F43/F44)","v":{"$error":"#DIV/0!"}},{"$f":"INDEX(D86:F86,G$78)","v":0.5967840000000002},null,"Eau (liquide et vapeur)",null,"mol / mol gas",{"$f":"G93+E53","v":1.9885793486768779},0.14935052132907828,0]
["Excès air",null,"mol / mol gas",{"$f":"D86/F44","v":0},{"$f":"E84*$E$79","v":2.841158700834455},{"$f":"F86/F44","v":{"$error":"#DIV/0!"}},{"$f":"INDEX(D87:F87,G$78)","v":2.841158700834455},null,"Condensation (liquide)",null,"mol / mol gas",{"$f":"L96","v":0},0,1]
[null,null,null,null,null,null,null,null,"Molecular weight",null,"g/mol",null,{"$f":"M81*28+M82*44+M83*64+M84*32+M86*18","v":27.892083064782838}]
["Air de combustion",null,"mol / mol gas",{"$f":"SUM(D91:D93)","v":9.4814683514583926},{"$f":"SUM(E91:E93)","v":12.322627052292848},{"$f":"SUM(F91:F93)","v":{"$error":"#DIV/0!"}},{"$f":"INDEX(D89:F89,G$78)","v":12.322627052292848},null,"Condensation des fumées",null,null,{"$f":"IF(L91<L92,\"VRAI\",\"FAUX\")","v":"FAUX"}]
[null,null,null,null,null,null,null,null,"Humidité (sans condensation)",null,"mol / mol fumées",{"$f":"E53+G93","v":1.9885793486768779}]
["Azote",null,"mol / mol gas",{"$f":"D92*($F$43/$F$44)","v":7.4812490027815137},{"$f":"E92*($F$43/$F$44)","v":9.7256237036159696},{"$f":"F92*($F$43/$F$44)","v":{"$error":"#DIV/0!"}},{"$f":"INDEX(D91:F91,G$78)","v":9.7256237036159696},null,"Température des fumées",null,"oC",{"$f":"T7","v":200}]
["Oxygène",null,"mol / mol gas",{"$f":"D83+D86","v":1.9892799999999999},{"$f":"E83+E86","v":2.5860640000000004},{"$f":"F83+F86","v":{"$error":"#DIV/0!"}},{"$f":"INDEX(D92:F92,G$78)","v":2.5860640000000004},null,"Point de rosée",null,"oC",{"$f":"E135","v":54.109354987309082}]
["Vapeur d'eau",null,"mol / mol gas",{"$f":"E114*Comb_3!D84","v":1.0939348676877604E-2},{"$f":"E114*Comb_3!E84","v":1.0939348676877604E-2},{"$f":"E114*Comb_3!F84","v":1.0939348676877604E-2},{"$f":"INDEX(D93:F93,G$78)","v":1.0939348676877604E-2},null,"Flue gas density",null,"lb/cu ft"]
[null,null,null,null,null,null,null,null,"Saturation (Tfumées)",null,"mol / mol fumées",{"$f":"E128","v":0.17557234216192982},"Fumées sèches"]
["Humidité",null,null,null,null,null,null,null,"Condensation",null,"mol / mol fumées",{"$f":"E139","v":0}]
["Humidité relative",null,null,0.05,null,null,null,null,null,null,"mol / mol gas",{"$f":"E140","v":0}]
["Point de rosée",null,"oC",{"$f":"IF(D96<>0,E118,\"-\")","v":{"$error":"#N/A"}}]
[]
[]
[]
[]
[null,null,"PRESSION ATMOSPHÉRIQUE",null,null,null,null,"TABLE VAPEUR SATURÉE"]
[null,null,"Altitude","FASL",200,"Mtl = 200",null,"Tsat (oC)","Psat (Pa)","Tsat (oC)"]
[null,null,"Pression barométrique","po Hg",{"$f":"29.9269-0.001020817*E103+0.000000011*E103^2-0.0000000000005118678*E103^3","v":29.723172505057601},null,null,0,610.48326959999986,{"$f":"H104","v":0}]
[null,null,"Pression barométrique","Pa",101312.5,{"$f":"E104*3370","v":100167.09134204412},null,2,705.80878559999985,2]
[null,null,null,null,null,null,null,4,813.39996239999994,4]
[null,null,"AIR DE COMBUSTION",null,null,null,null,6,934.98999119999985,6]
[null,null,"Température","oC",{"$f":"N7","v":20},null,null,8,1072.5787079999998,8]
[null,null,"Humidité relative",null,0.05,null,null,10,1227.7659815999998,10]
[null,null,null,null,null,null,null,12,1402.2850031999999,12]
[null,null,"Pression saturation","Pa",{"$f":"IF(E108<0,0.09*6895,I196)","v":2337.8082839999997},null,null,14,1598.1356087999998,14]
[null,null,"Pression vapeur eau","Pa",{"$f":"E109*E111","v":116.8904142},null,null,16,1817.7176015999999,16]
[null,null,null,null,null,null,null,18,2063.4307847999999,18]
[null,null,"H2O / Air sec","mol / mol",{"$f":"E112/(E105-E112)","v":1.1550937306315937E-3},null,null,20,2337.8082839999997,20]
[null,null,"H2O / Air sec","lb / lb",{"$f":"E114*18.02/28.95","v":7.1899098535341342E-4},null,null,22,2643.3832247999999,22]
[null,null,null,null,null,null,null,24,2983.3553447999998,24]
[null,null,"H2O / Air humide","mol / mol",{"$f":"E112/E105","v":1.1537610285009253E-3},null,null,26,3360.9243815999998,26]
[null,null,"Température de rosée","oC",{"$f":"H202","v":{"$error":"#N/A"}},null,null,28,3779.5567175999995,28]
[null,null,null,null,null,null,null,30,4242.8520576000001,30]
[null,null,"FUMÉES",null,null,null,null,32,4754.6767511999988,32]
[null,null,"Température","oC",{"$f":"T7","v":200},null,null,34,5319.2971152,34]
[null,null,null,null,null,null,null,36,5941.2461112000001,36]
[null,null,"Fumées totales","mol / mol gaz",{"$f":"L79","v":13.314847052292846},null,null,38,6625.0567007999998,38]
[null,null,"Humidité (H2O)","mol / mol gaz",{"$f":"L90","v":1.9885793486768779},"sans condensation",null,40,7375.9284575999991,40]
[null,null,null,null,null,null,null,42,8199.3275999999987,42]
[null,null,"Pression vapeur","Pa",{"$f":"E131*E105","v":15131.074692152242},null,null,44,9100.5870240000004,44]
[null,null,null,null,null,null,null,46,10085.83956,46]
[null,null,"H2O / Air sec","mol / mol",{"$f":"E124/(E123-E124)","v":0.17557234216192982},"Mair",null,48,11160.418103999998,48]
[null,null,"H2O / Air sec","lb / lb",{"$f":"E128*18.02/F129","v":0.11221720402747558},{"$f":"(M81*28+M82*48+M83*64+M84*32+M85*4+M86*18)","v":28.193659191360162},null,50,12333.655224,50]
[null,null,null,null,null,null,null,55,15737.376096,55]
[null,null,"H2O / Air humide","mol / mol",{"$f":"E124/E123","v":0.14935052132907828},null,null,60,19915.700111999999,60]
[null,null,"H2O / mol gas","mol / mol",{"$f":"E131*E123","v":1.9885793486768777},null,null,65,25003.282895999997,65]
[null,null,null,null,null,null,null,70,31157.444879999995,70]
[null,null,"Condensation",null,{"$f":"IF(E135>E121,\"VRAI\",\"FAUX\")","v":"FAUX"},null,null,75,38543.505839999998,75]
[null,null,"Point de rosée","oC",{"$f":"H208","v":54.109354987309082},null,null,80,47342.784240000001,80]
[null,null,null,null,null,null,null,85,57808.592639999995,85]
[null,null,"Pression saturation","Pa",{"$f":"I214","v":1553800},null,null,90,70095.585023999985,90]
[null,null,"Contenu H2O à saturation","mol / mol fumées",{"$f":"IF(E134=\"VRAI\",E137/E105,\"-\")","v":"-"},null,null,91,72800.696519999983,91]
[null,null,"Condensation","mol / mol fumées",{"$f":"IF(E134=\"VRAI\",E131-E138,0)","v":0},null,null,92,75592.467575999995,92]
[null,null,"Condensation","mol / mol gaz",{"$f":"IF(E134=\"VRAI\",E139*E123,0)","v":0},null,null,93,78473.564639999997,93]
[null,null,"Condensation","g / mol gaz",{"$f":"IF(E134=\"VRAI\",E140*18,0)","v":0},null,null,94,81446.654159999991,94]
[null,null,null,null,null,null,null,95,84513.069359999994,95]
[null,null,"Humidité Relative des Fumées",null,{"$f":"IF(E134=\"VRAI\",1,IF(E121<100,E126/E137,\"N / A\"))","v":"N / A"},null,null,96,87675.476687999995,96]
[null,null,null,null,null,null,null,97,90935.209367999996,97]
[null,null,null,null,null,null,null,98,94294.933847999986,98]
[null,null,null,null,null,null,null,99,97757.316575999997,99]
[null,null,null,null,null,null,null,100,101325.02399999999,100]
[null,null,null,null,null,null,null,105,120820,105]
[null,null,null,null,null,null,null,110,143270,110]
[null,null,null,null,null,null,null,115,169060,115]
[null,null,null,null,null,null,null,120,198530,120]
[null,null,null,null,null,null,null,125,232100,125]
[null,null,null,null,null,null,null,130,270100,130]
[null,null,null,null,null,null,null,135,313000,135]
[null,null,null,null,null,null,null,140,361300,140]
[null,null,null,null,null,null,null,145,415400,145]
[null,null,null,null,null,null,null,150,475800,150]
[null,null,null,null,null,null,null,155,543100,155]
[null,null,null,null,null,null,null,160,617800,160]
[null,null,null,null,null,null,null,165,700500,165]
[null,null,null,null,null,null,null,170,791700,170]
[null,null,null,null,null,null,null,175,892000,175]
[null,null,null,null,null,null,null,180,1002100,180]
[null,null,null,null,null,null,null,185,1122700,185]
[null,null,null,null,null,null,null,190,1254400,190]
[null,null,null,null,null,null,null,195,1397800,195]
[null,null,null,null,null,null,null,200,1553800,200]
[null,null,null,null,null,null,null,205,1723000,{"$f":"H168","v":205}]
[null,null,null,null,null,null,null,210,1906200,210]
[null,null,null,null,null,null,null,215,2104000,215]
[null,null,null,null,null,null,null,220,2318000,220]
[null,null,null,null,null,null,null,225,2548000,225]
[null,null,null,null,null,null,null,230,2795000,230]
[null,null,null,null,null,null,null,235,3060000,235]
[null,null,null,null,null,null,null,240,3344000,240]
[null,null,null,null,null,null,null,245,3648000,245]
[null,null,null,null,null,null,null,250,3973000,250]
[null,null,null,null,null,null,null,255,4319000,255]
[null,null,null,null,null,null,null,260,4688000,260]
[null,null,null,null,null,null,null,265,5081000,265]
[null,null,null,null,null,null,null,270,5499000,270]
[null,null,null,null,null,null,null,275,5942000,275]
[null,null,null,null,null,null,null,280,6412000,280]
[null,null,null,null,null,null,null,285,6909000,285]
[null,null,null,null,null,null,null,290,7436000,290]
[null,null,null,null,null,null,null,295,7993000,295]
[null,null,null,null,null,null,null,300,8581000,300]
[null,null,null,null,null,null,null,320,11274000,320]
[null,null,null,null,null,null,null,340,14586000,340]
[null,null,null,null,null,null,null,360,18651000,360]
[null,null,null,null,null,null,null,374.14,22090000,374.14]
[]
[null,null,null,null,null,null,null,"Psat AIR COMBUSTION"]
[null,null,null,null,null,null,null,"T","Psat"]
[null,null,null,null,null,null,null,{"$f":"VLOOKUP(E108,H104:I191,1)","v":20},{"$f":"VLOOKUP(H195,$H$104:$I$191,2)","v":2337.8082839999997},{"$f":"MATCH(H195,H104:H191,1)","v":11}]
[null,null,null,null,null,null,null,{"$f":"E108","v":20},{"$f":"I195+((H196-H195)/(H197-H195))*(I197-I195)","v":2337.8082839999997}]
[null,null,null,null,null,null,null,{"$f":"INDEX(H104:H191,J197)","v":22},{"$f":"VLOOKUP(H197,$H$104:$I$191,2)","v":2643.3832247999999},{"$f":"J195+1","v":12}]
[]
[null,null,null,null,null,null,null,"CALCUL ROSÉE AIR COMB"]
[null,null,null,null,null,null,null,"T","Psat"]
[null,null,null,null,null,null,null,{"$f":"VLOOKUP(I201,$I$104:$J$191,2)","v":{"$error":"#N/A"}},{"$f":"VLOOKUP(I202,I104:J191,1)","v":{"$error":"#N/A"}},{"$f":"MATCH(H201,H104:H191,1)","v":{"$error":"#N/A"}}]
[null,null,null,null,null,null,null,{"$f":"H201+(I202-I201)/(I203-I201)*(H203-H201)","v":{"$error":"#N/A"}},{"$f":"E117*E105","v":116.8904142}]
[null,null,null,null,null,null,null,{"$f":"INDEX(H104:H191,J203)","v":{"$error":"#N/A"}},{"$f":"VLOOKUP(H203,H104:I191,2)","v":{"$error":"#N/A"}},{"$f":"J201+1","v":{"$error":"#N/A"}}]
[]
[null,null,null,null,null,null,null,"TEMP. CONDENSATION FUMÉE"]
[null,null,null,null,null,null,null,"T","Psat"]
[null,null,null,null,null,null,null,{"$f":"VLOOKUP(I207,$I$104:$J$191,2)","v":50},{"$f":"VLOOKUP(E126,I104:J191,1)","v":12333.655224},{"$f":"MATCH(H207,H104:H191,1)","v":26}]
[null,null,null,null,null,null,null,{"$f":"H207+(I208-I207)/(I209-I207)*(H209-H207)","v":54.109354987309082},{"$f":"E126","v":15131.074692152242}]
[null,null,null,null,null,null,null,{"$f":"INDEX(H104:H191,J209)","v":55},{"$f":"VLOOKUP(H209,H104:I191,2)","v":15737.376096},{"$f":"J207+1","v":27}]
[]
[null,null,null,null,null,null,null,"CALCUL FUMÉES"]
[null,null,null,null,null,null,null,"T","Psat"]
[null,null,null,null,null,null,null,{"$f":"VLOOKUP(H214,H104:I191,1)","v":200},{"$f":"VLOOKUP(H213,$H$104:$I$191,2)","v":1553800},{"$f":"MATCH(H213,H104:H191,1)","v":64}]
[null,null,null,null,null,null,null,{"$f":"E121","v":200},{"$f":"I213+((H214-H213)/(H215-H213))*(I215-I213)","v":1553800}]
[null,null,null,null,null,null,null,{"$f":"INDEX(H104:H191,J215)","v":205},{"$f":"VLOOKUP(H215,$H$104:$I$191,2)","v":1723000},{"$f":"J213+1","v":65}]

{"sheet":"Bilan_3","index":26,"n_rows":125,"n_cols":27,"rows_kept":125,"cut":false,"hidden":true,"merged":[[35,6,35,8],[20,3,20,6],[21,3,21,6],[22,3,22,6],[23,3,23,6],[34,6,34,8],[55,8,55,11],[57,3,59,6],[36,6,36,8],[49,3,49,7],[50,3,50,7],[51,3,51,7],[52,3,52,7],[54,3,54,12]]}
["Formulaire de calcul",null,null,null,null,null,null,null,null,null,null,null,null,"Unités et paramètres de calculs",null,null,null,null,null,null,null,null,null,null,"Quantité de purge","Excès d'air"]
[null,null,null,null,null,null,null,null,null,null,null,null,null,null,null,null,null,null,null,null,"Numéro correspondant à sélection dans entrée de données",null,null,null,{"$f":"'Entrée de données'!E52","v":1},{"$f":"'Entrée de données'!E36","v":30},{"$f":"'Entrée de données'!E25","v":1}]
[null,"Type de chaudière:",{"$f":"VLOOKUP(AA2,X4:AA7,4)","v":"Tubes de fumées"},null,null,null,null,null,null,null,null,null,null,null,"Conversion",null,null,null,null,null,null,null,null,"Numéro","% Purge","% Exces d'air","Type de chaudière"]
[null,null,null,null,null,null,null,null,null,null,null,null,null,null,"1kW = ",{"$f":"1000000/293.07","v":3412.1540928788345},"Btu/h",null,null,null,null,null,null,1,0,0.01,"Tubes de fumées"]
["OUTPUT:",null,null,null,null,null,null,null,null,null,null,null,null,null,"1 Btu/h =",2.9306999999999998E-4,"kW",null,null,null,null,null,null,{"$f":"X4+1","v":2},0.01,{"$f":"Z4+0.01","v":0.02},"Tubes d'eau"]
["Puissance maximale du brûleur ",{"$f":"'Entrée de données'!E27","v":0},"kW","Donnée d'entrée",null,null,null,null,null,null,null,null,null,null,"1 kJ/kg=",0.42992999999999998,"Btu/lb",null,null,null,null,null,null,{"$f":"X5+1","v":3},0.02,{"$f":"Z5+0.01","v":0.03},"À serpentin"]
["Puissance maximale de production de vapeur  de la chaudière",{"$f":"'Entrée de données'!E29","v":0},"kW","Donnée d'entrée",null,null,null,null,null,null,null,null,null,null,"1 Btu =",1.0549999999999999E-3,"MJ",null,null,null,null,null,null,{"$f":"X6+1","v":4},0.03,0.04,"Sans tube"]
["Puissance maximale de production de vapeur  de la chaudière ",{"$f":"ROUND(B7*P4/1000000,2)","v":0},"millions Btu/h","Simple calcul de conversion des kw en btu/h",null,null,null,null,null,null,null,null,null,null,"1 MJ = ",{"$f":"1/P7","v":947.8672985781991},"Btu",null,null,null,null,null,null,{"$f":"X7+1","v":5},0.04,0.05]
["Puissance moyenne de production de vapeur  de la chaudière en opération ",{"$f":"'Entrée de données'!E32","v":0},"kW","Donnée d'entrée","ATTENTION: Ce n'est pas juste pour la vapeur dispo. C'est aussi de l'énergie qui sera perdu par les purges",null,null,null,null,null,null,null,null,null,"1 lb =",0.45359237000000002,"kg",null,null,null,null,null,null,6,0.05,6.0000000000000005E-2]
["Puissance moyenne de production de vapeur  de la chaudière en opération ",{"$f":"ROUND(B9*P4/1000000,2)","v":0},"millions Btu/h","Données entrée converti en btu/h",null,null,null,null,null,null,null,null,null,null,"1 kg =",{"$f":"1/P9","v":2.2046226218487757},"lb",null,null,null,null,null,null,7,0.06,7.0000000000000007E-2]
[null,null,null,null,null,null,null,null,null,null,null,null,null,null,null,null,null,null,null,null,null,null,null,8,7.0000000000000007E-2,0.08]
["INFO POUR CALCUL DE L'EFFICACITÉ",null,null,null,null,null,null,null,null,null,null,null,null,null,null,null,null,null,null,null,null,null,null,9,0.08,0.09]
["Excès d'air",{"$f":"VLOOKUP(Z2,X4:Z105,3)","v":0.3000000000000001},null,"Donnée d'entrée",null,null,null,null,null,null,null,null,null,null,null,null,null,null,null,null,null,null,null,10,0.09,9.9999999999999992E-2]
["Température des fumées (°F)",{"$f":"ROUND(('Entrée de données'!E34)*1.8+32,1)","v":392},"°F","Donnée entrée convertie en °F au lieu de °C",null,null,null,null,null,null,null,null,null,null,null,null,null,null,"Pertes par radiation et convection",null,null,null,null,11,0.1,0.10999999999999999]
["Température de l'air de combustion (°F)",{"$f":"ROUND(('Entrée de données'!E35*1.8+32),1)","v":68},"°F","Donnée entrée convertie en °F au lieu de °C",null,null,null,null,null,null,null,null,null,null,null,null,null,null,"Puissance maximale  kW","Puissance maximale millions Btu/h","% de Pertes","à 100% de la charge",null,12,0.11,0.11999999999999998]
["Température de l'eau d'appoint (°C)",{"$f":"'Entrée de données'!C48","v":0},"°C","Donnée d'entrée (idem pour toutes les chaudières de la centrale)",null,null,null,null,null,null,null,null,null,null,null,null,null,null,null,null,null,null,null,13,0.12,0.12999999999999998]
[null,null,null,null,null,null,null,null,null,null,null,null,null,null,null,null,null,"Inférieure à 5 millions Btu/h","Inférieure à 1465",{"$f":"IF(B8<5,B8, \"\")","v":0},{"$f":"IF($B$8<5,$V$88/($B$10/#REF!),\"\")","v":{"$error":"#REF!"}},{"$f":"IF($B$8<5,$V$89,\"\")","v":0},null,14,0.13,0.13999999999999999]
["CALCUL DE L'EFFICACITÉ DE CHAUFFE : 100%-perte fumée - perte radiation",null,null,null,null,null,null,null,null,null,null,null,null,null,null,null,null,null,{"$f":"T18*$P$5*1000000","v":1465.35},5,{"$f":"V18/($B$10/T18)","v":{"$error":"#DIV/0!"}},2.5999999999999999E-2,null,15,0.14000000000000001,0.15]
["1. Perte par les fumée",{"$f":"1-Comb_3!G2","v":0.17243290039051917},null,null,null,null,null,null,null,null,null,null,null,null,null,null,null,null,{"$f":"T19*$P$5*1000000","v":2930.7},10,{"$error":"#DIV/0!"},1.6E-2,null,16,0.15,0.16]
["2. Perte par radiation:",null,null,null,null,null,null,null,null,null,null,null,null,null,null,null,null,null,5861.4,20,{"$error":"#DIV/0!"},1.0500000000000001E-2,null,17,0.16,0.17]
["Pertes par radiation et convection",null,null,"Interpolation des pertes par radiation et convection",null,null,null,"Puissance (millions Btuh)","Pertes à 100%",null,null,null,null,null,null,null,null,null,8792.0999999999985,30,{"$error":"#DIV/0!"},8.3999999999999995E-3,null,18,0.17,0.18000000000000002]
["Pertes calculées pour une chaudière de ",{"$f":"IF(B8<T18,T17,B8)","v":0},"millions Btu/h","Puissance en dessous",null,null,null,{"$f":"IF(B8<5,B8,LOOKUP(B8,T18:T42))","v":0},{"$f":"ROUND(IF(H22<5,V17, VLOOKUP(H24,T18:V42,3,TRUE)),4)","v":0},null,null,null,null,null,null,null,null,null,11722.8,40,{"$error":"#DIV/0!"},7.3000000000000001E-3,null,19,0.18,0.19000000000000003]
[null,{"$f":"I24/(B9/B7)","v":{"$error":"#DIV/0!"}},null,"Puissance au dessus",null,null,null,{"$f":"IF(B8<T18,B8,INDEX(T18:T42,RANK(LOOKUP(B8,T18:T42),T18:T42,1)+1))","v":0},{"$f":"ROUND(IF(H23<5,V17, VLOOKUP(H23,T18:V42,3,TRUE)),4)","v":0},null,null,null,null,null,null,null,null,null,14653.5,50,{"$error":"#DIV/0!"},6.6E-3,null,20,0.19,0.20000000000000004]
[null,null,null,"Valeur pour interpolation",null,null,null,{"$f":"B8","v":0},{"$f":"ROUND(IF(H22=H23,AVERAGE(I22,I23),FORECAST(H24,I22:I23,H22:H23)),4)","v":0},null,null,null,null,null,null,null,null,null,17584.199999999997,60,{"$error":"#DIV/0!"},6.1999999999999998E-3,null,21,0.2,0.21000000000000005]
[null,null,null,null,null,null,null,null,null,null,null,null,null,null,null,null,null,null,20514.899999999998,70,{"$error":"#DIV/0!"},5.8999999999999999E-3,null,22,0.21,0.22000000000000006]
["Efficacité de chauffe",{"$f":"1-B19-B23","v":{"$error":"#DIV/0!"}},{"$f":"(B19+B23)-1","v":{"$error":"#DIV/0!"}},null,null,null,null,null,null,null,null,null,null,null,null,null,null,null,23445.599999999999,80,{"$error":"#DIV/0!"},5.5999999999999999E-3,null,23,0.22,0.23000000000000007]
[null,null,null,null,null,null,null,null,null,null,null,null,null,null,null,null,null,null,26376.3,90,{"$error":"#DIV/0!"},5.4000000000000003E-3,null,24,0.23,0.24000000000000007]
["INPUT",null,null,null,null,null,null,null,null,null,null,null,null,null,null,null,null,null,29307,100,{"$error":"#DIV/0!"},5.1999999999999998E-3,null,25,0.24,0.25000000000000006]
["Puissance du brûleur en opération ",{"$f":"B30*1000000*P5","v":{"$error":"#DIV/0!"}},"kW","Convertion de B30 en kw",null,null,null,null,null,null,null,null,null,null,null,null,null,null,35168.399999999994,120,{"$error":"#DIV/0!"},4.7999999999999996E-3,null,26,0.25,0.26000000000000006]
["Puissance du brûleur en opération ",{"$f":"B10/B26","v":{"$error":"#DIV/0!"}},"millions Btu/h","Puissance moyenne production vapeur / efficacité",null,null,null,null,null,null,null,null,null,null,null,null,null,null,41029.799999999996,140,{"$error":"#DIV/0!"},4.4999999999999997E-3,null,27,0.26,0.27000000000000007]
["Volume de gaz naturel alimenté ",{"$f":"ROUND(B30*10^6/J37,2)","v":{"$error":"#DIV/0!"}},"m3/h","Convertion de la puissance en opération du bruleur de kw en m3 de gaz",null,null,null,null,null,null,null,null,null,null,null,null,null,null,46891.199999999997,160,{"$error":"#DIV/0!"},4.3E-3,null,28,0.27,0.28000000000000008]
["Nombre de moles totales pour le volume de gaz",{"$f":"ROUND(B31/(8.31451*(273.15+'Entrée de données'!E37)/101325),1)","v":{"$error":"#DIV/0!"}},"mol/h","PV=nRT => n=PV/RT",null,null,null,null,null,null,null,null,null,null,null,null,null,null,52752.6,180,{"$error":"#DIV/0!"},4.0000000000000001E-3,null,29,0.28000000000000003,0.29000000000000009]
[null,null,null,null,null,null,null,null,null,null,null,null,null,null,null,null,null,null,58614,200,{"$error":"#DIV/0!"},3.8E-3,null,30,0.28999999999999998,0.3000000000000001]
["Quantité de fumées produites",null,null,null,null,null,null,null,null,null,null,null,null,null,null,null,null,null,87921,300,{"$error":"#DIV/0!"},3.3999999999999998E-3,null,31,0.3,0.31000000000000011]
[null,"masse molaire (g/mol)","mol","masse(lb/h)","masse (kg/h)",null,"Masse d'hydrogène dans une livre de combustible (lb/lb)",null,null,{"$f":"Comb_3!Q50","v":0.23688428965217811},null,null,null,null,null,null,null,null,117228,400,{"$error":"#DIV/0!"},3.0000000000000001E-3,null,32,0.31,0.32000000000000012]
["CO2",{"$f":"Comb_3!C12","v":44.011000000000003},{"$f":"Comb_3!L82*B32","v":{"$error":"#DIV/0!"}},{"$f":"ROUND(C36*B36/($P$9*1000),1)","v":{"$error":"#DIV/0!"}},{"$f":"ROUND(C36*B36/1000,1)","v":{"$error":"#DIV/0!"}},null,"1m3 gaz naturel (MJ)",null,null,37.89,null,null,null,null,null,null,null,null,146535,500,{"$error":"#DIV/0!"},2.8E-3,null,33,0.32,0.33000000000000013]
["H2O",{"$f":"Comb_3!C14","v":18.015000000000001},{"$f":"Comb_3!L86*B32","v":{"$error":"#DIV/0!"}},{"$f":"ROUND(C37*B37/($P$9*1000),1)","v":{"$error":"#DIV/0!"}},{"$f":"ROUND(C37*B37/1000,1)","v":{"$error":"#DIV/0!"}},null,"1m3 gaz naturel (btu)",null,null,{"$f":"J36*P8","v":35914.691943127968},null,null,null,null,null,null,null,null,293070,1000,{"$error":"#DIV/0!"},2.3E-3,null,34,0.33,0.34000000000000014]
["O2",{"$f":"Comb_3!C10","v":32},{"$f":"Comb_3!L84*Bilan_3!B32","v":{"$error":"#DIV/0!"}},{"$error":"#DIV/0!"},{"$error":"#DIV/0!"},null,null,null,null,null,null,null,null,null,null,null,null,null,586140,2000,{"$error":"#DIV/0!"},1.9499999999999999E-3,null,35,0.34,0.35000000000000014]
["N2",{"$f":"Comb_3!C26","v":28.013000000000002},{"$f":"Comb_3!L81*B32","v":{"$error":"#DIV/0!"}},{"$error":"#DIV/0!"},{"$error":"#DIV/0!"},null,null,null,null,null,null,null,null,null,null,null,null,null,1172280,4000,{"$error":"#DIV/0!"},1.75E-3,null,36,0.35,0.36000000000000015]
["Total (humide)",null,{"$f":"SUM(C36:C39)","v":{"$error":"#DIV/0!"}},{"$f":"SUM(D36:D39)","v":{"$error":"#DIV/0!"}},{"$f":"SUM(E36:E39)","v":{"$error":"#DIV/0!"}},null,null,null,null,null,null,null,null,null,null,null,null,null,1758419.9999999998,6000,{"$error":"#DIV/0!"},1.6000000000000001E-3,null,37,0.36,0.37000000000000016]
["Total (sec)",null,{"$f":"SUM(C36,C38:C39)","v":{"$error":"#DIV/0!"}},{"$f":"D40-D37","v":{"$error":"#DIV/0!"}},{"$f":"SUM(E36,E38:E39)","v":{"$error":"#DIV/0!"}},null,null,null,null,null,null,null,null,null,null,null,null,null,2930700,10000,{"$error":"#DIV/0!"},1.5E-3,null,38,0.37,0.38000000000000017]
[null,null,null,null,null,null,null,null,null,null,null,null,null,null,null,null,null,null,5861400,20000,{"$error":"#DIV/0!"},1.5E-3,null,39,0.38,0.39000000000000018]
["CONDENSAT",null,null,null,null,null,null,null,null,null,null,null,null,null,null,null,null,null,null,null,null,null,null,40,0.39,0.40000000000000019]
["Enthalpie de l'eau d'appoint (kJ/kg)",{"$f":"ROUND(4.18*(B16),3)","v":0},"kJ/kg","Cp*DT",null,null,null,null,null,null,null,null,null,null,null,null,null,null,null,null,null,null,null,41,0.4,0.4100000000000002]
["Température du condensat (°C)",{"$f":"IF(('Entrée de données'!E49=2),\"0\",('Entrée de données'!E51))","v":100},"°C  ","Donnée d'entrée",null,null,null,null,null,null,null,null,null,null,null,null,null,null,null,null,null,null,null,42,0.41,0.42000000000000021]
["Enthalpie du condensat (kJ/kg)",{"$f":"IF('Entrée de données'!E49=2,\"0\",4.18*(B45))","v":418},"kJ/kg ","Cp*DT",null,null,null,null,null,null,null,null,null,null,null,null,null,null,null,null,null,null,null,43,0.42,0.43000000000000022]
["% de condensat",{"$f":"IF('Entrée de données'!E49=1,'Entrée de données'!E50,0)","v":0},null,"Donnée d'entrée",null,null,null,null,null,null,null,null,null,null,null,null,null,null,null,null,null,null,null,44,0.43,0.44000000000000022]
["T°de l'eau alimentée à la chaudière (°C)",{"$f":"IF('Entrée de données'!E49=1,(B47*B45+(1-B47)*B16),B16)","v":0},"°C ","si retour de condensat: [% condensat * T° du condensat] + [(1-% condensat) * T°de l'eau d'appoint]. Sinon, c'est égale à la T° d'eau d'appoint",null,null,null,null,null,null,null,null,null,null,null,null,null,null,null,null,null,null,null,45,0.44,0.45000000000000023]
[null,null,null,null,null,null,null,null,null,null,null,null,null,null,null,null,null,null,null,null,null,null,null,46,0.45,0.46000000000000024]
[null,null,null,"Interpolation des enthalpies",null,null,null,null,"Pression (kPa)","Liquide saturé (kJ/kg)","Enthalpie de vaporisation  (kJ/kg)","Vapeur saturée (kJ/kg)",null,null,null,null,null,null,null,null,null,null,null,47,0.46,0.47000000000000025]
[null,null,null,"Pression en dessous de la valeur entrée par l'utilisateur",null,null,null,null,{"$f":"LOOKUP(B56,'Données vapeur'!A5:A60)","v":-1.325},{"$f":"VLOOKUP(I51,'Données vapeur'!A5:E60,3,FALSE)","v":417.46},{"$f":"VLOOKUP(I51,'Données vapeur'!A5:E60,4,FALSE)","v":2258},{"$f":"VLOOKUP(I51,'Données vapeur'!A5:E60,5,FALSE)","v":2675.46},null,null,null,null,null,null,null,null,null,null,null,48,0.47,0.48000000000000026]
[null,null,null,"Pression au dessus de la valeur entrée par l'utilisateur",null,null,null,null,{"$f":"IF((I51-B56)=0,B56,INDEX('Données vapeur'!A5:A60,RANK(LOOKUP(Bilan_3!B56,'Données vapeur'!A5:A60),'Données vapeur'!A5:A60,1)+1))","v":23.675000000000001},{"$f":"VLOOKUP(I52,'Données vapeur'!A5:E60,3,FALSE)","v":444.32},{"$f":"VLOOKUP(I52,'Données vapeur'!A5:E60,4,FALSE)","v":2241},{"$f":"VLOOKUP(I52,'Données vapeur'!A5:E60,5,FALSE)","v":2685.32},null,null,null,null,null,null,null,null,null,null,null,49,0.48,0.49000000000000027]
[null,null,null,"Valeur pour interpolation",null,null,null,null,{"$f":"B56","v":0},{"$f":"IF(I51=I52,J51,FORECAST(I53,J51:J52,I51:I52))","v":418.88357999999999},{"$f":"IF(I51=I52,K51,FORECAST(I53,K51:K52,I51:I52))","v":2257.0990000000002},{"$f":"IF(I51=I52,L51,FORECAST(I53,L51:L52,I51:I52))","v":2675.9825800000003},null,null,null,null,null,null,null,null,null,null,null,50,0.49,0.50000000000000022]
["ENTHALPIE",null,null,null,null,null,null,null,null,null,null,null,null,null,null,null,null,null,null,null,null,null,null,51,0.5,0.51000000000000023]
["Enthalpie de l'eau alimentée à la chaudière (kJ/kg)",{"$f":"ROUND(IF('Entrée de données'!E49=1,(B47*B46+(1-B47)*B44),B44),3)","v":0},"kJ/kg"," si retour de condensat:  [% condensat * DH du condensat] + [(1-% condensat) * DH de l'eau d'appoint]. \nSinon, c'est égale à la DH d'eau d'appoint",null,null,null,null,null,null,null,null,null,null,null,null,null,null,null,null,null,null,null,52,0.51,0.52000000000000024]
["Pression de la vapeur produite (kPa)",{"$f":"'Entrée de données'!C43","v":0},"kPa","Donnée d'entrée",null,null,null,null,"Interpolation de l'enthalpie surchauffée",null,null,null,"Pression (kPa) Données saturées","Vapeur surchauffée (kJ/kg)",null,null,null,null,null,null,null,null,null,53,0.52,0.53000000000000025]
["Degré de surchauffe",{"$f":"IF('Entrée de données'!E44=\"Non nécessaire\",0,'Entrée de données'!E45)","v":0},"°C","Donnée d'entrée",null,null,null,null,"Pression en dessous de la valeur entrée par l'utilisateur",null,null,null,{"$f":"LOOKUP(B56,'Données vapeur'!$H$6:$H$31)","v":-1.325},{"$f":"VLOOKUP(M57,'Données vapeur'!$H$6:$M$33,3,FALSE)","v":2679.1811850700001}]
["Enthalpie de la vapeur saturée/surchauffée (kJ/kg)",{"$f":"IF(B57=0,L53,N59)","v":2675.9825800000003},"kJ/kg","Recherche de h en fonction de la pression",null,null,null,null,"Pression au dessus de la valeur entrée par l'utilisateur",null,null,null,{"$f":"IF((M57-B56)=0,B56,INDEX('Données vapeur'!$H$6:$H$31,RANK(LOOKUP(B56,'Données vapeur'!$H$6:$H$31),'Données vapeur'!$H$6:$H$31,1)+1))","v":98.674999999999997},{"$f":"VLOOKUP(M58,'Données vapeur'!$H$6:$M$33,3,FALSE)","v":2713.0964198699999},null,null,null,null,null,null,null,null,null,{"$f":"X56+1","v":54},0.53,{"$f":"Z56+0.01","v":0.54000000000000026}]
["Enthalpie de l'eau saturée (purge) (kJ/kg)",{"$f":"J53","v":418.88357999999999},"kJ/kg",null,null,null,null,null,"Valeur pour interpolation",null,null,null,{"$f":"B56","v":0},{"$f":"IF(M57=M58,N57,FORECAST(M59,N57:N58,M57:M58))","v":2679.6305619311001},null,null,null,null,null,null,null,null,null,55,0.54,0.55000000000000027]
["Enthalpie de vaporisation (kJ/kg)",{"$f":"K53","v":2257.0990000000002},"kJ/kg",null,null,null,null,null,null,null,null,null,null,null,null,null,null,null,null,null,null,null,null,56,0.55000000000000004,0.56000000000000028]
["Purge - % de l'eau alimentée à la chaudière",{"$f":"VLOOKUP(Y2,X4:Y105,2)","v":0},null,"Donnée d'entrée",null,null,null,null,null,null,null,null,null,null,null,null,null,null,null,null,null,null,null,{"$f":"X60+1","v":57},0.56000000000000005,{"$f":"Z60+0.01","v":0.57000000000000028}]
[null,null,null,null,null,null,null,null,null,null,null,null,null,null,null,null,null,null,null,null,null,null,null,58,0.56999999999999995,0.58000000000000029]
[null,null,null,"Q vapeur produite = mvap*Dhvap + mpurge * DH purge",null,null,null,null,null,null,null,null,null,null,null,null,null,null,null,null,null,null,null,59,0.57999999999999996,0.5900000000000003]
[null,null,null,"Q vapeur produite = m_eau_alimenté *(1 - %Purge) * (hV,sat - hL)  + m_eau_alimenté * %Purge * (hL,sat - hL)",null,null,null,null,null,null,null,null,null,null,null,null,null,null,null,null,null,null,null,60,0.59,0.60000000000000031]
["Production de vapeur",null,null,"<=> m_eau_alimenté = Q vapeur produite / [(1-%Purge)*(hV,sat - hL) + %Purge *(hL,sat - hL)]",null,null,null,null,null,null,null,null,null,null,null,null,null,null,null,null,null,null,null,61,0.6,0.61000000000000032]
["Eau alimentée à la chaudière",null,null,null,null,null,null,null,null,null,null,null,null,null,null,null,null,null,null,null,null,null,null,62,0.61,0.62000000000000033]
["Quantité d'eau alimentée (lb/h)",{"$f":"ROUND(B68/P9,2)","v":0},"Convertion de la ligne du dessous de kg en lb",null,null,null,null,null,null,null,null,null,null,null,null,null,null,null,null,null,null,null,null,63,0.62,0.63000000000000034]
["Quantité d'eau alimentée (kg/h)",{"$f":"ROUND(B9*3600/((1-B61)*(B58-B55)+B61*(B59-B55)),2)","v":0},null,null,null,null,null,null,null,null,null,null,null,null,null,null,null,null,null,null,null,null,null,64,0.63,0.64000000000000035]
["Eau d'appoint (lb/h)",{"$f":"B67*(1-B47)","v":0}," = eau_alimenté*(1-%condensat)",null,null,null,null,null,null,null,null,null,null,null,null,null,null,null,null,null,null,null,null,65,0.64,0.65000000000000036]
["Eau d'appoint (kg/h)",{"$f":"B68*(1-B47)","v":0},"Convertion",null,null,null,null,null,null,null,null,null,null,null,null,null,null,null,null,null,null,null,null,66,0.65,{"$f":"Z69+0.01","v":0.66000000000000036}]
["Retour de condensat (lb/h)",{"$f":"B67*B47","v":0}," = eau_alimenté * % condensat",null,null,null,null,null,null,null,null,null,null,null,null,null,null,null,null,null,null,null,null,67,0.66,0.67000000000000037]
["Retour de condensat (kg/h)",{"$f":"B68*B47","v":0},"Convertion",null,null,null,null,null,null,null,null,null,null,null,null,null,null,null,null,null,null,null,null,{"$f":"X71+1","v":68},0.67,0.68000000000000038]
["Énergie dans l'eau alimentée (Btu/h)",{"$f":"ROUND(B74*P4,0)","v":0},"Convertion de la ligne du dessous de kW en Btu/h",null,null,null,null,null,null,null,null,null,null,null,null,null,null,null,null,null,null,null,null,{"$f":"X72+1","v":69},0.68,0.69000000000000039]
["Énergie dans l'eau alimentée (kW)",{"$f":"ROUND(B68*B55/3600,0)","v":0},"masse d'eau alimenté *  entalpie de l'eau alimenté (à 20°C en générale)",null,null,null,null,null,null,null,"Énergie eau",null,null,null,null,null,null,null,null,null,null,null,null,70,0.69,0.7000000000000004]
["PURGE",null,null,null,null,null,null,null,null,null,"out - in",null,null,null,null,null,null,null,null,null,null,null,null,71,0.7,0.71000000000000041]
["Quantité d'eau prélevée (lb/h)",{"$f":"ROUND(B67*B61,2)","v":0},"eau alimenté *%purge",null,null,null,null,null,null,null,{"$f":"B9+B79-B74","v":0},null,null,null,null,null,null,null,null,null,null,null,null,72,0.71,0.72000000000000042]
["Quantité d'eau (kg/h)",{"$f":"ROUND(B76*P9,2)","v":0},"Convertion",null,null,null,null,null,null,null,null,null,null,null,null,null,null,null,null,null,null,null,null,73,0.72,0.73000000000000043]
["Énergie perdue dans la purge (Btu/h)",{"$f":"ROUND(B79*P4,2)","v":0},"Convertion de la ligne du dessous de kW en Btu/h",null,null,null,null,null,null,null,"Énergie gaz",null,null,null,null,null,null,null,null,null,null,null,null,74,0.73,0.74000000000000044]
["Énergie perdue dans la purge (kW)",{"$f":"ROUND(B77*(B59)/3600,2)","v":0},"m_eau_purge * entalpie de l'eau de la purge (soit l'enthalpie de l'eau saturée)",null,null,null,null,null,null,null,"out - in",null,null,null,null,null,null,null,null,null,null,null,null,75,0.74,0.75000000000000044]
["Potentiel de récupération (Btu/h)",{"$f":"B78*0.9","v":0},"énergie perdue dans la purge * 90% de récupé",null,null,null,null,"90% de récupération",null,null,{"$f":"B19*B29+B23*B29-B29","v":{"$error":"#DIV/0!"}},null,null,null,null,null,null,null,null,null,null,null,null,76,0.75,0.76000000000000045]
["Potentiel de récupération (KW)",{"$f":"B79*0.9","v":0},"Convertion",null,null,null,null,null,null,null,null,null,null,null,null,null,null,null,null,null,null,null,null,77,0.76,0.77000000000000046]
["% de l'énergie alimentée à la chaudière",{"$f":"ROUND(B78/(B30*1000000),4)","v":{"$error":"#DIV/0!"}},"Énergie perdue par la purge / puissance d'opération bruleur",null,null,null,null,"Équation 3.21.1 - Spirax Sarco",null,null,null,null,null,null,null,null,null,null,null,null,null,null,null,78,0.77,0.78000000000000047]
["Vapeur utile",null,null,null,null,null,null,null,null,null,null,null,null,null,null,null,null,null,null,null,null,null,null,79,0.78,0.79000000000000048]
["Quantité produite - incluant évent dégazeur(lb/h)",{"$f":"ROUND(B67-B76,2)","v":0},"quantité d'eau alimenté - quantité d'eau prélevé (soit le % de purge)",null,null,null,null,null,null,null,null,null,null,null,null,null,null,null,null,null,null,null,null,80,0.79,0.80000000000000049]
["Quantité produite - incluant évent dégazeur(kg/h)",{"$f":"ROUND(B68-B77,2)","v":0},"Convertion",null,null,null,null,null,null,null,null,null,null,null,null,null,null,null,null,null,null,null,null,81,0.8,0.8100000000000005]
["Quantité disponible pour les utilisateurs (lb/h)",{"$f":"B84-B107","v":0},"Les quantités perdues à l'évent du désaérateur sont soustraites",null,null,"Valeur qui restera fixe pour tout le calculateur",null,null,null,null,null,null,null,null,null,null,null,null,null,null,null,null,null,82,0.81,0.82000000000000051]
["Quantité disponible pour les utilisateurs (kg/h)",{"$f":"B85-B108","v":0},"Convertion",null,null,"Valeur qui restera fixe pour tout le calculateur",null,null,null,null,null,null,null,null,null,null,null,null,null,null,null,null,null,83,0.82,0.83000000000000052]
["Énergie dans la vapeur utile (Btu/h)",{"$f":"ROUND(B89*P4,2)","v":0},"Convertion de la ligne du dessous de kW en Btu/h",null,null,"Valeur qui restera fixe pour tout le calculateur",null,null,null,null,null,null,null,null,null,null,null,null,null,null,null,null,null,84,0.83,0.84000000000000052]
["Énergie dans la vapeur utile (kW)",{"$f":"ROUND(B87*B58/3600,0)","v":0},"quantité dispo de vap *entalpie de la vapeur",null,null,"Valeur qui restera fixe pour tout le calculateur",null,null,null,null,null,null,null,null,null,null,null,null,null,null,null,null,null,85,0.84,0.85000000000000053]
[]
["DEGAZEUR de la centrale"," Un dégazeur est un dispositif destiné à éliminer l'oxygène ou d'autres gaz dissous dans l'eau remplissant les circuits des chaudières",null,null,null,null,null,null,null,null,null,null,null,null,null,null,null,null,null,null,null,null,null,{"$f":"X89+1","v":86},0.85,{"$f":"Z89+0.01","v":0.86000000000000054}]
["Pression d'opération du dégazeur (kPa)",{"$f":"Bilan_1!B92","v":101.46921271094176},null,null,null,null,null,null,null,null,null,null,null,null,null,null,null,null,null,null,null,null,null,87,0.86,0.87000000000000055]
["Enthalpie de l'eau à la pression du dégazeur (kJ/kg)",{"$f":"Bilan_1!B93","v":506.49053150517148},null,null,null,null,null,null,"Interpolation des enthalpies",null,"Pression (kPa)","Liquide saturé (kJ/kg)","Enthalpie de vaporisation  (kJ/kg)","Vapeur saturée (kJ/kg)",null,null,null,null,null,null,null,null,null,88,0.87,0.88000000000000056]
["Besoins en vapeur pour le dégazeur  (lb/h)",{"$f":"Bilan_1!B94","v":0},"Convertion de la ligne du dessous de kg en lb",null,null,null,"Inclus les pertes par l'évent",null,"Pression en dessous de la valeur entrée par l'utilisateur",null,{"$f":"LOOKUP(B92,'Données vapeur'!A5:A60)","v":98.674999999999997},{"$f":"VLOOKUP(K94,'Données vapeur'!$A$5:$E$60,3,FALSE)","v":504.7},{"$f":"VLOOKUP(K94,'Données vapeur'!$A$5:$E$60,4,FALSE)","v":2201.9},{"$f":"VLOOKUP(K94,'Données vapeur'!$A$5:$E$60,5,FALSE)","v":2706.6},null,null,null,null,null,null,null,null,null,89,0.88,0.89000000000000057]
["Besoins en vapeur pour le dégazeur  (kg/h)",{"$f":"Bilan_1!B95","v":0},"m_eau alim *  [( h_dégazeur - heau_alim ) / (hv,sat - h_dégazeur)  ]   /!\\ Si c'est de la vapeur surchauffé, il faut utiliser hv_surchauffe au lieu de hv,sat",null,null,null,"Inclus les pertes par l'évent",null,"Pression au dessus de la valeur entrée par l'utilisateur",null,{"$f":"IF((K94-B92)=0,B92,INDEX('Données vapeur'!A5:A60,RANK(LOOKUP(Bilan_3!B92,'Données vapeur'!A5:A60),'Données vapeur'!A5:A60,1)+1))","v":123.675},{"$f":"VLOOKUP(K95,'Données vapeur'!$A$5:$E$60,3,FALSE)","v":520.72},{"$f":"VLOOKUP(K95,'Données vapeur'!$A$5:$E$60,4,FALSE)","v":2191.3000000000002},{"$f":"VLOOKUP(K95,'Données vapeur'!$A$5:$E$60,5,FALSE)","v":2712.0200000000004},null,null,null,null,null,null,null,null,null,90,0.89,0.90000000000000058]
["% Pertes par l'évent (% de la vapeur alimentée)",9.5000000000000001E-2,"Moyenne des données de l'USDOE",null,null,null,null,null,"Valeur pour interpolation",null,{"$f":"B92","v":101.46921271094176},{"$f":"IF(K94=K95,L94,FORECAST(K96,L94:L95,K94:K95))","v":506.49053150517148},{"$f":"IF(K94=K95,M94,FORECAST(K96,M94:M95,K94:K95))","v":2200.7152538105606},{"$f":"IF(K94=K95,N94,FORECAST(K96,N94:N95,K94:K95))","v":2707.2057853157321},null,null,null,null,null,null,null,null,null,91,0.9,0.91000000000000059]
[null,null,null,null,null,null,null,null,null,null,null,null,null,null,null,null,null,null,null,null,null,null,null,92,0.91,0.9200000000000006]
["Vapeur totale au dégazeur (lb/h)",{"$f":"ROUND(B99*P10,2)","v":0},"Convertion",null,null,null,null,null,null,null,null,null,null,null,null,null,null,null,null,null,null,null,null,93,0.92,0.9300000000000006]
["Vapeur totale au dégazeur (kg/h)",{"$f":"B95/(1-B96)","v":0},"besoin de vap au degazeur / (1-% perte par event)",null,null,null,"quantité de vapeur qui reste",null,null,null,null,null,null,null,null,null,null,null,null,null,null,null,null,94,0.93,0.94000000000000061]
["Pertes de vapeur par l'évent (lb/h)",{"$f":"B101*P10","v":0},"Convertion",null,null,null,null,null,null,null,null,null,null,null,null,null,null,null,null,null,null,null,null,95,0.94,0.95000000000000062]
["Pertes de vapeur par l'évent (kg/h)",{"$f":"ROUND(B99-B95,2)","v":0},"vapeur total au dégazeur - besoin en vap pour le dégazeur",null,null,null,"quantité de vapeur qui s'échappe de dégazeur",null,null,null,null,null,null,null,null,null,null,null,null,null,null,null,null,96,0.95,0.96000000000000063]
["Pertes de vapeur par l'évent (%)",{"$f":"(B101*B58/3600)/B29","v":{"$error":"#DIV/0!"}},"Énergie perdue par event / puissance du bruleur en op  = masse de vapeur perdue par l'évent * hv,sat / puissance du bruleur en op",null,null,null,null,null,null,null,null,null,null,null,null,null,null,null,null,null,null,null,null,97,0.96,0.97000000000000064]
["Besoins en vapeur du dégazeur en % de la vapeur produite",{"$f":"B95/B85","v":{"$error":"#DIV/0!"}},"Besoin en vap / quantité de vapeur utile produite",null,null,null,null,null,null,null,null,null,null,null,null,null,null,null,null,null,null,null,null,98,0.97,0.98000000000000065]
[null,null,null,null,null,null,null,null,null,null,null,null,null,null,null,null,null,null,null,null,null,null,null,99,0.98,0.99000000000000066]
["Appor total en  vapeur de la chaudière 3 (lb/h)",{"$f":"ROUND(B106*P10,2)","v":0},null,null,null,null,null,null,null,null,null,null,null,null,null,null,null,null,null,null,null,null,null,100,0.99,1.0000000000000007]
["Apport total en vapeur de la chaudière 3 (kg/h)",{"$f":"IF('Entrée de données'!C55=2,0,IF('Entrée de données'!F21=3,Bilan_1!L115,IF('Entrée de données'!F21=4,Bilan_1!L116,0)))","v":0}]
["Perte de vapeur par l'évent pour la chaudière 3 (lb/h)",{"$f":"B105*B96","v":0}]
["Perte de vapeur par l'évent pour la chaudière 3 (kg/h)",{"$f":"B106*B96","v":0}]
["Pertes de vapeur par l'évent pour la chaudière 3 (%)",{"$f":"(B108*B58/3600)/B29","v":{"$error":"#DIV/0!"}},"Énergie perdue par event / puissance du bruleur en op  = masse de vapeur perdue par l'évent * hv,sat / puissance du bruleur en op"]
["Besoins en vapeur du dégazeur en % de la vapeur produite pour la chaudière 3",{"$f":"B106/B85","v":{"$error":"#DIV/0!"}},"Besoin en vap / quantité de vapeur utile produite"]
[]
["Vapeur disponible pour les utilisateurs"]
["Quantité de vapeur disponible (lb/h)",{"$f":"B86","v":0}]
["Quantité de vapeur disponible (kg/h)",{"$f":"B87","v":0},null,"exclus les pertes par l'évent"]
[]
[]
[]
["Efficacité de génération de vapeur utile",{"$f":"ROUND((B114/3600)*(B58-B55)/B29,5)","v":{"$error":"#DIV/0!"}}]
["Consommation de gaz naturel par kg/h de vapeur, en m3/(kg/h)",{"$f":"ROUND(B31/B114,5)","v":{"$error":"#DIV/0!"}},"m3 de gaz alimenté / masse de vapeur utile produite"]
[]
[]
[]
[null,null,null,"Efficacité = énergie dispo dans vapeur / puissance du bruleur en oper"]
[null,null,null,"Efficacité = masse vapeur dispo * DH / puissance du bruleur en oper"]
[null,null,null,"Efficacité = masse vapeur dispo * (hV,sat - hL) / puissance du bruleur en oper"]

{"sheet":"Comb_3 (micro)","index":27,"n_rows":215,"n_cols":23,"rows_kept":215,"cut":false,"hidden":true,"merged":[[4,9,4,11],[4,12,4,20],[5,9,5,11],[5,12,5,14],[5,15,5,17],[5,18,5,20],[6,3,6,4],[6,5,6,8],[7,5,7,8],[29,9,29,11],[47,0,47,9],[47,11,47,18],[192,7,192,9],[198,7,198,9],[204,7,204,9],[210,7,210,9],[49,3,49,8],[73,0,73,6],[73,8,73,13],[74,3,74,6],[74,11,74,13],[75,12,75,13]]}
[]
[null,null,null,null,"EFFICACITE","%",{"$f":"1-(G4/(G5+ABS(L28)))","v":3.0097091189507097E-5},null,"Valeur cible d'eff:"]
[null,null,null,null,null,null,null,null,{"$f":"'Entrée de données'!E87","v":0}]
[null,null,null,null,"Hout","J / mol gaz",{"$f":"U28","v":884267.45460321428}]
["BILAN THERMIQUE",null,null,null,"Hin","J / mol gaz",{"$f":"O28+R28","v":-1321.2289175442938},null,null,"PROPRIÉTÉ DU GAZ",null,null,"CALCUL ÉNERGIE"]
[null,null,null,null,null,null,null,null,null,"GAZ ****",null,null,"GAZ",null,null,"AIR",null,null,"FUMEE"]
[null,null,"Masse","* Enthalpie (J / mol)",null,"* Chaleur Spécifique (J / mol oC)",null,null,null,"M","Densité","PCS ou","T (oC) =",{"$f":"'Entrée de données'!E37","v":20},null,"T (oC) =",{"$f":"'Entrée de données'!E35","v":20},null,"T (oC) =",1973.0647260996298,{"$f":"ROUND(T7*1.8+32,1)","v":3583.5}]
[null,null,"Molaire","Formation","Combustion","Cp = a + bTx102 + cT2105 + dT3*109",null,null,null,"Mélange","Mélange","HHV","Débit","Cpmoy","H","Débit","Cpmoy","H","Débit","Cpmoy","H"]
["État gazeux sauf si indication",null,"g / mol",null,null,"a","b","c","d","g / mol","kg / m3","J / mol gaz","mol / mol gaz","J / mol oC","J / mol gaz","mol / mol gaz","J / mol oC","J / mol gaz","mol / mol gaz","J / mol oC","J / mol gaz"]
["Oxygène","O2",32,0,0,29.1,1.1579999999999999,-0.60760000000000003,1.3109999999999999,{"$f":"M10*C10","v":0},{"$f":"(101325*(C10/1000))/(8.3144*288.7056)*M10","v":0},{"$f":"M10*E10","v":0},{"$f":"'Comb_3 (micro)'!C55/100","v":0},{"$f":"AVERAGE($F10+$G10/100*N$7+$H10/100000*N$7^2+$I10/1000000000*N$7^3,$F10+$G10/100*$B$29+$H10/100000*$B$29^2+$I10/1000000000*$B$29^3)","v":29.357451536187501},{"$f":"M10*N10*(N$7-$B$29)","v":0},{"$f":"'Comb_3 (micro)'!D92","v":2.2869268216373007},{"$f":"AVERAGE($F10+$G10/100*Q$7+$H10/100000*Q$7^2+$I10/1000000000*Q$7^3,$F10+$G10/100*$B$29+$H10/100000*$B$29^2+$I10/1000000000*$B$29^3)","v":29.357451536187501},{"$f":"P10*Q10*(Q$7-$B$29)","v":-335.69171666512182},{"$f":"'Comb_3 (micro)'!L84","v":0.29764682163730094},{"$f":"AVERAGE($F10+$G10/100*T$7+$H10/100000*T$7^2+$I10/1000000000*T$7^3,$F10+$G10/100*$B$29+$H10/100000*$B$29^2+$I10/1000000000*$B$29^3)","v":33.874987361139702},{"$f":"S10*T10*(T$7-$B$29)","v":19641.91258057256}]
["Monoxide de carbone","CO",28.010999999999999,-110520,-282990,28.95,0.41099999999999998,0.3548,-2.2200000000000002,0,0,0,{"$f":"'Comb_3 (micro)'!C56/100","v":0},{"$f":"AVERAGE($F11+$G11/100*N$7+$H11/100000*N$7^2+$I11/1000000000*N$7^3,$F11+$G11/100*$B$29+$H11/100000*$B$29^2+$I11/1000000000*$B$29^3)","v":29.044267126249999},{"$f":"M11*N11*(N$7-$B$29)","v":0},null,{"$f":"AVERAGE($F11+$G11/100*Q$7+$H11/100000*Q$7^2+$I11/1000000000*Q$7^3,$F11+$G11/100*$B$29+$H11/100000*$B$29^2+$I11/1000000000*$B$29^3)","v":29.044267126249999},{"$f":"P11*Q11*(Q$7-$B$29)","v":0},null,31.43723641764317,{"$f":"S11*T11*(T$7-$B$29)","v":0}]
["Dioxide de carbone","CO2",44.011000000000003,-393500,0,36.11,4.2329999999999997,-2.887,7.4640000000000004,0.14963740000000003,6.3164148191036497E-3,0,{"$f":"'Comb_3 (micro)'!C57/100","v":3.4000000000000002E-3},37.0477172935,{"$f":"M12*N12*(N$7-$B$29)","v":-0.62981119398950003},null,37.0477172935,{"$f":"P12*Q12*(Q$7-$B$29)","v":0},{"$f":"'Comb_3 (micro)'!L82","v":1.00386},50.860749719071904,{"$f":"S12*T12*(T$7-$B$29)","v":99462.481396042553}]
["Hydrogène","H2",2.016,0,-285840,28.84,7.6499999999999997E-3,0.32879999999999998,-0.86980000000000002,0,0,0,{"$f":"'Comb_3 (micro)'!C58/100","v":0},28.843396075487497,{"$f":"M13*N13*(N$7-$B$29)","v":0},null,28.843396075487497,{"$f":"P13*Q13*(Q$7-$B$29)","v":0},null,31.97699821907532,{"$f":"S13*T13*(T$7-$B$29)","v":0}]
["Eau (v)","H20 (v)",18.015000000000001,-241830,0,33.46,0.68799999999999994,0.76039999999999996,-3.593,0,0,0,{"$f":"'Comb_3 (micro)'!C59/100","v":0},33.618654607687503,{"$f":"M14*(V14+N14*(N$7-$B$29))","v":0},{"$f":"'Comb_3 (micro)'!D93","v":1.0939348676877604E-2},33.618654607687503,{"$f":"P14*(V14+Q14*(Q$7-$B$29))","v":442.91132888313081},{"$f":"'Comb_3 (micro)'!L86-S15","v":1.9885793486768779},41.337703057396837,{"$f":"((S14-G93)*$V$14)+(S14*T14*(T$7-$B$29))","v":240540.28604618099},40656,"Enthalpie vaporisation (J/mol)"]
["Eau (l)","H2O (l)",18.015000000000001,-285840,0,75.400000000000006,0,0,0,0,0,0,0,75.400000000000006,{"$f":"M15*N15*(N$7-$B$29)","v":0},null,75.400000000000006,{"$f":"P15*Q15*(Q$7-$B$29)","v":0},{"$f":"'Comb_3 (micro)'!L96","v":0},75.400000000000006,{"$f":"S15*T15*(T$7-$B$29)","v":0}]
["Sulfure d'hydrogène","H2S",34.076000000000001,-19960,-562590,33.51,1.5469999999999999,0.30120000000000002,-3.2919999999999998,0,0,0,{"$f":"'Comb_3 (micro)'!C60/100","v":0},33.859579763249997,0,null,33.859579763249997,0,null,42.18567328334656,0]
["Méthane","CH4",16.042999999999999,-74850,-890360,34.31,5.4690000000000003,0.36609999999999998,-11,15.32539661,0.64690753953252877,-850534.19720000005,{"$f":"'Comb_3 (micro)'!C61/100","v":0.95527000000000006},35.542271325000002,-169.76232764316379,null,35.542271325000002,0,null,53.828139789772479,0]
["Éthane","C2H6",30.07,-84670,-1559900,49.37,13.92,-5.8159999999999998,7.28,0.62064480000000011,2.6198330177613489E-2,-32196.336000000003,{"$f":"'Comb_3 (micro)'!C62/100","v":2.0640000000000002E-2},52.472278994999996,-5.4151391922840002,null,52.472278994999996,0,null,103.1684412905508,0]
["Propane","C3H8",44.097000000000001,-103800,-2220000,68.031999999999996,22.59,-13.11,31.71,5.1593490000000006E-2,2.1778371236420568E-3,-2597.4,{"$f":"'Comb_3 (micro)'!C63/100","v":1.17E-3},73.047935824375003,-0.42733042457259374,null,73.047935824375003,0,null,160.27156412238088,0]
["Butane","C4H10",58.124000000000002,-134500,-2868800,89.46,30.13,-18.91,49.87,0,0,0,{"$f":"'Comb_3 (micro)'!C64/100","v":0},96.142925339374983,0,null,96.142925339374983,0,null,213.85655402901762,0]
["** i-Butane","C4H10",58.124000000000002,{"$f":"D20","v":-134500},{"$f":"E20","v":-2868800},89.46,30.13,-18.91,49.87,2.9062000000000003E-3,1.2267497796192013E-4,-143.44,{"$f":"'Comb_3 (micro)'!C65/100","v":5.0000000000000002E-5},96.142925339374983,-2.4035731334843748E-2,null,96.142925339374983,0,null,213.85655402901762,0]
["n-Butane","C4H10",58.124000000000002,-124700,-2878500,92.3,27.88,-15.47,34.979999999999997,2.9062000000000003E-3,1.2267497796192013E-4,-143.92500000000001,{"$f":"'Comb_3 (micro)'!C66/100","v":5.0000000000000002E-5},98.494129451249989,-2.4623532362812499E-2,null,98.494129451249989,0,null,204.00242581507746,0]
["Pentane","C5H12",72.150000000000006,-152000,-35292000,114.8,34.090000000000003,-18.989999999999998,42.26,0,0,0,{"$f":"'Comb_3 (micro)'!C67/100","v":0},122.37342544625,0,null,122.37342544625,0,null,247.97410798007408,0]
["Octane","C8H18",114.23,-208400,-5512200,-5.8307000000000002,4.4541000000000004,-0.42080000000000001,1.2629999999999999,0,0,0,{"$f":"'Comb_3 (micro)'!C68/100","v":0},-4.8306691808125004,0,null,-4.8306691808125004,0,null,35.325677251313245,0]
["*** iso-Octane","Ch8H18i",114.23,{"$f":"D24","v":-208400},{"$f":"E24","v":-5512200},-5.8307000000000002,4.4541000000000004,-0.42080000000000001,1.2629999999999999,0,0,0,{"$f":"'Comb_3 (micro)'!C69/100","v":0},-4.8306691808125004,0,null,-4.8306691808125004,0,null,35.325677251313245,0]
["Azote","N2",28.013000000000002,0,0,29,0.21990000000000001,0.57230000000000003,-2.871,0.54401246000000003,2.2963566355209533E-2,0,{"$f":"'Comb_3 (micro)'!C70/100","v":1.942E-2},29.052376623812499,{"$f":"M26*N26*(N$7-$B$29)","v":-2.8209857701721934},{"$f":"'Comb_3 (micro)'!D91","v":8.6006338996060645},29.052376623812499,-1249.344276274423,{"$f":"'Comb_3 (micro)'!L81","v":8.6006338996060645},31.31217934463384,{"$f":"S26*T26*(T$7-$B$29)","v":524622.77458041813}]
["Hélium","He",4.0020600000000002,0,0,20.8,0,0,0,0,0,0,{"$f":"'Comb_3 (micro)'!C71/100","v":0},20.8,0,null,20.8,0,null,20.8,0]
[null,null,null,null,null,null,null,null,"SOMME",{"$f":"SUM(J10:J27)","v":16.697097160000002},{"$f":"SUM(K10:K27)","v":0.70480903796402139},{"$f":"SUM(L10:L27)","v":-885615.29820000008},{"$f":"SUM(M10:M27)","v":1},null,{"$f":"SUM(O10:O27)","v":-179.10425348787973},{"$f":"SUM(P10:P27)","v":10.898500069920242},null,{"$f":"SUM(R10:R27)","v":-1142.1246640564141},{"$f":"SUM(S10:S27)","v":11.890720069920244},null,{"$f":"SUM(U10:U27)","v":884267.45460321428}]
["* Référence. Patm, T =",25,"oC"]
["** Hyp. Même propriétés que Butane",null,null,null,null,null,null,null,null,"Pouvoir Calorifique Supérieur"]
["*** Hyp. Même que Octane",null,null,null,null,null,null,null,null,null,{"$f":"ABS(L28/1000)","v":885.6152982000001},"kJ / mol"]
["**** À Patm et T = 15.6 oC (14.7 psi et 60 F)",null,null,null,null,null,null,null,null,null,{"$f":"K31/(J28/1000)","v":53040.075751706296},"kJ / kg"]
[null,null,null,null,null,null,null,null,null,null,{"$f":"(K32/1000)*K28","v":37.38312476409893},"MJ / m3"]
["Référence"]
["Elementary Principles of Chemical Processes",null,null,null,null,null,null,null,null,null,{"$f":"(K33*1000)/1.055*0.02832","v":1003.4977187860492},"BTU / ft3"]
["Wiley Series in Chemical Engineering, Second Edition",null,null,null,null,null,null,null,null,null,{"$f":"(K32/1.055)*0.4536","v":22804.71882556775},"BTU / lbm"]
["R M Felder et R W Rousseau",null,null,null,null,null,null,null,null,null,{"$f":"K35/7.4814","v":134.13234405138732},"BTU / gal"]
[]
[]
[]
[]
[null,null,null,null,null,"Constitution de l'air sec"]
[null,null,null,null,"Azote",0.78995048751598307]
[null,null,null,null,"Oxygène",{"$f":"1-F43","v":0.21004951248401693}]
["BILAN MASSIQUE",null,null,null,"Autres",0]
[]
[]
["CALCUL DE LA COMBUSTION STOÉCHIOMÉTRIQUE",null,null,null,null,null,null,null,null,null,null,"Masse H2 par livre de combustible"]
[]
[null,null,"COMPOSITION","GAZ DE COMBUSTION STOÉCHIOMÉTRIQUE",null,null,null,null,null,null,null,null,"Masse d'hydrogène dans une livre de combustible (lb/lb)",null,null,null,{"$f":"(4*N53+6*N55+8*N56+10*N57+10*N58)/(N53*O53+N54*O54+N55*O55+N56*O56+N57*O57+N58*O58+N59*O59)","v":0.23688428965217811}]
[null,null,"(mol / 100 mol gaz)","CO2","H2O","SO2","He","N2","TOTAL","O2 requis"]
["GAZ (ÉTAT GAZEUX)",null,null,null,null,null,null,null,null,null,null,null,"Compo","% mol","masse molaire"]
[null,"TOTAL",{"$f":"SUM(C55:C71)","v":100},1.00386,1.9776400000000003,0,0,1.942E-2,3.0009200000000003,1.9892799999999999,null,null,"CH4",{"$f":"C61","v":95.527000000000001},{"$f":"C17","v":16.042999999999999}]
[null,null,null,null,null,null,null,null,null,null,null,null,"CO2",{"$f":"C57","v":0.34},{"$f":"C12","v":44.011000000000003}]
["Oxygène","O2",0,null,null,null,null,null,{"$f":"SUM(D55:H55)","v":0},{"$f":"-C55/100","v":0},null,null,"C2H6",{"$f":"C62","v":2.0640000000000001},{"$f":"C18","v":30.07}]
["Monoxide de carbone","CO",0,{"$f":"C56/100","v":0},null,null,null,null,0,{"$f":"D56+E56/2+F56","v":0},null,null,"C3H8",{"$f":"C63","v":0.11700000000000001},{"$f":"C19","v":44.097000000000001}]
["Dioxide de carbone","CO2",0.34,{"$f":"C57/100","v":3.4000000000000002E-3},null,null,null,null,3.4000000000000002E-3,0,null,null,"C4H10",{"$f":"C65","v":5.0000000000000001E-3},{"$f":"C21","v":58.124000000000002}]
["Hydrogène","H2",0,null,{"$f":"C58/100","v":0},null,null,null,0,{"$f":"D58+E58/2+F58","v":0},null,null,"C4H10",{"$f":"C66","v":5.0000000000000001E-3},{"$f":"C22","v":58.124000000000002}]
["Eau (l)","H2O (l)",0,null,{"$f":"C59/100","v":0},null,null,null,0,0,null,null,"N2",{"$f":"C70","v":1.9419999999999999},{"$f":"C26","v":28.013000000000002}]
["Sulfure d'hydrogène","H2S",0,null,{"$f":"C60/100","v":0},{"$f":"C60/100","v":0},null,null,0,0]
["Méthane","CH4",95.527000000000001,{"$f":"C61/100","v":0.95527000000000006},{"$f":"C61/100*2","v":1.9105400000000001},null,null,null,2.8658100000000002,1.9105400000000001]
["Éthane","C2H6",2.0640000000000001,{"$f":"C62*2/100","v":4.1280000000000004E-2},{"$f":"C62/100*3","v":6.1920000000000003E-2},null,null,null,0.10320000000000001,7.2239999999999999E-2]
["Propane","C3H8",0.11700000000000001,{"$f":"C63*3/100","v":3.5100000000000005E-3},{"$f":"C63/100*4","v":4.6800000000000001E-3},null,null,null,8.1900000000000011E-3,5.850000000000001E-3]
["Butane","C4H10",0,{"$f":"C64*4/100","v":0},{"$f":"C64/100*5","v":0},null,null,null,0,0]
["** i-Butane","C4H10",5.0000000000000001E-3,{"$f":"C65*4/100","v":2.0000000000000001E-4},{"$f":"C65/100*5","v":2.5000000000000001E-4},null,null,null,4.4999999999999999E-4,3.2499999999999999E-4]
["n-Butane","C4H10",5.0000000000000001E-3,{"$f":"C66*4/100","v":2.0000000000000001E-4},{"$f":"C66/100*5","v":2.5000000000000001E-4},null,null,null,4.4999999999999999E-4,3.2499999999999999E-4]
["Pentane","C5H12",0,{"$f":"C67*5/100","v":0},{"$f":"C67/100*6","v":0},null,null,null,0,0]
["Octane","C8H18",0,{"$f":"C68*8/100","v":0},{"$f":"C68/100*9","v":0},null,null,null,0,0]
["*** iso-Octane","Ch8H18i",0,{"$f":"C69*8/100","v":0},{"$f":"C69/100*9","v":0},null,null,null,0,0]
["Azote","N2",1.9419999999999999,null,null,null,null,{"$f":"C70/100","v":1.942E-2},1.942E-2,0]
["Hélium","He",0,null,null,null,{"$f":"C71/100","v":0},null,0,0]
[]
[]
["AIR DE COMBUSTION",null,null,null,null,null,null,null,"FUMÉES"]
[null,null,null,"MASSIQUE",null,null,null,null,null,null,null,"MASSIQUE"]
[null,null,null,"% O2","% EA","% CO2","RÉSULTATS",null,null,null,null,null,"Proportion (%)"]
[null,null,null,{"$f":"TRUE","v":true},{"$f":"FALSE","v":false},false,null,null,null,null,null,"(mol / mol gaz)","Base Hum","Base Sec"]
[null,null,null,{"$f":"IF(D77,1,\"-\")","v":1},{"$f":"IF(E77,2,\"-\")","v":"-"},{"$f":"IF(F77,3,\"-\")","v":"-"},{"$f":"AVERAGE(D78:F78)","v":1}]
["Calcul de l'excès d'air (base sèche)",null,null,{"$f":"D87/D84","v":0.14962540297861585},null,{"$f":"F86/F83","v":{"$error":"#DIV/0!"}},{"$f":"INDEX(D79:F79,G$78)","v":0.14962540297861585},null,"TOTAL",null,"mol / mol gas",{"$f":"SUM(L81:L86)","v":11.890720069920242},{"$f":"SUM(M81:M86)","v":1.0000000000000002},{"$f":"SUM(N81:N86)","v":1}]
["Oxygène dans les fumées (base sèche)",null,null,{"$f":"'Entrée de données'!E89","v":0.03},{"$f":"E86/(E83*($F$43/$F$44)+I53-E53+E86/$F$44)","v":0},{"$f":"F86/(F83*($F$43/$F$44)+I53-E53+F86/$F$44)","v":{"$error":"#DIV/0!"}},{"$f":"INDEX(D80:F80,G$78)","v":0.03}]
["Dioxide de carbone dans les fumées",null,null,{"$f":"$N$82","v":0.10137807856501053},{"$f":"N82","v":0.10137807856501053},null,{"$f":"INDEX(D81:F81,G$78)","v":0.10137807856501053},null,"Azote",null,"mol / mol gas",{"$f":"G91","v":8.6006338996060645},{"$f":"L81/$L$79","v":0.72330639768090632},{"$f":"L81/($L$79-$L$86)","v":0.86856308567246088}]
[null,null,null,null,null,null,null,null,"Dioxide de carbone",null,"mol / mol gas",{"$f":"D53","v":1.00386},8.4423819087243335E-2,{"$f":"L82/($L$79-$L$86)","v":0.10137807856501053}]
["Oxygène stoéchiométrique",null,"mol / mol gas",{"$f":"$J$53","v":1.9892799999999999},{"$f":"$J$53","v":1.9892799999999999},{"$f":"$J$53","v":1.9892799999999999},{"$f":"INDEX(D83:F83,G$78)","v":1.9892799999999999},null,"Dioxide de soufre",null,"mol / mol gas",{"$f":"F53","v":0},0,{"$f":"L83/($L$79-$L$86)","v":0}]
["Air stoéchiométrique",null,"mol / mol gas",{"$f":"D83/$F$44","v":9.4705290027815128},{"$f":"E83/$F$44","v":9.4705290027815128},{"$f":"F83/$F$44","v":9.4705290027815128},{"$f":"INDEX(D84:F84,G$78)","v":9.4705290027815128},null,"Oxygène",null,"mol / mol gas",{"$f":"G86","v":0.29764682163730094},2.5031858448190464E-2,{"$f":"L84/($L$79-$L$86)","v":3.0058835762528616E-2}]
[null,null,null,null,null,null,null,null,"Hélium",null,"mol / mol gas",{"$f":"G53","v":0},0,{"$f":"L85/($L$79-$L$86)","v":0}]
["Excès oxygène",null,"mol / mol gas",{"$f":"D80/(1-D80/$F$44)*(($I$53-$E$53)+D83*$F$43/$F$44)","v":0.29764682163730094},{"$f":"E83*$E$79","v":0},{"$f":"(D53/F81-(I53-E53)-F83*(F43/F44))/(1+F43/F44)","v":{"$error":"#DIV/0!"}},{"$f":"INDEX(D86:F86,G$78)","v":0.29764682163730094},null,"Eau (liquide et vapeur)",null,"mol / mol gas",{"$f":"G93+E53","v":1.9885793486768779},0.16723792478366001,0]
["Excès air",null,"mol / mol gas",{"$f":"D86/F44","v":1.4170317184618528},{"$f":"E84*$E$79","v":0},{"$f":"F86/F44","v":{"$error":"#DIV/0!"}},{"$f":"INDEX(D87:F87,G$78)","v":1.4170317184618528},null,"Condensation (liquide)",null,"mol / mol gas",{"$f":"L96","v":0},0,1]
[null,null,null,null,null,null,null,null,"Molecular weight",null,"g/mol",null,{"$f":"M81*28+M82*44+M83*64+M84*32+M86*18","v":27.778529291352058}]
["Air de combustion",null,"mol / mol gas",{"$f":"SUM(D91:D93)","v":10.898500069920242},{"$f":"SUM(E91:E93)","v":9.4814683514583926},{"$f":"SUM(F91:F93)","v":{"$error":"#DIV/0!"}},{"$f":"INDEX(D89:F89,G$78)","v":10.898500069920242},null,"Condensation des fumées",null,null,{"$f":"IF(L91<L92,\"VRAI\",\"FAUX\")","v":"FAUX"}]
[null,null,null,null,null,null,null,null,"Humidité (sans condensation)",null,"mol / mol fumées",{"$f":"E53+G93","v":1.9885793486768779}]
["Azote",null,"mol / mol gas",{"$f":"D92*($F$43/$F$44)","v":8.6006338996060645},{"$f":"E92*($F$43/$F$44)","v":7.4812490027815137},{"$f":"F92*($F$43/$F$44)","v":{"$error":"#DIV/0!"}},{"$f":"INDEX(D91:F91,G$78)","v":8.6006338996060645},null,"Température des fumées",null,"oC",{"$f":"T7","v":1973.0647260996298}]
["Oxygène",null,"mol / mol gas",{"$f":"D83+D86","v":2.2869268216373007},{"$f":"E83+E86","v":1.9892799999999999},{"$f":"F83+F86","v":{"$error":"#DIV/0!"}},{"$f":"INDEX(D92:F92,G$78)","v":2.2869268216373007},null,"Point de rosée",null,"oC",{"$f":"E135","v":56.443062043569093}]
["Vapeur d'eau",null,"mol / mol gas",{"$f":"E114*'Comb_3 (micro)'!D84","v":1.0939348676877604E-2},{"$f":"E114*'Comb_3 (micro)'!E84","v":1.0939348676877604E-2},{"$f":"E114*'Comb_3 (micro)'!F84","v":1.0939348676877604E-2},{"$f":"INDEX(D93:F93,G$78)","v":1.0939348676877604E-2},null,"Flue gas density",null,"lb/cu ft"]
[null,null,null,null,null,null,null,null,"Saturation (Tfumées)",null,"mol / mol fumées",{"$f":"E128","v":0.20082317598362523},"Fumées sèches"]
["Humidité",null,null,null,null,null,null,null,"Condensation",null,"mol / mol fumées",{"$f":"E139","v":0}]
["Humidité relative",null,null,0.05,null,null,null,null,null,null,"mol / mol gas",{"$f":"E140","v":0}]
["Point de rosée",null,"oC",{"$f":"IF(D96<>0,E118,\"-\")","v":{"$error":"#N/A"}}]
[]
[]
[]
[]
[null,null,"PRESSION ATMOSPHÉRIQUE",null,null,null,null,"TABLE VAPEUR SATURÉE"]
[null,null,"Altitude","FASL",200,"Mtl = 200",null,"Tsat (oC)","Psat (Pa)","Tsat (oC)"]
[null,null,"Pression barométrique","po Hg",{"$f":"29.9269-0.001020817*E103+0.000000011*E103^2-0.0000000000005118678*E103^3","v":29.723172505057601},null,null,0,610.48326959999986,{"$f":"H104","v":0}]
[null,null,"Pression barométrique","Pa",101312.5,{"$f":"E104*3370","v":100167.09134204412},null,2,705.80878559999985,2]
[null,null,null,null,null,null,null,4,813.39996239999994,4]
[null,null,"AIR DE COMBUSTION",null,null,null,null,6,934.98999119999985,6]
[null,null,"Température","oC",{"$f":"N7","v":20},null,null,8,1072.5787079999998,8]
[null,null,"Humidité relative",null,0.05,null,null,10,1227.7659815999998,10]
[null,null,null,null,null,null,null,12,1402.2850031999999,12]
[null,null,"Pression saturation","Pa",{"$f":"IF(E108<0,0.09*6895,I196)","v":2337.8082839999997},null,null,14,1598.1356087999998,14]
[null,null,"Pression vapeur eau","Pa",{"$f":"E109*E111","v":116.8904142},null,null,16,1817.7176015999999,16]
[null,null,null,null,null,null,null,18,2063.4307847999999,18]
[null,null,"H2O / Air sec","mol / mol",{"$f":"E112/(E105-E112)","v":1.1550937306315937E-3},null,null,20,2337.8082839999997,20]
[null,null,"H2O / Air sec","lb / lb",{"$f":"E114*18.02/28.95","v":7.1899098535341342E-4},null,null,22,2643.3832247999999,22]
[null,null,null,null,null,null,null,24,2983.3553447999998,24]
[null,null,"H2O / Air humide","mol / mol",{"$f":"E112/E105","v":1.1537610285009253E-3},null,null,26,3360.9243815999998,26]
[null,null,"Température de rosée","oC",{"$f":"H202","v":{"$error":"#N/A"}},null,null,28,3779.5567175999995,28]
[null,null,null,null,null,null,null,30,4242.8520576000001,30]
[null,null,"FUMÉES",null,null,null,null,32,4754.6767511999988,32]
[null,null,"Température","oC",{"$f":"T7","v":1973.0647260996298},null,null,34,5319.2971152,34]
[null,null,null,null,null,null,null,36,5941.2461112000001,36]
[null,null,"Fumées totales","mol / mol gaz",{"$f":"L79","v":11.890720069920242},null,null,38,6625.0567007999998,38]
[null,null,"Humidité (H2O)","mol / mol gaz",{"$f":"L90","v":1.9885793486768779},"sans condensation",null,40,7375.9284575999991,40]
[null,null,null,null,null,null,null,42,8199.3275999999987,42]
[null,null,"Pression vapeur","Pa",{"$f":"E131*E105","v":16943.292254644555},null,null,44,9100.5870240000004,44]
[null,null,null,null,null,null,null,46,10085.83956,46]
[null,null,"H2O / Air sec","mol / mol",{"$f":"E124/(E123-E124)","v":0.20082317598362523},"Mair",null,48,11160.418103999998,48]
[null,null,"H2O / Air sec","lb / lb",{"$f":"E128*18.02/F129","v":0.12870979965717447},{"$f":"(M81*28+M82*48+M83*64+M84*32+M85*4+M86*18)","v":28.116224567701032},null,50,12333.655224,50]
[null,null,null,null,null,null,null,55,15737.376096,55]
[null,null,"H2O / Air humide","mol / mol",{"$f":"E124/E123","v":0.16723792478366001},null,null,60,19915.700111999999,60]
[null,null,"H2O / mol gas","mol / mol",{"$f":"E131*E123","v":1.9885793486768779},null,null,65,25003.282895999997,65]
[null,null,null,null,null,null,null,70,31157.444879999995,70]
[null,null,"Condensation",null,{"$f":"IF(E135>E121,\"VRAI\",\"FAUX\")","v":"FAUX"},null,null,75,38543.505839999998,75]
[null,null,"Point de rosée","oC",{"$f":"H208","v":56.443062043569093},null,null,80,47342.784240000001,80]
[null,null,null,null,null,null,null,85,57808.592639999995,85]
[null,null,"Pression saturation","Pa",{"$f":"I214","v":{"$error":"#REF!"}},null,null,90,70095.585023999985,90]
[null,null,"Contenu H2O à saturation","mol / mol fumées",{"$f":"IF(E134=\"VRAI\",E137/E105,\"-\")","v":"-"},null,null,91,72800.696519999983,91]
[null,null,"Condensation","mol / mol fumées",{"$f":"IF(E134=\"VRAI\",E131-E138,0)","v":0},null,null,92,75592.467575999995,92]
[null,null,"Condensation","mol / mol gaz",{"$f":"IF(E134=\"VRAI\",E139*E123,0)","v":0},null,null,93,78473.564639999997,93]
[null,null,"Condensation","g / mol gaz",{"$f":"IF(E134=\"VRAI\",E140*18,0)","v":0},null,null,94,81446.654159999991,94]
[null,null,null,null,null,null,null,95,84513.069359999994,95]
[null,null,"Humidité Relative des Fumées",null,{"$f":"IF(E134=\"VRAI\",1,IF(E121<100,E126/E137,\"N / A\"))","v":"N / A"},null,null,96,87675.476687999995,96]
[null,null,null,null,null,null,null,97,90935.209367999996,97]
[null,null,null,null,null,null,null,98,94294.933847999986,98]
[null,null,null,null,null,null,null,99,97757.316575999997,99]
[null,null,null,null,null,null,null,100,101325.02399999999,100]
[null,null,null,null,null,null,null,105,120820,105]
[null,null,null,null,null,null,null,110,143270,110]
[null,null,null,null,null,null,null,115,169060,115]
[null,null,null,null,null,null,null,120,198530,120]
[null,null,null,null,null,null,null,125,232100,125]
[null,null,null,null,null,null,null,130,270100,130]
[null,null,null,null,null,null,null,135,313000,135]
[null,null,null,null,null,null,null,140,361300,140]
[null,null,null,null,null,null,null,145,415400,145]
[null,null,null,null,null,null,null,150,475800,150]
[null,null,null,null,null,null,null,155,543100,155]
[null,null,null,null,null,null,null,160,617800,160]
[null,null,null,null,null,null,null,165,700500,165]
[null,null,null,null,null,null,null,170,791700,170]
[null,null,null,null,null,null,null,175,892000,175]
[null,null,null,null,null,null,null,180,1002100,180]
[null,null,null,null,null,null,null,185,1122700,185]
[null,null,null,null,null,null,null,190,1254400,190]
[null,null,null,null,null,null,null,195,1397800,195]
[null,null,null,null,null,null,null,200,1553800,200]
[null,null,null,null,null,null,null,205,1723000,{"$f":"H168","v":205}]
[null,null,null,null,null,null,null,210,1906200,210]
[null,null,null,null,null,null,null,215,2104000,215]
[null,null,null,null,null,null,null,220,2318000,220]
[null,null,null,null,null,null,null,225,2548000,225]
[null,null,null,null,null,null,null,230,2795000,230]
[null,null,null,null,null,null,null,235,3060000,235]
[null,null,null,null,null,null,null,240,3344000,240]
[null,null,null,null,null,null,null,245,3648000,245]
[null,null,null,null,null,null,null,250,3973000,250]
[null,null,null,null,null,null,null,255,4319000,255]
[null,null,null,null,null,null,null,260,4688000,260]
[null,null,null,null,null,null,null,265,5081000,265]
[null,null,null,null,null,null,null,270,5499000,270]
[null,null,null,null,null,null,null,275,5942000,275]
[null,null,null,null,null,null,null,280,6412000,280]
[null,null,null,null,null,null,null,285,6909000,285]
[null,null,null,null,null,null,null,290,7436000,290]
[null,null,null,null,null,null,null,295,7993000,295]
[null,null,null,null,null,null,null,300,8581000,300]
[null,null,null,null,null,null,null,320,11274000,320]
[null,null,null,null,null,null,null,340,14586000,340]
[null,null,null,null,null,null,null,360,18651000,360]
[null,null,null,null,null,null,null,374.14,22090000,374.14]
[]
[null,null,null,null,null,null,null,"Psat AIR COMBUSTION"]
[null,null,null,null,null,null,null,"T","Psat"]
[null,null,null,null,null,null,null,{"$f":"VLOOKUP(E108,H104:I191,1)","v":20},{"$f":"VLOOKUP(H195,$H$104:$I$191,2)","v":2337.8082839999997},{"$f":"MATCH(H195,H104:H191,1)","v":11}]
[null,null,null,null,null,null,null,{"$f":"E108","v":20},{"$f":"I195+((H196-H195)/(H197-H195))*(I197-I195)","v":2337.8082839999997}]
[null,null,null,null,null,null,null,{"$f":"INDEX(H104:H191,J197)","v":22},{"$f":"VLOOKUP(H197,$H$104:$I$191,2)","v":2643.3832247999999},{"$f":"J195+1","v":12}]
[]
[null,null,null,null,null,null,null,"CALCUL ROSÉE AIR COMB"]
[null,null,null,null,null,null,null,"T","Psat"]
[null,null,null,null,null,null,null,{"$f":"VLOOKUP(I201,$I$104:$J$191,2)","v":{"$error":"#N/A"}},{"$f":"VLOOKUP(I202,I104:J191,1)","v":{"$error":"#N/A"}},{"$f":"MATCH(H201,H104:H191,1)","v":{"$error":"#N/A"}}]
[null,null,null,null,null,null,null,{"$f":"H201+(I202-I201)/(I203-I201)*(H203-H201)","v":{"$error":"#N/A"}},{"$f":"E117*E105","v":116.8904142}]
[null,null,null,null,null,null,null,{"$f":"INDEX(H104:H191,J203)","v":{"$error":"#N/A"}},{"$f":"VLOOKUP(H203,H104:I191,2)","v":{"$error":"#N/A"}},{"$f":"J201+1","v":{"$error":"#N/A"}}]
[]
[null,null,null,null,null,null,null,"TEMP. CONDENSATION FUMÉE"]
[null,null,null,null,null,null,null,"T","Psat"]
[null,null,null,null,null,null,null,{"$f":"VLOOKUP(I207,$I$104:$J$191,2)","v":55},{"$f":"VLOOKUP(E126,I104:J191,1)","v":15737.376096},{"$f":"MATCH(H207,H104:H191,1)","v":27}]
[null,null,null,null,null,null,null,{"$f":"H207+(I208-I207)/(I209-I207)*(H209-H207)","v":56.443062043569093},{"$f":"E126","v":16943.292254644555}]
[null,null,null,null,null,null,null,{"$f":"INDEX(H104:H191,J209)","v":60},{"$f":"VLOOKUP(H209,H104:I191,2)","v":19915.700111999999},{"$f":"J207+1","v":28}]
[]
[null,null,null,null,null,null,null,"CALCUL FUMÉES"]
[null,null,null,null,null,null,null,"T","Psat"]
[null,null,null,null,null,null,null,{"$f":"VLOOKUP(H214,H104:I191,1)","v":374.14},{"$f":"VLOOKUP(H213,$H$104:$I$191,2)","v":22090000},{"$f":"MATCH(H213,H104:H191,1)","v":88}]
[null,null,null,null,null,null,null,{"$f":"E121","v":1973.0647260996298},{"$f":"I213+((H214-H213)/(H215-H213))*(I215-I213)","v":{"$error":"#REF!"}}]
[null,null,null,null,null,null,null,{"$f":"INDEX(H104:H191,J215)","v":{"$error":"#REF!"}},{"$f":"VLOOKUP(H215,$H$104:$I$191,2)","v":{"$error":"#REF!"}},{"$f":"J213+1","v":89}]

{"sheet":"Bilan_3 EE","index":28,"n_rows":125,"n_cols":27,"rows_kept":125,"cut":false,"hidden":true,"merged":[[35,6,35,8],[20,3,20,6],[21,3,21,6],[22,3,22,6],[23,3,23,6],[34,6,34,8],[95,13,95,17],[36,6,36,8],[49,3,49,7],[50,3,50,7],[51,3,51,7],[52,3,52,7],[54,3,54,12],[55,8,55,11],[57,3,59,6],[92,13,92,17],[93,13,93,17],[94,13,94,17]]}
["Formulaire de calcul",null,null,null,null,null,null,null,null,null,null,null,null,"Unités et paramètres de calculs",null,null,null,null,null,null,null,null,null,null,"Quantité de purge","Excès d'air"]
[null,null,null,null,null,null,null,null,null,null,null,null,null,null,null,null,null,null,null,null,"Numéro correspondant à sélection dans entrée de données",null,null,null,{"$f":"'Entrée de données'!E52","v":1},{"$f":"'Entrée de données'!E36","v":30},{"$f":"'Entrée de données'!E25","v":1}]
[null,"Type de chaudière:",{"$f":"VLOOKUP(AA2,X4:AA7,4)","v":"Tubes de fumées"},null,null,null,null,null,null,null,null,null,null,null,"Conversion",null,null,null,null,null,null,null,null,"Numéro","% Purge","% Exces d'air","Type de chaudière"]
[null,null,null,null,null,null,null,null,null,null,null,null,null,null,"1kW = ",{"$f":"1000000/293.07","v":3412.1540928788345},"Btu/h",null,null,null,null,null,null,1,0,0.01,"Tubes de fumées"]
["OUTPUT:",null,null,null,null,null,null,null,null,null,null,null,null,null,"1 Btu/h =",2.9306999999999998E-4,"kW",null,null,null,null,null,null,{"$f":"X4+1","v":2},0.01,{"$f":"Z4+0.01","v":0.02},"Tubes d'eau"]
["Puissance maximale du brûleur ",{"$f":"'Entrée de données'!E27","v":0},"kW","Donnée d'entrée",null,null,null,null,null,null,null,null,null,null,"1 kJ/kg=",0.42992999999999998,"Btu/lb",null,null,null,null,null,null,{"$f":"X5+1","v":3},0.02,{"$f":"Z5+0.01","v":0.03},"À serpentin"]
["Puissance maximale de production de vapeur  de la chaudière",{"$f":"'Entrée de données'!E29","v":0},"kW","Donnée d'entrée",null,null,null,null,null,null,null,null,null,null,"1 Btu =",1.0549999999999999E-3,"MJ",null,null,null,null,null,null,{"$f":"X6+1","v":4},0.03,0.04,"Sans tube"]
["Puissance maximale de production de vapeur  de la chaudière ",{"$f":"ROUND(B7*P4/1000000,2)","v":0},"millions Btu/h","Simple calcul de conversion des kw en btu/h",null,null,null,null,null,null,null,null,null,null,"1 MJ = ",{"$f":"1/P7","v":947.8672985781991},"Btu",null,null,null,null,null,null,{"$f":"X7+1","v":5},0.04,0.05]
["Puissance moyenne de production de vapeur  de la chaudière en opération ",{"$f":"B89+B79+B111+-B74","v":0},"kW","Q = Qvap dispo + Q purge+Qevent - Qeau alimenté",null,"ATTENTION: Ce n'est pas juste pour la vapeur dispo. C'est aussi de l'énergie qui sera perdu par les purges",null,null,null,null,null,null,null,null,"1 lb =",0.45359237000000002,"kg",null,null,null,null,null,null,6,0.05,6.0000000000000005E-2]
["Puissance moyenne de production de vapeur  de la chaudière en opération ",{"$f":"ROUND(B9*P4/1000000,2)","v":0},"millions Btu/h","Données entrée converti en btu/h",null,null,null,null,null,null,null,null,null,null,"1 kg =",{"$f":"1/P9","v":2.2046226218487757},"lb",null,null,null,null,null,null,7,0.06,7.0000000000000007E-2]
[null,null,null,null,null,null,null,null,null,null,null,null,null,null,null,null,null,null,null,null,null,null,null,8,7.0000000000000007E-2,0.08]
["INFO POUR CALCUL DE L'EFFICACITÉ",null,null,null,null,null,null,null,null,null,null,null,null,null,null,null,null,null,null,null,null,null,null,9,0.08,0.09]
["Excès d'air",{"$f":"IF('Mise en forme- input'!C12=FALSE,Bilan_3!B13,'Entrée de données'!E89)","v":0.3000000000000001},null,"Donnée d'entrée",null,null,null,null,null,null,null,null,null,null,null,null,null,null,null,null,null,null,null,10,0.09,9.9999999999999992E-2]
["Température des fumées (°F)",{"$f":"IF('Mise en forme- input'!C12=FALSE,Bilan_3!B14,'Comb_3 (micro)'!U7)","v":392},"°F","Donnée entrée convertie en °F au lieu de °C",null,null,null,null,null,null,null,null,null,null,null,null,null,null,"Pertes par radiation et convection",null,null,null,null,11,0.1,0.10999999999999999]
["Température de l'air de combustion (°F)",{"$f":"ROUND(('Entrée de données'!E35*1.8+32),1)","v":68},"°F","Donnée entrée convertie en °F au lieu de °C",null,null,null,null,null,null,null,null,null,null,null,null,null,null,"Puissance maximale  kW","Puissance maximale millions Btu/h","% de Pertes","à 100% de la charge",null,12,0.11,0.11999999999999998]
["Température de l'eau d'appoint (°C)",{"$f":"IF(OR(AND('Mise en forme- input'!C18=TRUE,'Économiseurs 1 à 4 '!D7=2),'Mise en forme- input'!C6=TRUE,'Mise en forme- input'!C7=TRUE),'Économiseurs 1 à 4 '!B44,'Entrée de données'!C48)","v":0},"°C","Donnée d'entrée",null,"=SI(OU(ET('Mise en forme- input'!C5=VRAI;'Économiseurs 1 à 4 '!B6=2);'Mise en forme- input'!C6=VRAI;'Mise en forme- input'!C7=VRAI);'Économiseurs 1 à 4 '!B35;'Entrée de données'!C48)",null,null,null,null,null,null,null,null,null,null,null,null,null,null,null,null,null,13,0.12,0.12999999999999998]
[null,null,null,null,null,null,null,null,null,null,null,null,null,null,null,null,null,"Inférieure à 5 millions Btu/h","Inférieure à 1465",{"$f":"IF(B8<5,B8, \"\")","v":0},{"$f":"IF($B$8<5,$V$88/($B$10/#REF!),\"\")","v":{"$error":"#REF!"}},{"$f":"IF($B$8<5,$V$89,\"\")","v":0},null,14,0.13,0.13999999999999999]
["CALCUL DE L'EFFICACITÉ DE CHAUFFE : 100%-perte fumée - perte radiation",null,null,null,null,null,null,null,null,null,null,null,null,null,null,null,null,null,{"$f":"T18*$P$5*1000000","v":1465.35},5,{"$f":"V18/($B$10/T18)","v":{"$error":"#DIV/0!"}},2.5999999999999999E-2,null,15,0.14000000000000001,0.15]
["1. Perte par les fumée",{"$f":"IF('Mise en forme- input'!C12=FALSE,Bilan_3!B19,1-'Entrée de données'!E87)","v":0.17243290039051917},null,null,null,null,null,null,null,null,null,null,null,null,null,null,null,null,{"$f":"T19*$P$5*1000000","v":2930.7},10,{"$error":"#DIV/0!"},1.6E-2,null,16,0.15,0.16]
["2. Perte par radiation:",null,null,null,null,null,null,null,null,null,null,null,null,null,null,null,null,null,5861.4,20,{"$error":"#DIV/0!"},1.0500000000000001E-2,null,17,0.16,0.17]
["Pertes par radiation et convection",null,null,"Interpolation des pertes par radiation et convection",null,null,null,"Puissance (millions Btuh)","Pertes à 100%",null,null,null,null,null,null,null,null,null,8792.0999999999985,30,{"$error":"#DIV/0!"},8.3999999999999995E-3,null,18,0.17,0.18000000000000002]
["Pertes calculées pour une chaudière de ",{"$f":"IF(B8<T18,T17,B8)","v":0},"millions Btu/h","Puissance en dessous",null,null,null,{"$f":"IF(B8<5,B8,LOOKUP(B8,T18:T42))","v":0},{"$f":"ROUND(IF(H22<5,V17, VLOOKUP(H24,T18:V42,3,TRUE)),4)","v":0},null,null,null,null,null,null,null,null,null,11722.8,40,{"$error":"#DIV/0!"},7.3000000000000001E-3,null,19,0.18,0.19000000000000003]
[null,{"$f":"I24/(B9/B7)","v":{"$error":"#DIV/0!"}},null,"Puissance au dessus",null,null,null,{"$f":"IF(B8<T18,B8,INDEX(T18:T42,RANK(LOOKUP(B8,T18:T42),T18:T42,1)+1))","v":0},{"$f":"ROUND(IF(H23<5,V17, VLOOKUP(H23,T18:V42,3,TRUE)),4)","v":0},null,null,null,null,null,null,null,null,null,14653.5,50,{"$error":"#DIV/0!"},6.6E-3,null,20,0.19,0.20000000000000004]
[null,null,null,"Valeur pour interpolation",null,null,null,{"$f":"B8","v":0},{"$f":"ROUND(IF(H22=H23,AVERAGE(I22,I23),FORECAST(H24,I22:I23,H22:H23)),4)","v":0},null,null,null,null,null,null,null,null,null,17584.199999999997,60,{"$error":"#DIV/0!"},6.1999999999999998E-3,null,21,0.2,0.21000000000000005]
[null,null,null,null,null,null,null,null,null,null,null,null,null,null,null,null,null,null,20514.899999999998,70,{"$error":"#DIV/0!"},5.8999999999999999E-3,null,22,0.21,0.22000000000000006]
["Efficacité de chauffe",{"$f":"IF('Mise en forme- input'!C12=FALSE,Bilan_3!B26,'Entrée de données'!E87-B23)","v":{"$error":"#DIV/0!"}},"Nouvelle valeur: efficacité données par le particpant - % perte par radiation",null,null,null,null,null,null,null,null,null,null,null,null,null,null,null,23445.599999999999,80,{"$error":"#DIV/0!"},5.5999999999999999E-3,null,23,0.22,0.23000000000000007]
[null,null,null,null,null,null,null,null,null,null,null,null,null,null,null,null,null,null,26376.3,90,{"$error":"#DIV/0!"},5.4000000000000003E-3,null,24,0.23,0.24000000000000007]
["INPUT",null,null,null,null,null,null,null,null,null,null,null,null,null,null,null,null,null,29307,100,{"$error":"#DIV/0!"},5.1999999999999998E-3,null,25,0.24,0.25000000000000006]
["Puissance du brûleur en opération ",{"$f":"B30*1000000*P5","v":{"$error":"#DIV/0!"}},"kW","Convertion de B30 en kw",null,null,null,null,null,null,null,null,null,null,null,null,null,null,35168.399999999994,120,{"$error":"#DIV/0!"},4.7999999999999996E-3,null,26,0.25,0.26000000000000006]
["Puissance du brûleur en opération ",{"$f":"B10/B26","v":{"$error":"#DIV/0!"}},"millions Btu/h","Puissance moyenne production vapeur / efficacité",null,null,null,null,null,null,null,null,null,null,null,null,null,null,41029.799999999996,140,{"$error":"#DIV/0!"},4.4999999999999997E-3,null,27,0.26,0.27000000000000007]
["Volume de gaz naturel alimenté ",{"$f":"ROUND(B29/(J36*1000)*3600,2)","v":{"$error":"#DIV/0!"}},"m3/h","Convertion de la puissance en opération du bruleur de kw en m3 de gaz",null,null,null,null,null,null,null,null,null,null,null,null,null,null,46891.199999999997,160,{"$error":"#DIV/0!"},4.3E-3,null,28,0.27,0.28000000000000008]
["Nombre de moles totales pour le volume de gaz",{"$f":"ROUND(B31/(8.31451*(273.15+'Entrée de données'!E37)/101325),1)","v":{"$error":"#DIV/0!"}},"mol/h","PV=nRT => n=PV/RT",null,null,null,null,null,null,null,null,null,null,null,null,null,null,52752.6,180,{"$error":"#DIV/0!"},4.0000000000000001E-3,null,29,0.28000000000000003,0.29000000000000009]
[null,null,null,null,null,null,null,null,null,null,null,null,null,null,null,null,null,null,58614,200,{"$error":"#DIV/0!"},3.8E-3,null,30,0.28999999999999998,0.3000000000000001]
["Quantité de fumées produites",null,null,null,null,null,null,null,null,null,null,null,null,null,null,null,null,null,87921,300,{"$error":"#DIV/0!"},3.3999999999999998E-3,null,31,0.3,0.31000000000000011]
[null,"masse molaire (g/mol)","mol","masse(lb/h)","masse (kg/h)",null,"Masse d'hydrogène dans une livre de combustible (lb/lb)",null,null,{"$f":"Comb_3!Q50","v":0.23688428965217811},null,null,null,null,null,null,null,null,117228,400,{"$error":"#DIV/0!"},3.0000000000000001E-3,null,32,0.31,0.32000000000000012]
["CO2",{"$f":"Comb_3!C12","v":44.011000000000003},{"$f":"IF('Mise en forme- input'!C12=FALSE,Comb_3!L82*B32,'Comb_3 (micro)'!L82*B32)","v":{"$error":"#DIV/0!"}},{"$f":"ROUND(C36*B36/($P$9*1000),1)","v":{"$error":"#DIV/0!"}},{"$f":"ROUND(C36*B36/1000,1)","v":{"$error":"#DIV/0!"}},null,"1m3 gaz naturel (MJ)",null,null,37.89,null,null,null,null,null,null,null,null,146535,500,{"$error":"#DIV/0!"},2.8E-3,null,33,0.32,0.33000000000000013]
["H2O",{"$f":"Comb_3!C14","v":18.015000000000001},{"$f":"IF('Mise en forme- input'!C12=FALSE,Comb_3!L86*B32,'Comb_3 (micro)'!L86*B32)","v":{"$error":"#DIV/0!"}},{"$f":"ROUND(C37*B37/($P$9*1000),1)","v":{"$error":"#DIV/0!"}},{"$f":"ROUND(C37*B37/1000,1)","v":{"$error":"#DIV/0!"}},null,"1m3 gaz naturel (btu)",null,null,{"$f":"J36*P8","v":35914.691943127968},null,null,null,null,null,null,null,null,293070,1000,{"$error":"#DIV/0!"},2.3E-3,null,34,0.33,0.34000000000000014]
["O2",{"$f":"Comb_3!C10","v":32},{"$f":"IF('Mise en forme- input'!C12=FALSE,Comb_3!L84*B32,'Comb_3 (micro)'!L84*B32)","v":{"$error":"#DIV/0!"}},{"$error":"#DIV/0!"},{"$f":"ROUND(C38*B38/1000,1)","v":{"$error":"#DIV/0!"}},null,null,null,null,null,null,null,null,null,null,null,null,null,586140,2000,{"$error":"#DIV/0!"},1.9499999999999999E-3,null,35,0.34,0.35000000000000014]
["N2",{"$f":"Comb_3!C26","v":28.013000000000002},{"$f":"IF('Mise en forme- input'!C12=FALSE,Comb_3!L81*B32,'Comb_3 (micro)'!L81*B32)","v":{"$error":"#DIV/0!"}},{"$error":"#DIV/0!"},{"$f":"ROUND(C39*B39/1000,1)","v":{"$error":"#DIV/0!"}},null,null,null,null,null,null,null,null,null,null,null,null,null,1172280,4000,{"$error":"#DIV/0!"},1.75E-3,null,36,0.35,0.36000000000000015]
["Total (humide)",null,{"$f":"SUM(C36:C39)","v":{"$error":"#DIV/0!"}},{"$f":"SUM(D36:D39)","v":{"$error":"#DIV/0!"}},{"$f":"SUM(E36:E39)","v":{"$error":"#DIV/0!"}},null,null,null,null,null,null,null,null,null,null,null,null,null,1758419.9999999998,6000,{"$error":"#DIV/0!"},1.6000000000000001E-3,null,37,0.36,0.37000000000000016]
["Total (sec)",null,{"$f":"SUM(C36,C38:C39)","v":{"$error":"#DIV/0!"}},{"$f":"D40-D37","v":{"$error":"#DIV/0!"}},{"$f":"SUM(E36,E38:E39)","v":{"$error":"#DIV/0!"}},null,null,null,null,null,null,null,null,null,null,null,null,null,2930700,10000,{"$error":"#DIV/0!"},1.5E-3,null,38,0.37,0.38000000000000017]
[null,null,null,null,null,null,null,null,null,null,null,null,null,null,null,null,null,null,5861400,20000,{"$error":"#DIV/0!"},1.5E-3,null,39,0.38,0.39000000000000018]
["CONDENSAT",null,null,null,null,null,null,null,null,null,null,null,null,null,null,null,null,null,null,null,null,null,null,40,0.39,0.40000000000000019]
["Enthalpie de l'eau d'appoint (kJ/kg)",{"$f":"ROUND(4.18*(B16),3)","v":0},"kJ/kg","Cp*DT",null,null,null,null,null,null,null,null,null,null,null,null,null,null,null,null,null,null,null,41,0.4,0.4100000000000002]
["Température du condensat (°C)",{"$f":"IF(('Entrée de données'!E49=2),\"0\",('Entrée de données'!E51))","v":100},"°C  ","Donnée d'entrée",null,null,null,null,null,null,null,null,null,null,null,null,null,null,null,null,null,null,null,42,0.41,0.42000000000000021]
["Enthalpie du condensat (kJ/kg)",{"$f":"IF('Entrée de données'!E49=2,\"0\",4.18*(B45))","v":418},"kJ/kg ","Cp*DT",null,null,null,null,null,null,null,null,null,null,null,null,null,null,null,null,null,null,null,43,0.42,0.43000000000000022]
["% de condensat",{"$f":"IF('Entrée de données'!E49=1,'Entrée de données'!E50,0)","v":0},null,"Donnée d'entrée",null,null,null,null,null,null,null,null,null,null,null,null,null,null,null,null,null,null,null,44,0.43,0.44000000000000022]
["T°de l'eau alimentée à la chaudière (°C)",{"$f":"IF(AND('Mise en forme- input'!C18=TRUE,'Économiseurs 1 à 4 '!D7=1),'Économiseurs 1 à 4 '!D52,IF('Entrée de données'!E49=1,(B47*B45+(1-B47)*B16),B16))","v":0},"°C ","si retour de condensat: [% condensat * T° du condensat] + [(1-% condensat) * T°de l'eau d'appoint]. Sinon, c'est égale à la T° d'eau d'appoint",null,null,null,null,null,null,null,null,null,null,null,null,null,null,null,null,null,null,null,45,0.44,0.45000000000000023]
[null,null,null,null,null,null,null,null,null,null,null,null,null,null,null,null,null,null,null,null,null,null,null,46,0.45,0.46000000000000024]
[null,null,null,"Interpolation des enthalpies",null,null,null,null,"Pression (kPa)","Liquide saturé (kJ/kg)","Enthalpie de vaporisation  (kJ/kg)","Vapeur saturée (kJ/kg)",null,null,null,null,null,null,null,null,null,null,null,47,0.46,0.47000000000000025]
[null,null,null,"Pression en dessous de la valeur entrée par l'utilisateur",null,null,null,null,{"$f":"LOOKUP(B56,'Données vapeur'!A5:A60)","v":-1.325},{"$f":"VLOOKUP(I51,'Données vapeur'!A5:E60,3,FALSE)","v":417.46},{"$f":"VLOOKUP(I51,'Données vapeur'!A5:E60,4,FALSE)","v":2258},{"$f":"VLOOKUP(I51,'Données vapeur'!A5:E60,5,FALSE)","v":2675.46},null,null,null,null,null,null,null,null,null,null,null,48,0.47,0.48000000000000026]
[null,null,null,"Pression au dessus de la valeur entrée par l'utilisateur",null,null,null,null,{"$f":"IF((I51-B56)=0,B56,INDEX('Données vapeur'!A5:A60,RANK(LOOKUP('Bilan_3 EE'!B56,'Données vapeur'!A5:A60),'Données vapeur'!A5:A60,1)+1))","v":23.675000000000001},{"$f":"VLOOKUP(I52,'Données vapeur'!A5:E60,3,FALSE)","v":444.32},{"$f":"VLOOKUP(I52,'Données vapeur'!A5:E60,4,FALSE)","v":2241},{"$f":"VLOOKUP(I52,'Données vapeur'!A5:E60,5,FALSE)","v":2685.32},null,null,null,null,null,null,null,null,null,null,null,49,0.48,0.49000000000000027]
[null,null,null,"Valeur pour interpolation",null,null,null,null,{"$f":"B56","v":0},{"$f":"IF(I51=I52,J51,FORECAST(I53,J51:J52,I51:I52))","v":418.88357999999999},{"$f":"IF(I51=I52,K51,FORECAST(I53,K51:K52,I51:I52))","v":2257.0990000000002},{"$f":"IF(I51=I52,L51,FORECAST(I53,L51:L52,I51:I52))","v":2675.9825800000003},null,null,null,null,null,null,null,null,null,null,null,50,0.49,0.50000000000000022]
["ENTHALPIE",null,null,null,null,null,null,null,null,null,null,null,null,null,null,null,null,null,null,null,null,null,null,51,0.5,0.51000000000000023]
["Enthalpie de l'eau alimentée à la chaudière (kJ/kg)",{"$f":"ROUND(IF('Entrée de données'!E49=1,(B47*B46+(1-B47)*B44),B44),3)","v":0},"kJ/kg"," si retour de condensat:  [% condensat * DH du condensat] + [(1-% condensat) * DH de l'eau d'appoint]. \nSinon, c'est égale à la DH d'eau d'appoint",null,null,null,null,null,null,null,null,null,null,null,null,null,null,null,null,null,null,null,52,0.51,0.52000000000000024]
["Pression de la vapeur produite (kPa)",{"$f":"'Entrée de données'!C43","v":0},"kPa","Donnée d'entrée",null,null,null,null,"Interpolation de l'enthalpie surchauffée",null,null,null,"Pression (kPa) Données saturées","Vapeur surchauffée (kJ/kg)",null,null,null,null,null,null,null,null,null,53,0.52,0.53000000000000025]
["Degré de surchauffe",{"$f":"IF('Entrée de données'!E44=\"Non nécessaire\",0,'Entrée de données'!E45)","v":0},"°C",null,null,null,null,null,"Pression en dessous de la valeur entrée par l'utilisateur",null,null,null,{"$f":"LOOKUP(B56,'Données vapeur'!$H$6:$H$31)","v":-1.325},{"$f":"VLOOKUP(M57,'Données vapeur'!$H$6:$M$33,3,FALSE)","v":2679.1811850700001}]
["Enthalpie de la vapeur saturée/surchauffée (kJ/kg)",{"$f":"IF(B57=0,L53,N59)","v":2675.9825800000003},"kJ/kg","Recherche de h en fonction de la pression",null,null,null,null,"Pression au dessus de la valeur entrée par l'utilisateur",null,null,null,{"$f":"IF((M57-B56)=0,B56,INDEX('Données vapeur'!$H$6:$H$31,RANK(LOOKUP(B56,'Données vapeur'!$H$6:$H$31),'Données vapeur'!$H$6:$H$31,1)+1))","v":98.674999999999997},{"$f":"VLOOKUP(M58,'Données vapeur'!$H$6:$M$33,3,FALSE)","v":2713.0964198699999},null,null,null,null,null,null,null,null,null,{"$f":"X56+1","v":54},0.53,{"$f":"Z56+0.01","v":0.54000000000000026}]
["Enthalpie de l'eau saturée (purge) (kJ/kg)",{"$f":"J53","v":418.88357999999999},"kJ/kg",null,null,null,null,null,"Valeur pour interpolation",null,null,null,{"$f":"B56","v":0},{"$f":"IF(M57=M58,N57,FORECAST(M59,N57:N58,M57:M58))","v":2679.6305619311001},null,null,null,null,null,null,null,null,null,55,0.54,0.55000000000000027]
["Enthalpie de vaporisation (kJ/kg)",{"$f":"K53","v":2257.0990000000002},"kJ/kg",null,null,null,null,null,null,null,null,null,null,null,null,null,null,null,null,null,null,null,null,56,0.55000000000000004,0.56000000000000028]
["Purge - % de l'eau alimentée à la chaudière",{"$f":"IF('Mise en forme- input'!C25=TRUE,'Entrée de données'!E100,('Entrée de données'!E52-1)/100)","v":0},null,"Donnée d'entrée",null,null,null,null,null,null,null,null,null,null,null,null,null,null,null,null,null,null,null,57,0.56000000000000005,0.57000000000000028]
[null,null,null,null,null,null,null,null,null,null,null,null,null,null,null,null,null,null,null,null,null,null,null,58,0.56999999999999995,0.58000000000000029]
[null,null,null,null,null,null,null,null,null,null,null,null,null,null,null,null,null,null,null,null,null,null,null,59,0.57999999999999996,0.5900000000000003]
[null,null,null,null,null,null,null,null,null,null,null,null,null,null,null,null,null,null,null,null,null,null,null,60,0.59,0.60000000000000031]
["Production de vapeur",null,null,null,null,null,null,null,null,null,null,null,null,null,null,null,null,null,null,null,null,null,null,61,0.6,0.61000000000000032]
["Eau alimentée à la chaudière",null,null,null,null,null,null,null,null,null,null,null,null,null,null,null,null,null,null,null,null,null,null,62,0.61,0.62000000000000033]
["Quantité d'eau alimentée (lb/h)",{"$f":"ROUND(B68/P9,2)","v":0},"Convertion de la ligne du dessous de kg en lb",null,null,null,null,null,null,null,null,null,null,null,null,null,null,null,null,null,null,null,null,63,0.62,0.63000000000000034]
["Quantité d'eau alimentée (kg/h)",{"$f":"B87/(1-B61)","v":0},null,null,null,null,null,null,null,null,null,null,null,null,null,null,null,null,null,null,null,null,null,64,0.63,0.64000000000000035]
["Eau d'appoint (lb/h)",{"$f":"B67*(1-B47)","v":0}," = eau_alimenté*(1-%condensat)",null,null,null,null,null,null,null,null,null,null,null,null,null,null,null,null,null,null,null,null,65,0.64,0.65000000000000036]
["Eau d'appoint (kg/h)",{"$f":"B68*(1-B47)","v":0},"Convertion",null,null,null,null,null,null,null,null,null,null,null,null,null,null,null,null,null,null,null,null,66,0.65,{"$f":"Z69+0.01","v":0.66000000000000036}]
["Retour de condensat (lb/h)",{"$f":"B67*B47","v":0}," = eau_alimenté * % condensat",null,null,null,null,null,null,null,null,null,null,null,null,null,null,null,null,null,null,null,null,67,0.66,0.67000000000000037]
["Retour de condensat (kg/h)",{"$f":"B68*B47","v":0},"Convertion",null,null,null,null,null,null,null,null,null,null,null,null,null,null,null,null,null,null,null,null,{"$f":"X71+1","v":68},0.67,0.68000000000000038]
["Énergie dans l'eau alimentée (Btu/h)",{"$f":"ROUND(B74*P4,0)","v":0},"Convertion de la ligne du dessous de kW en Btu/h",null,null,null,null,null,null,null,null,null,null,null,null,null,null,null,null,null,null,null,null,{"$f":"X72+1","v":69},0.68,0.69000000000000039]
["Énergie dans l'eau alimentée (kW)",{"$f":"ROUND(B68*B55/3600,0)","v":0},"masse d'eau alimenté *  entalpie de l'eau alimenté ",null,null,null,null,null,null,null,null,null,null,null,null,null,null,null,null,null,null,null,null,70,0.69,0.7000000000000004]
["PURGE",null,null,null,null,null,null,null,null,null,null,null,null,null,null,null,null,null,null,null,null,null,null,71,0.7,0.71000000000000041]
["Quantité d'eau prélevée (lb/h)",{"$f":"ROUND(B67*B61,2)","v":0},"eau alimenté *%purge",null,null,null,null,null,null,null,null,null,null,null,null,null,null,null,null,null,null,null,null,72,0.71,0.72000000000000042]
["Quantité d'eau (kg/h)",{"$f":"ROUND(B76*P9,2)","v":0},"Convertion",null,null,null,null,null,null,null,null,null,null,null,null,null,null,null,null,null,null,null,null,73,0.72,0.73000000000000043]
["Énergie perdue dans la purge (Btu/h)",{"$f":"ROUND(B79*P4,2)","v":0},"Convertion de la ligne du dessous de kW en Btu/h",null,null,null,null,null,null,null,null,null,null,null,null,null,null,null,null,null,null,null,null,74,0.73,0.74000000000000044]
["Énergie perdue dans la purge (kW)",{"$f":"ROUND(B77*(B59)/3600,2)","v":0},"m_eau_purge * entalpie de l'eau de la purge (soit l'enthalpie de l'eau saturée)",null,null,null,null,null,null,null,null,null,null,null,null,null,null,null,null,null,null,null,null,75,0.74,0.75000000000000044]
["Potentiel de récupération (Btu/h)",{"$f":"B78*0.9","v":0},"énergie perdue dans la purge * 90% de récupé",null,null,null,null,"90% de récupération",null,null,null,null,null,null,null,null,null,null,null,null,null,null,null,76,0.75,0.76000000000000045]
["Potentiel de récupération (KW)",{"$f":"B79*0.9","v":0},"Convertion",null,null,null,null,null,null,null,null,null,null,null,null,null,null,null,null,null,null,null,null,77,0.76,0.77000000000000046]
["% de l'énergie alimentée à la chaudière",{"$f":"ROUND(B78/(B30*1000000),4)","v":{"$error":"#DIV/0!"}},"Énergie perdue par la purge / puissance d'opération bruleur",null,null,null,null,"Équation 3.21.1 - Spirax Sarco",null,null,null,null,null,null,null,null,null,null,null,null,null,null,null,78,0.77,0.78000000000000047]
["Vapeur utile",null,null,null,null,null,null,null,null,null,null,null,null,null,null,null,null,null,null,null,null,null,null,79,0.78,0.79000000000000048]
["Quantité produite - incluant évent dégazeur(lb/h)",{"$f":"ROUND(B67-B76,2)","v":0},"quantité d'eau alimenté - quantité d'eau prélevé (soit le % de purge)",null,null,null,null,null,null,null,null,null,null,null,null,null,null,null,null,null,null,null,null,80,0.79,0.80000000000000049]
["Quantité produite - incluant évent dégazeur(kg/h)",{"$f":"ROUND(B68-B77,2)","v":0},"Convertion",null,null,null,null,null,null,null,null,null,null,null,null,null,null,null,null,null,null,null,null,81,0.8,0.8100000000000005]
["Quantité disponible pour les utilisateurs (lb/h)",{"$f":"Bilan_3!B86","v":0},"Les quantités perdues à l'évent du désaérateur sont soustraites",null,null,null,"Valeur qui restera fixe pour tout le calculateur",null,null,null,null,null,null,null,null,null,null,null,null,null,null,null,null,82,0.81,0.82000000000000051]
["Quantité disponible pour les utilisateurs (kg/h)",{"$f":"Bilan_3!B87","v":0},"Convertion",null,null,null,"Valeur qui restera fixe pour tout le calculateur",null,null,null,null,null,null,null,null,null,null,null,null,null,null,null,null,83,0.82,0.83000000000000052]
["Énergie dans la vapeur utile (Btu/h)",{"$f":"Bilan_3!B88","v":0},"Convertion de la ligne du dessous de kW en Btu/h",null,null,null,"Valeur qui restera fixe pour tout le calculateur",null,null,null,null,null,null,null,null,null,null,null,null,null,null,null,null,84,0.83,0.84000000000000052]
["Énergie dans la vapeur utile (kW)",{"$f":"Bilan_3!B89","v":0},"valeur fixe qui doit tjs resté idem peut importe la mesure",null,null,null,"Valeur qui restera fixe pour tout le calculateur",null,null,null,null,null,null,null,null,null,null,null,null,null,null,null,null,85,0.84,0.85000000000000053]
[]
["DÉGAZEUR",null,null,null,null,null,null,null,null,null,null,null,null,null,null,null,null,null,null,null,null,null,null,{"$f":"X89+1","v":86},0.85,{"$f":"Z89+0.01","v":0.86000000000000054}]
["Pression d'opération du dégazeur (kPa)",{"$f":"('Entrée de données'!C56+14.73)*101.235/14.696","v":101.46921271094176},null,null,null,null,null,null,null,null,null,null,null,null,null,null,null,null,null,null,null,null,null,87,0.86,0.87000000000000055]
["Enthalpie de l'eau a la pression du dégazeur (kJ/kg)",{"$f":"T96","v":506.49053150517148},null,null,null,null,null,null,null,null,null,null,null,"Interpolation des enthalpies",null,null,null,null,"Pression (kPa)","Liquide saturé (kJ/kg)","Enthalpie de vaporisation  (kJ/kg)","Vapeur saturée (kJ/kg)",null,88,0.87,0.88000000000000056]
["Besoins en vapeur pour le dégazeur  (lb/h)",{"$f":"ROUND(B95*P10,2)","v":0},"Convertion de la ligne du dessous de kg en lb",null,null,null,"Inclus les pertes par l'évent",null,null,null,null,null,null,"Pression en dessous de la valeur entrée par l'utilisateur",null,null,null,null,{"$f":"LOOKUP(B92,'Données vapeur'!A5:A60)","v":98.674999999999997},{"$f":"VLOOKUP(S94,'Données vapeur'!$A$5:$E$60,3,FALSE)","v":504.7},{"$f":"VLOOKUP(S94,'Données vapeur'!$A$5:$E$60,4,FALSE)","v":2201.9},{"$f":"VLOOKUP(S94,'Données vapeur'!$A$5:$E$60,5,FALSE)","v":2706.6},null,89,0.88,0.89000000000000057]
["Besoins en vapeur pour le dégazeur  (kg/h)",{"$f":"ROUND(IF('Entrée de données'!C55=2,0,B68*((B93-B55)/(B58-B93))),2)","v":0},null,null,null,null,"Inclus les pertes par l'évent",null,null,null,null,null,null,"Pression au dessus de la valeur entrée par l'utilisateur",null,null,null,null,{"$f":"IF((S94-B92)=0,B92,INDEX('Données vapeur'!A5:A60,RANK(LOOKUP('Bilan_3 EE'!B92,'Données vapeur'!A5:A60),'Données vapeur'!A5:A60,1)+1))","v":123.675},{"$f":"VLOOKUP(S95,'Données vapeur'!$A$5:$E$60,3,FALSE)","v":520.72},{"$f":"VLOOKUP(S95,'Données vapeur'!$A$5:$E$60,4,FALSE)","v":2191.3000000000002},{"$f":"VLOOKUP(S95,'Données vapeur'!$A$5:$E$60,5,FALSE)","v":2712.0200000000004},null,90,0.89,0.90000000000000058]
["% Pertes par l'évent (% de la vapeur alimentée)",9.5000000000000001E-2,"Moyenne des données de l'USDOE",null,null,null,null,null,null,null,null,null,null,"Valeur pour interpolation",null,null,null,null,{"$f":"B92","v":101.46921271094176},{"$f":"IF(S94=S95,T94,FORECAST(S96,T94:T95,S94:S95))","v":506.49053150517148},{"$f":"IF(S94=S95,U94,FORECAST(S96,U94:U95,S94:S95))","v":2200.7152538105606},{"$f":"IF(S94=S95,V94,FORECAST(S96,V94:V95,S94:S95))","v":2707.2057853157321},null,91,0.9,0.91000000000000059]
[null,null,null,null,null,null,null,null,null,null,null,null,null,null,null,null,null,null,null,null,null,null,null,92,0.91,0.9200000000000006]
["Vapeur totale au dégazeur (lb/h)",{"$f":"ROUND(B99*P10,2)","v":0},"Convertion",null,null,null,null,null,null,null,null,null,null,null,null,null,null,null,null,null,null,null,null,93,0.92,0.9300000000000006]
["Vapeur totale au dégazeur (kg/h)",{"$f":"B95/(1-B96)","v":0},"besoin de vap au degazeur / (1-% perte par event)",null,null,null,"quantité de vapeur qui reste",null,null,null,null,null,null,null,null,null,null,null,null,null,null,null,null,94,0.93,0.94000000000000061]
["Pertes de vapeur par l'évent (lb/h)",{"$f":"B101*P10","v":0},"Convertion",null,null,null,null,null,null,null,null,null,null,null,null,null,null,null,null,null,null,null,null,95,0.94,0.95000000000000062]
["Pertes de vapeur par l'évent (kg/h)",{"$f":"ROUND(B99-B95,2)","v":0},"vapeur total au dégazeur - besoin en vap pour le dégazeur",null,null,null,"quantité de vapeur qui s'échappe de dégazeur",null,null,null,null,null,null,null,null,null,null,null,null,null,null,null,null,96,0.95,0.96000000000000063]
["Pertes de vapeur par l'évent (%)",{"$f":"(B101*B58/3600)/B29","v":{"$error":"#DIV/0!"}},"Énergie perdue par event / puissance du bruleur en op  = masse de vapeur perdue par l'évent * hv,sat / puissance du bruleur en op",null,null,null,null,null,null,null,null,null,null,null,null,null,null,null,null,null,null,null,null,97,0.96,0.97000000000000064]
["Besoins en vapeur du dégazeur en % de la vapeur produite",{"$f":"B95/B85","v":{"$error":"#DIV/0!"}},"Besoin en vap / quantité de vapeur utile produite",null,null,null,null,null,null,null,null,null,null,null,null,null,null,null,null,null,null,null,null,98,0.97,0.98000000000000065]
[null,null,null,null,null,null,null,null,null,null,null,null,null,null,null,null,null,null,null,null,null,null,null,99,0.98,0.99000000000000066]
["Apport total en vapeur de la chaudière 2 (lb/h)",{"$f":"ROUND(B106*P10,2)","v":0},null,null,null,null,null,null,null,null,null,null,null,null,null,null,null,null,null,null,null,null,null,100,0.99,1.0000000000000007]
["Apport total en vapeur de la chaudière 2 (kg/h)",{"$f":"IF('Entrée de données'!C55=2,0,IF('Entrée de données'!F21=3,'Bilan_1 EE'!P114,IF('Entrée de données'!F21=4,'Bilan_1 EE'!P115,0)))","v":0}]
["Perte de vapeur par l'évent pour la chaudière 2 (lb/h)",{"$f":"B105*B96","v":0},null,"9,5% de pertes"]
["Perte de vapeur par l'évent pour la chaudière 2 (kg/h)",{"$f":"B106*B96","v":0},null,"9,5% de pertes"]
["Pertes de vapeur par l'évent pour la chaudière 2 (%)",{"$f":"(B108*B58/3600)/B29","v":{"$error":"#DIV/0!"}},"Énergie perdue par event / puissance du bruleur en op  = masse de vapeur perdue par l'évent * hv,sat / puissance du bruleur en op"]
["Besoins en vapeur du dégazeur en % de la vapeur produite pour la chaudière 2",{"$f":"B106/B85","v":{"$error":"#DIV/0!"}},"Besoin en vap / quantité de vapeur utile produite"]
["Énergie contenue dans l'évent du dégazeur(kW)",{"$f":"2326*B108/3600","v":0}]
["Vapeur disponible pour les utilisateurs"]
["Quantité de vapeur disponible (lb/h)",{"$f":"B86","v":0}]
["Quantité de vapeur disponible (kg/h)",{"$f":"B87","v":0},null,"exclus les pertes par l'évent"]
[]
[]
[]
["Efficacité de génération de vapeur utile",{"$f":"ROUND((B114/3600)*(B58-B55)/B29,5)","v":{"$error":"#DIV/0!"}}]
["Consommation de gaz naturel par kg/h de vapeur, en m3/(kg/h)",{"$f":"ROUND(B31/B114,5)","v":{"$error":"#DIV/0!"}},"m3 de gaz alimenté / masse de vapeur utile produite"]
[]
[]
[]
[null,null,null,"Efficacité = énergie dispo dans vapeur / puissance du bruleur en oper"]
[null,null,null,"Efficacité = masse vapeur dispo * DH / puissance du bruleur en oper"]
[null,null,null,"Efficacité = masse vapeur dispo * (hV,sat - hL) / puissance du bruleur en oper"]

{"sheet":"Comb_4","index":29,"n_rows":215,"n_cols":23,"rows_kept":215,"cut":false,"hidden":true,"merged":[[4,9,4,11],[4,12,4,20],[5,9,5,11],[5,12,5,14],[5,15,5,17],[5,18,5,20],[6,3,6,4],[6,5,6,8],[7,5,7,8],[29,9,29,11],[47,0,47,9],[47,11,47,18],[192,7,192,9],[198,7,198,9],[204,7,204,9],[210,7,210,9],[49,3,49,8],[73,0,73,6],[73,8,73,13],[74,3,74,6],[74,11,74,13],[75,12,75,13]]}
[]
[null,null,null,null,"EFFICACITE","%",{"$f":"1-(G4/(G5+ABS(L28)))","v":0.82756709960948083}]
[]
[null,null,null,null,"Hout","J / mol gaz",{"$f":"U28","v":152567.31373295138}]
["BILAN THERMIQUE",null,null,null,"Hin","J / mol gaz",{"$f":"O28+R28","v":-822.93324283140009},null,null,"PROPRIÉTÉ DU GAZ",null,null,"CALCUL ÉNERGIE"]
[null,null,null,null,null,null,null,null,null,"GAZ ****",null,null,"GAZ",null,null,"AIR",null,null,"FUMEE"]
[null,null,"Masse","* Enthalpie (J / mol)",null,"* Chaleur Spécifique (J / mol oC)",null,null,null,"M","Densité","PCS ou","T (oC) =",{"$f":"'Entrée de données'!F37","v":20},null,"T (oC) =",{"$f":"'Entrée de données'!F35","v":20},null,"T (oC) =",{"$f":"'Entrée de données'!F34","v":200}]
[null,null,"Molaire","Formation","Combustion","Cp = a + bTx102 + cT2105 + dT3*109",null,null,null,"Mélange","Mélange","HHV","Débit","Cpmoy","H","Débit","Cpmoy","H","Débit","Cpmoy","H"]
["État gazeux sauf si indication",null,"g / mol",null,null,"a","b","c","d","g / mol","kg / m3","J / mol gaz","mol / mol gaz","J / mol oC","J / mol gaz","mol / mol gaz","J / mol oC","J / mol gaz","mol / mol gaz","J / mol oC","J / mol gaz"]
["Oxygène","O2",32,0,0,29.1,1.1579999999999999,-0.60760000000000003,1.3109999999999999,{"$f":"M10*C10","v":0},{"$f":"(101325*(C10/1000))/(8.3144*288.7056)*M10","v":0},{"$f":"M10*E10","v":0},{"$f":"C55/100","v":0},{"$f":"AVERAGE($F10+$G10/100*N$7+$H10/100000*N$7^2+$I10/1000000000*N$7^3,$F10+$G10/100*$B$29+$H10/100000*$B$29^2+$I10/1000000000*$B$29^3)","v":29.357451536187501},{"$f":"M10*N10*(N$7-$B$29)","v":0},{"$f":"CD92","v":0},{"$f":"AVERAGE($F10+$G10/100*Q$7+$H10/100000*Q$7^2+$I10/1000000000*Q$7^3,$F10+$G10/100*$B$29+$H10/100000*$B$29^2+$I10/1000000000*$B$29^3)","v":29.357451536187501},{"$f":"P10*Q10*(Q$7-$B$29)","v":0},{"$f":"Comb_4!L84","v":0.5967840000000002},{"$f":"AVERAGE($F10+$G10/100*T$7+$H10/100000*T$7^2+$I10/1000000000*T$7^3,$F10+$G10/100*$B$29+$H10/100000*$B$29^2+$I10/1000000000*$B$29^3)","v":30.2845854921875},{"$f":"S10*T10*(T$7-$B$29)","v":3162.8373119646853}]
["Monoxide de carbone","CO",28.010999999999999,-110520,-282990,28.95,0.41099999999999998,0.3548,-2.2200000000000002,0,0,0,{"$f":"C56/100","v":0},{"$f":"AVERAGE($F11+$G11/100*N$7+$H11/100000*N$7^2+$I11/1000000000*N$7^3,$F11+$G11/100*$B$29+$H11/100000*$B$29^2+$I11/1000000000*$B$29^3)","v":29.044267126249999},{"$f":"M11*N11*(N$7-$B$29)","v":0},null,{"$f":"AVERAGE($F11+$G11/100*Q$7+$H11/100000*Q$7^2+$I11/1000000000*Q$7^3,$F11+$G11/100*$B$29+$H11/100000*$B$29^2+$I11/1000000000*$B$29^3)","v":29.044267126249999},{"$f":"P11*Q11*(Q$7-$B$29)","v":0},null,29.475546406249997,{"$f":"S11*T11*(T$7-$B$29)","v":0}]
["Dioxide de carbone","CO2",44.011000000000003,-393500,0,36.11,4.2329999999999997,-2.887,7.4640000000000004,0.14963740000000003,6.3164148191036497E-3,0,{"$f":"C57/100","v":3.4000000000000002E-3},37.0477172935,{"$f":"M12*N12*(N$7-$B$29)","v":-0.62981119398950003},null,37.0477172935,{"$f":"P12*Q12*(Q$7-$B$29)","v":0},{"$f":"Comb_4!L82","v":1.00386},40.315617437499995,{"$f":"S12*T12*(T$7-$B$29)","v":7082.4662511415299}]
["Hydrogène","H2",2.016,0,-285840,28.84,7.6499999999999997E-3,0.32879999999999998,-0.86980000000000002,0,0,0,{"$f":"C58/100","v":0},28.843396075487497,{"$f":"M13*N13*(N$7-$B$29)","v":0},null,28.843396075487497,{"$f":"P13*Q13*(Q$7-$B$29)","v":0},null,28.911907754687498,{"$f":"S13*T13*(T$7-$B$29)","v":0}]
["Eau (v)","H20 (v)",18.015000000000001,-241830,0,33.46,0.68799999999999994,0.76039999999999996,-3.593,0,0,0,{"$f":"C59/100","v":0},33.618654607687503,{"$f":"M14*(V14+N14*(N$7-$B$29))","v":0},{"$f":"D93","v":1.0939348676877604E-2},33.618654607687503,{"$f":"P14*(V14+Q14*(Q$7-$B$29))","v":442.91132888313081},{"$f":"Comb_4!L86-S15","v":1.9885793486768779},34.3740561796875,{"$f":"((S14-G93)*$V$14)+(S14*T14*(T$7-$B$29))","v":92365.151033607443},40656,"Enthalpie vaporisation (J/mol)"]
["Eau (l)","H2O (l)",18.015000000000001,-285840,0,75.400000000000006,0,0,0,0,0,0,0,75.400000000000006,{"$f":"M15*N15*(N$7-$B$29)","v":0},null,75.400000000000006,{"$f":"P15*Q15*(Q$7-$B$29)","v":0},{"$f":"Comb_4!L96","v":0},75.400000000000006,{"$f":"S15*T15*(T$7-$B$29)","v":0}]
["Sulfure d'hydrogène","H2S",34.076000000000001,-19960,-562590,33.51,1.5469999999999999,0.30120000000000002,-3.2919999999999998,0,0,0,{"$f":"C60/100","v":0},33.859579763249997,0,null,33.859579763249997,0,null,35.29836253125,0]
["Méthane","CH4",16.042999999999999,-74850,-890360,34.31,5.4690000000000003,0.36609999999999998,-11,15.32539661,0.64690753953252877,-850534.19720000005,0.95527000000000006,35.542271325000002,-169.76232764316379,null,35.542271325000002,0,null,40.492903124999998,0]
["Éthane","C2H6",30.07,-84670,-1559900,49.37,13.92,-5.8159999999999998,7.28,0.62064480000000011,2.6198330177613489E-2,-32196.336000000003,2.0640000000000002E-2,52.472278994999996,-5.4151391922840002,null,52.472278994999996,0,null,63.877801874999989,0]
["Propane","C3H8",44.097000000000001,-103800,-2220000,68.031999999999996,22.59,-13.11,31.71,5.1593490000000006E-2,2.1778371236420568E-3,-2597.4,1.17E-3,73.047935824375003,-0.42733042457259374,null,73.047935824375003,0,null,90.909868984374995,0]
["Butane","C4H10",58.124000000000002,-134500,-2868800,89.46,30.13,-18.91,49.87,0,0,0,0,96.142925339374983,0,null,96.142925339374983,0,null,119.71502585937499,0]
["** i-Butane","C4H10",58.124000000000002,{"$f":"D20","v":-134500},{"$f":"E20","v":-2868800},89.46,30.13,-18.91,49.87,2.9062000000000003E-3,1.2267497796192013E-4,-143.44,5.0000000000000002E-5,96.142925339374983,-2.4035731334843748E-2,null,96.142925339374983,0,null,119.71502585937499,0]
["n-Butane","C4H10",58.124000000000002,-124700,-2878500,92.3,27.88,-15.47,34.979999999999997,2.9062000000000003E-3,1.2267497796192013E-4,-143.92500000000001,5.0000000000000002E-5,98.494129451249989,-2.4623532362812499E-2,null,98.494129451249989,0,null,120.66284953125,0]
["Pentane","C5H12",72.150000000000006,-152000,-35292000,114.8,34.090000000000003,-18.989999999999998,42.26,0,0,0,{"$f":"CC67/100","v":0},122.37342544625,0,null,122.37342544625,0,null,149.46327640625,0]
["Octane","C8H18",114.23,-208400,-5512200,-5.8307000000000002,4.4541000000000004,-0.42080000000000001,1.2629999999999999,0,0,0,{"$f":"C68/100","v":0},-4.8306691808125004,0,null,-4.8306691808125004,0,null,-0.90025063281249973,0]
["*** iso-Octane","Ch8H18i",114.23,{"$f":"D24","v":-208400},{"$f":"E24","v":-5512200},-5.8307000000000002,4.4541000000000004,-0.42080000000000001,1.2629999999999999,0,0,0,{"$f":"C69/100","v":0},-4.8306691808125004,0,null,-4.8306691808125004,0,null,-0.90025063281249973,0]
["Azote","N2",28.013000000000002,0,0,29,0.21990000000000001,0.57230000000000003,-2.871,0.54401246000000003,2.2963566355209533E-2,0,{"$f":"C70/100","v":1.942E-2},29.052376623812499,{"$f":"M26*N26*(N$7-$B$29)","v":-2.8209857701721934},{"$f":"D91","v":7.4812490027815137},29.052376623812499,-1086.7403182266512,{"$f":"Comb_4!L81","v":9.7256237036159696},29.352129507812499,{"$f":"S26*T26*(T$7-$B$29)","v":49956.859136237726}]
["Hélium","He",4.0020600000000002,0,0,20.8,0,0,0,0,0,0,{"$f":"CC71/100","v":0},20.8,0,null,20.8,0,null,20.8,0]
[null,null,null,null,null,null,null,null,"SOMME",{"$f":"SUM(J10:J27)","v":16.697097160000002},{"$f":"SUM(K10:K27)","v":0.70480903796402139},{"$f":"SUM(L10:L27)","v":-885615.29820000008},{"$f":"SUM(M10:M27)","v":1},null,{"$f":"SUM(O10:O27)","v":-179.10425348787973},{"$f":"SUM(P10:P27)","v":7.4921883514583909},null,{"$f":"SUM(R10:R27)","v":-643.82898934352033},{"$f":"SUM(S10:S27)","v":13.314847052292848},null,{"$f":"SUM(U10:U27)","v":152567.31373295138}]
["* Référence. Patm, T =",25,"oC"]
["** Hyp. Même propriétés que Butane",null,null,null,null,null,null,null,null,"Pouvoir Calorifique Supérieur"]
["*** Hyp. Même que Octane",null,null,null,null,null,null,null,null,null,{"$f":"ABS(L28/1000)","v":885.6152982000001},"kJ / mol"]
["**** À Patm et T = 15.6 oC (14.7 psi et 60 F)",null,null,null,null,null,null,null,null,null,{"$f":"K31/(J28/1000)","v":53040.075751706296},"kJ / kg"]
[null,null,null,null,null,null,null,null,null,null,{"$f":"(K32/1000)*K28","v":37.38312476409893},"MJ / m3"]
["Référence"]
["Elementary Principles of Chemical Processes",null,null,null,null,null,null,null,null,null,{"$f":"(K33*1000)/1.055*0.02832","v":1003.4977187860492},"BTU / ft3"]
["Wiley Series in Chemical Engineering, Second Edition",null,null,null,null,null,null,null,null,null,{"$f":"(K32/1.055)*0.4536","v":22804.71882556775},"BTU / lbm"]
["R M Felder et R W Rousseau",null,null,null,null,null,null,null,null,null,{"$f":"K35/7.4814","v":134.13234405138732},"BTU / gal"]
[]
[]
[]
[]
[null,null,null,null,null,"Constitution de l'air sec"]
[null,null,null,null,"Azote",0.78995048751598307]
[null,null,null,null,"Oxygène",{"$f":"1-F43","v":0.21004951248401693}]
["BILAN MASSIQUE",null,null,null,"Autres",0]
[]
[]
["CALCUL DE LA COMBUSTION STOÉCHIOMÉTRIQUE",null,null,null,null,null,null,null,null,null,null,"Masse H2 par livre de combustible"]
[]
[null,null,"COMPOSITION","GAZ DE COMBUSTION STOÉCHIOMÉTRIQUE",null,null,null,null,null,null,null,null,"Masse d'hydrogène dans une livre de combustible (lb/lb)",null,null,null,{"$f":"(4*N53+6*N55+8*N56+10*N57+10*N58)/(N53*O53+N54*O54+N55*O55+N56*O56+N57*O57+N58*O58+N59*O59)","v":0.23688428965217811}]
[null,null,"(mol / 100 mol gaz)","CO2","H2O","SO2","He","N2","TOTAL","O2 requis"]
["GAZ (ÉTAT GAZEUX)",null,null,null,null,null,null,null,null,null,null,null,"Compo","% mol","masse molaire"]
[null,"TOTAL",{"$f":"SUM(C55:C71)","v":100},{"$f":"SUM(D55:D71)","v":1.00386},1.9776400000000003,0,0,1.942E-2,3.0009200000000003,1.9892799999999999,null,null,"CH4",{"$f":"C61","v":95.527000000000001},{"$f":"C17","v":16.042999999999999}]
[null,null,null,null,null,null,null,null,null,null,null,null,"CO2",{"$f":"C57","v":0.34},{"$f":"C12","v":44.011000000000003}]
["Oxygène","O2",0,null,null,null,null,null,{"$f":"SUM(D55:H55)","v":0},{"$f":"-C55/100","v":0},null,null,"C2H6",{"$f":"C62","v":2.0640000000000001},{"$f":"C18","v":30.07}]
["Monoxide de carbone","CO",0,{"$f":"C56/100","v":0},null,null,null,null,0,{"$f":"D56+E56/2+F56","v":0},null,null,"C3H8",{"$f":"C63","v":0.11700000000000001},{"$f":"C19","v":44.097000000000001}]
["Dioxide de carbone","CO2",0.34,{"$f":"C57/100","v":3.4000000000000002E-3},null,null,null,null,3.4000000000000002E-3,0,null,null,"C4H10",{"$f":"C65","v":5.0000000000000001E-3},{"$f":"C21","v":58.124000000000002}]
["Hydrogène","H2",0,null,{"$f":"C58/100","v":0},null,null,null,0,{"$f":"D58+E58/2+F58","v":0},null,null,"C4H10",{"$f":"C66","v":5.0000000000000001E-3},{"$f":"C22","v":58.124000000000002}]
["Eau (l)","H2O (l)",0,null,{"$f":"C59/100","v":0},null,null,null,0,0,null,null,"N2",{"$f":"C70","v":1.9419999999999999},{"$f":"C26","v":28.013000000000002}]
["Sulfure d'hydrogène","H2S",0,null,{"$f":"C60/100","v":0},{"$f":"C60/100","v":0},null,null,0,0]
["Méthane","CH4",95.527000000000001,{"$f":"C61/100","v":0.95527000000000006},{"$f":"C61/100*2","v":1.9105400000000001},null,null,null,2.8658100000000002,1.9105400000000001]
["Éthane","C2H6",2.0640000000000001,{"$f":"C62*2/100","v":4.1280000000000004E-2},{"$f":"C62/100*3","v":6.1920000000000003E-2},null,null,null,0.10320000000000001,7.2239999999999999E-2]
["Propane","C3H8",0.11700000000000001,{"$f":"C63*3/100","v":3.5100000000000005E-3},{"$f":"C63/100*4","v":4.6800000000000001E-3},null,null,null,8.1900000000000011E-3,5.850000000000001E-3]
["Butane","C4H10",0,{"$f":"C64*4/100","v":0},{"$f":"C64/100*5","v":0},null,null,null,0,0]
["** i-Butane","C4H10",5.0000000000000001E-3,{"$f":"C65*4/100","v":2.0000000000000001E-4},{"$f":"C65/100*5","v":2.5000000000000001E-4},null,null,null,4.4999999999999999E-4,3.2499999999999999E-4]
["n-Butane","C4H10",5.0000000000000001E-3,{"$f":"C66*4/100","v":2.0000000000000001E-4},{"$f":"C66/100*5","v":2.5000000000000001E-4},null,null,null,4.4999999999999999E-4,3.2499999999999999E-4]
["Pentane","C5H12",0,{"$f":"C67*5/100","v":0},{"$f":"C67/100*6","v":0},null,null,null,0,0]
["Octane","C8H18",0,{"$f":"C68*8/100","v":0},{"$f":"C68/100*9","v":0},null,null,null,0,0]
["*** iso-Octane","Ch8H18i",0,{"$f":"C69*8/100","v":0},{"$f":"C69/100*9","v":0},null,null,null,0,0]
["Azote","N2",1.9419999999999999,null,null,null,null,{"$f":"C70/100","v":1.942E-2},1.942E-2,0]
["Hélium","He",0,null,null,null,{"$f":"C71/100","v":0},null,0,0]
[]
[]
["AIR DE COMBUSTION",null,null,null,null,null,null,null,"FUMÉES"]
[null,null,null,"MASSIQUE",null,null,null,null,null,null,null,"MASSIQUE"]
[null,null,null,"% O2","% EA","% CO2","RÉSULTATS",null,null,null,null,null,"Proportion (%)"]
[null,null,null,false,true,false,null,null,null,null,null,"(mol / mol gaz)","Base Hum","Base Sec"]
[null,null,null,{"$f":"IF(D77,1,\"-\")","v":"-"},{"$f":"IF(E77,2,\"-\")","v":2},{"$f":"IF(F77,3,\"-\")","v":"-"},{"$f":"AVERAGE(D78:F78)","v":2}]
["Calcul de l'excès d'air (base sèche)",null,null,{"$f":"D87/D84","v":0},{"$f":"Bilan_4!B13","v":0.3000000000000001},{"$f":"F86/F83","v":{"$error":"#DIV/0!"}},{"$f":"INDEX(D79:F79,G$78)","v":0.3000000000000001},null,"TOTAL",null,"mol / mol gas",{"$f":"SUM(L81:L86)","v":13.314847052292846},{"$f":"SUM(M81:M86)","v":1.0000000000000002},{"$f":"SUM(N81:N86)","v":1}]
["Oxygène dans les fumées (base sèche)",null,null,0,{"$f":"E86/(E83*($F$43/$F$44)+I53-E53+E86/$F$44)","v":5.260007287260339E-2},{"$f":"F86/(F83*($F$43/$F$44)+I53-E53+F86/$F$44)","v":{"$error":"#DIV/0!"}},{"$f":"INDEX(D80:F80,G$78)","v":5.260007287260339E-2}]
["Dioxide de carbone dans les fumées",null,null,{"$f":"$N$82","v":8.8631138365157361E-2},{"$f":"N82","v":8.8631138365157361E-2},null,{"$f":"INDEX(D81:F81,G$78)","v":8.8631138365157361E-2},null,"Azote",null,"mol / mol gas",{"$f":"G91","v":9.7256237036159696},{"$f":"L81/$L$79","v":0.73043450408551225},{"$f":"L81/($L$79-$L$86)","v":0.85867860076369329}]
[null,null,null,null,null,null,null,null,"Dioxide de carbone",null,"mol / mol gas",{"$f":"D53","v":1.00386},7.5394031644331436E-2,{"$f":"L82/($L$79-$L$86)","v":8.8631138365157361E-2}]
["Oxygène stoéchiométrique",null,"mol / mol gas",{"$f":"$J$53","v":1.9892799999999999},{"$f":"$J$53","v":1.9892799999999999},{"$f":"$J$53","v":1.9892799999999999},{"$f":"INDEX(D83:F83,G$78)","v":1.9892799999999999},null,"Dioxide de soufre",null,"mol / mol gas",{"$f":"F53","v":0},0,{"$f":"L83/($L$79-$L$86)","v":0}]
["Air stoéchiométrique",null,"mol / mol gas",{"$f":"D83/$F$44","v":9.4705290027815128},{"$f":"E83/$F$44","v":9.4705290027815128},{"$f":"F83/$F$44","v":9.4705290027815128},{"$f":"INDEX(D84:F84,G$78)","v":9.4705290027815128},null,"Oxygène",null,"mol / mol gas",{"$f":"G86","v":0.5967840000000002},4.4820942941078148E-2,{"$f":"L84/($L$79-$L$86)","v":5.2690260871149447E-2}]
[null,null,null,null,null,null,null,null,"Hélium",null,"mol / mol gas",{"$f":"G53","v":0},0,{"$f":"L85/($L$79-$L$86)","v":0}]
["Excès oxygène",null,"mol / mol gas",{"$f":"D80/(1-D80/$F$44)*(($I$53-$E$53)+D83*$F$43/$F$44)","v":0},{"$f":"E83*$E$79","v":0.5967840000000002},{"$f":"(D53/F81-(I53-E53)-F83*(F43/F44))/(1+F43/F44)","v":{"$error":"#DIV/0!"}},{"$f":"INDEX(D86:F86,G$78)","v":0.5967840000000002},null,"Eau (liquide et vapeur)",null,"mol / mol gas",{"$f":"G93+E53","v":1.9885793486768779},0.14935052132907828,0]
["Excès air",null,"mol / mol gas",{"$f":"D86/F44","v":0},{"$f":"E84*$E$79","v":2.841158700834455},{"$f":"F86/F44","v":{"$error":"#DIV/0!"}},{"$f":"INDEX(D87:F87,G$78)","v":2.841158700834455},null,"Condensation (liquide)",null,"mol / mol gas",{"$f":"L96","v":0},0,1]
[null,null,null,null,null,null,null,null,"Molecular weight",null,"g/mol",null,{"$f":"M81*28+M82*44+M83*64+M84*32+M86*18","v":27.892083064782838}]
["Air de combustion",null,"mol / mol gas",{"$f":"SUM(D91:D93)","v":9.4814683514583926},{"$f":"SUM(E91:E93)","v":12.322627052292848},{"$f":"SUM(F91:F93)","v":{"$error":"#DIV/0!"}},{"$f":"INDEX(D89:F89,G$78)","v":12.322627052292848},null,"Condensation des fumées",null,null,{"$f":"IF(L91<L92,\"VRAI\",\"FAUX\")","v":"FAUX"}]
[null,null,null,null,null,null,null,null,"Humidité (sans condensation)",null,"mol / mol fumées",{"$f":"E53+G93","v":1.9885793486768779}]
["Azote",null,"mol / mol gas",{"$f":"D92*($F$43/$F$44)","v":7.4812490027815137},{"$f":"E92*($F$43/$F$44)","v":9.7256237036159696},{"$f":"F92*($F$43/$F$44)","v":{"$error":"#DIV/0!"}},{"$f":"INDEX(D91:F91,G$78)","v":9.7256237036159696},null,"Température des fumées",null,"oC",{"$f":"T7","v":200}]
["Oxygène",null,"mol / mol gas",{"$f":"D83+D86","v":1.9892799999999999},{"$f":"E83+E86","v":2.5860640000000004},{"$f":"F83+F86","v":{"$error":"#DIV/0!"}},{"$f":"INDEX(D92:F92,G$78)","v":2.5860640000000004},null,"Point de rosée",null,"oC",{"$f":"E135","v":54.109354987309082}]
["Vapeur d'eau",null,"mol / mol gas",{"$f":"E114*Comb_4!D84","v":1.0939348676877604E-2},{"$f":"E114*Comb_4!E84","v":1.0939348676877604E-2},{"$f":"E114*Comb_4!F84","v":1.0939348676877604E-2},{"$f":"INDEX(D93:F93,G$78)","v":1.0939348676877604E-2},null,"Flue gas density",null,"lb/cu ft"]
[null,null,null,null,null,null,null,null,"Saturation (Tfumées)",null,"mol / mol fumées",{"$f":"E128","v":0.17557234216192982},"Fumées sèches"]
["Humidité",null,null,null,null,null,null,null,"Condensation",null,"mol / mol fumées",{"$f":"E139","v":0}]
["Humidité relative",null,null,0.05,null,null,null,null,null,null,"mol / mol gas",{"$f":"E140","v":0}]
["Point de rosée",null,"oC",{"$f":"IF(D96<>0,E118,\"-\")","v":{"$error":"#N/A"}}]
[]
[]
[]
[]
[null,null,"PRESSION ATMOSPHÉRIQUE",null,null,null,null,"TABLE VAPEUR SATURÉE"]
[null,null,"Altitude","FASL",200,"Mtl = 200",null,"Tsat (oC)","Psat (Pa)","Tsat (oC)"]
[null,null,"Pression barométrique","po Hg",{"$f":"29.9269-0.001020817*E103+0.000000011*E103^2-0.0000000000005118678*E103^3","v":29.723172505057601},null,null,0,610.48326959999986,{"$f":"H104","v":0}]
[null,null,"Pression barométrique","Pa",101312.5,{"$f":"E104*3370","v":100167.09134204412},null,2,705.80878559999985,2]
[null,null,null,null,null,null,null,4,813.39996239999994,4]
[null,null,"AIR DE COMBUSTION",null,null,null,null,6,934.98999119999985,6]
[null,null,"Température","oC",{"$f":"N7","v":20},null,null,8,1072.5787079999998,8]
[null,null,"Humidité relative",null,0.05,null,null,10,1227.7659815999998,10]
[null,null,null,null,null,null,null,12,1402.2850031999999,12]
[null,null,"Pression saturation","Pa",{"$f":"IF(E108<0,0.09*6895,I196)","v":2337.8082839999997},null,null,14,1598.1356087999998,14]
[null,null,"Pression vapeur eau","Pa",{"$f":"E109*E111","v":116.8904142},null,null,16,1817.7176015999999,16]
[null,null,null,null,null,null,null,18,2063.4307847999999,18]
[null,null,"H2O / Air sec","mol / mol",{"$f":"E112/(E105-E112)","v":1.1550937306315937E-3},null,null,20,2337.8082839999997,20]
[null,null,"H2O / Air sec","lb / lb",{"$f":"E114*18.02/28.95","v":7.1899098535341342E-4},null,null,22,2643.3832247999999,22]
[null,null,null,null,null,null,null,24,2983.3553447999998,24]
[null,null,"H2O / Air humide","mol / mol",{"$f":"E112/E105","v":1.1537610285009253E-3},null,null,26,3360.9243815999998,26]
[null,null,"Température de rosée","oC",{"$f":"H202","v":{"$error":"#N/A"}},null,null,28,3779.5567175999995,28]
[null,null,null,null,null,null,null,30,4242.8520576000001,30]
[null,null,"FUMÉES",null,null,null,null,32,4754.6767511999988,32]
[null,null,"Température","oC",{"$f":"T7","v":200},null,null,34,5319.2971152,34]
[null,null,null,null,null,null,null,36,5941.2461112000001,36]
[null,null,"Fumées totales","mol / mol gaz",{"$f":"L79","v":13.314847052292846},null,null,38,6625.0567007999998,38]
[null,null,"Humidité (H2O)","mol / mol gaz",{"$f":"L90","v":1.9885793486768779},"sans condensation",null,40,7375.9284575999991,40]
[null,null,null,null,null,null,null,42,8199.3275999999987,42]
[null,null,"Pression vapeur","Pa",{"$f":"E131*E105","v":15131.074692152242},null,null,44,9100.5870240000004,44]
[null,null,null,null,null,null,null,46,10085.83956,46]
[null,null,"H2O / Air sec","mol / mol",{"$f":"E124/(E123-E124)","v":0.17557234216192982},"Mair",null,48,11160.418103999998,48]
[null,null,"H2O / Air sec","lb / lb",{"$f":"E128*18.02/F129","v":0.11221720402747558},{"$f":"(M81*28+M82*48+M83*64+M84*32+M85*4+M86*18)","v":28.193659191360162},null,50,12333.655224,50]
[null,null,null,null,null,null,null,55,15737.376096,55]
[null,null,"H2O / Air humide","mol / mol",{"$f":"E124/E123","v":0.14935052132907828},null,null,60,19915.700111999999,60]
[null,null,"H2O / mol gas","mol / mol",{"$f":"E131*E123","v":1.9885793486768777},null,null,65,25003.282895999997,65]
[null,null,null,null,null,null,null,70,31157.444879999995,70]
[null,null,"Condensation",null,{"$f":"IF(E135>E121,\"VRAI\",\"FAUX\")","v":"FAUX"},null,null,75,38543.505839999998,75]
[null,null,"Point de rosée","oC",{"$f":"H208","v":54.109354987309082},null,null,80,47342.784240000001,80]
[null,null,null,null,null,null,null,85,57808.592639999995,85]
[null,null,"Pression saturation","Pa",{"$f":"I214","v":1553800},null,null,90,70095.585023999985,90]
[null,null,"Contenu H2O à saturation","mol / mol fumées",{"$f":"IF(E134=\"VRAI\",E137/E105,\"-\")","v":"-"},null,null,91,72800.696519999983,91]
[null,null,"Condensation","mol / mol fumées",{"$f":"IF(E134=\"VRAI\",E131-E138,0)","v":0},null,null,92,75592.467575999995,92]
[null,null,"Condensation","mol / mol gaz",{"$f":"IF(E134=\"VRAI\",E139*E123,0)","v":0},null,null,93,78473.564639999997,93]
[null,null,"Condensation","g / mol gaz",{"$f":"IF(E134=\"VRAI\",E140*18,0)","v":0},null,null,94,81446.654159999991,94]
[null,null,null,null,null,null,null,95,84513.069359999994,95]
[null,null,"Humidité Relative des Fumées",null,{"$f":"IF(E134=\"VRAI\",1,IF(E121<100,E126/E137,\"N / A\"))","v":"N / A"},null,null,96,87675.476687999995,96]
[null,null,null,null,null,null,null,97,90935.209367999996,97]
[null,null,null,null,null,null,null,98,94294.933847999986,98]
[null,null,null,null,null,null,null,99,97757.316575999997,99]
[null,null,null,null,null,null,null,100,101325.02399999999,100]
[null,null,null,null,null,null,null,105,120820,105]
[null,null,null,null,null,null,null,110,143270,110]
[null,null,null,null,null,null,null,115,169060,115]
[null,null,null,null,null,null,null,120,198530,120]
[null,null,null,null,null,null,null,125,232100,125]
[null,null,null,null,null,null,null,130,270100,130]
[null,null,null,null,null,null,null,135,313000,135]
[null,null,null,null,null,null,null,140,361300,140]
[null,null,null,null,null,null,null,145,415400,145]
[null,null,null,null,null,null,null,150,475800,150]
[null,null,null,null,null,null,null,155,543100,155]
[null,null,null,null,null,null,null,160,617800,160]
[null,null,null,null,null,null,null,165,700500,165]
[null,null,null,null,null,null,null,170,791700,170]
[null,null,null,null,null,null,null,175,892000,175]
[null,null,null,null,null,null,null,180,1002100,180]
[null,null,null,null,null,null,null,185,1122700,185]
[null,null,null,null,null,null,null,190,1254400,190]
[null,null,null,null,null,null,null,195,1397800,195]
[null,null,null,null,null,null,null,200,1553800,200]
[null,null,null,null,null,null,null,205,1723000,{"$f":"H168","v":205}]
[null,null,null,null,null,null,null,210,1906200,210]
[null,null,null,null,null,null,null,215,2104000,215]
[null,null,null,null,null,null,null,220,2318000,220]
[null,null,null,null,null,null,null,225,2548000,225]
[null,null,null,null,null,null,null,230,2795000,230]
[null,null,null,null,null,null,null,235,3060000,235]
[null,null,null,null,null,null,null,240,3344000,240]
[null,null,null,null,null,null,null,245,3648000,245]
[null,null,null,null,null,null,null,250,3973000,250]
[null,null,null,null,null,null,null,255,4319000,255]
[null,null,null,null,null,null,null,260,4688000,260]
[null,null,null,null,null,null,null,265,5081000,265]
[null,null,null,null,null,null,null,270,5499000,270]
[null,null,null,null,null,null,null,275,5942000,275]
[null,null,null,null,null,null,null,280,6412000,280]
[null,null,null,null,null,null,null,285,6909000,285]
[null,null,null,null,null,null,null,290,7436000,290]
[null,null,null,null,null,null,null,295,7993000,295]
[null,null,null,null,null,null,null,300,8581000,300]
[null,null,null,null,null,null,null,320,11274000,320]
[null,null,null,null,null,null,null,340,14586000,340]
[null,null,null,null,null,null,null,360,18651000,360]
[null,null,null,null,null,null,null,374.14,22090000,374.14]
[]
[null,null,null,null,null,null,null,"Psat AIR COMBUSTION"]
[null,null,null,null,null,null,null,"T","Psat"]
[null,null,null,null,null,null,null,{"$f":"VLOOKUP(E108,H104:I191,1)","v":20},{"$f":"VLOOKUP(H195,$H$104:$I$191,2)","v":2337.8082839999997},{"$f":"MATCH(H195,H104:H191,1)","v":11}]
[null,null,null,null,null,null,null,{"$f":"E108","v":20},{"$f":"I195+((H196-H195)/(H197-H195))*(I197-I195)","v":2337.8082839999997}]
[null,null,null,null,null,null,null,{"$f":"INDEX(H104:H191,J197)","v":22},{"$f":"VLOOKUP(H197,$H$104:$I$191,2)","v":2643.3832247999999},{"$f":"J195+1","v":12}]
[]
[null,null,null,null,null,null,null,"CALCUL ROSÉE AIR COMB"]
[null,null,null,null,null,null,null,"T","Psat"]
[null,null,null,null,null,null,null,{"$f":"VLOOKUP(I201,$I$104:$J$191,2)","v":{"$error":"#N/A"}},{"$f":"VLOOKUP(I202,I104:J191,1)","v":{"$error":"#N/A"}},{"$f":"MATCH(H201,H104:H191,1)","v":{"$error":"#N/A"}}]
[null,null,null,null,null,null,null,{"$f":"H201+(I202-I201)/(I203-I201)*(H203-H201)","v":{"$error":"#N/A"}},{"$f":"E117*E105","v":116.8904142}]
[null,null,null,null,null,null,null,{"$f":"INDEX(H104:H191,J203)","v":{"$error":"#N/A"}},{"$f":"VLOOKUP(H203,H104:I191,2)","v":{"$error":"#N/A"}},{"$f":"J201+1","v":{"$error":"#N/A"}}]
[]
[null,null,null,null,null,null,null,"TEMP. CONDENSATION FUMÉE"]
[null,null,null,null,null,null,null,"T","Psat"]
[null,null,null,null,null,null,null,{"$f":"VLOOKUP(I207,$I$104:$J$191,2)","v":50},{"$f":"VLOOKUP(E126,I104:J191,1)","v":12333.655224},{"$f":"MATCH(H207,H104:H191,1)","v":26}]
[null,null,null,null,null,null,null,{"$f":"H207+(I208-I207)/(I209-I207)*(H209-H207)","v":54.109354987309082},{"$f":"E126","v":15131.074692152242}]
[null,null,null,null,null,null,null,{"$f":"INDEX(H104:H191,J209)","v":55},{"$f":"VLOOKUP(H209,H104:I191,2)","v":15737.376096},{"$f":"J207+1","v":27}]
[]
[null,null,null,null,null,null,null,"CALCUL FUMÉES"]
[null,null,null,null,null,null,null,"T","Psat"]
[null,null,null,null,null,null,null,{"$f":"VLOOKUP(H214,H104:I191,1)","v":200},{"$f":"VLOOKUP(H213,$H$104:$I$191,2)","v":1553800},{"$f":"MATCH(H213,H104:H191,1)","v":64}]
[null,null,null,null,null,null,null,{"$f":"E121","v":200},{"$f":"I213+((H214-H213)/(H215-H213))*(I215-I213)","v":1553800}]
[null,null,null,null,null,null,null,{"$f":"INDEX(H104:H191,J215)","v":205},{"$f":"VLOOKUP(H215,$H$104:$I$191,2)","v":1723000},{"$f":"J213+1","v":65}]

{"sheet":"Bilan_4","index":30,"n_rows":125,"n_cols":27,"rows_kept":125,"cut":false,"hidden":true,"merged":[[35,6,35,8],[20,3,20,6],[21,3,21,6],[22,3,22,6],[23,3,23,6],[34,6,34,8],[55,8,55,11],[57,3,59,6],[36,6,36,8],[49,3,49,7],[50,3,50,7],[51,3,51,7],[52,3,52,7],[54,3,54,12]]}
["Formulaire de calcul",null,null,null,null,null,null,null,null,null,null,null,null,"Unités et paramètres de calculs",null,null,null,null,null,null,null,null,null,null,"Quantité de purge","Excès d'air"]
[null,null,null,null,null,null,null,null,null,null,null,null,null,null,null,null,null,null,null,null,"Numéro correspondant à sélection dans entrée de données",null,null,null,{"$f":"'Entrée de données'!F52","v":1},{"$f":"'Entrée de données'!F36","v":30},{"$f":"'Entrée de données'!F25","v":1}]
[null,"Type de chaudière:",{"$f":"VLOOKUP(AA2,X4:AA7,4)","v":"Tubes de fumées"},null,null,null,null,null,null,null,null,null,null,null,"Conversion",null,null,null,null,null,null,null,null,"Numéro","% Purge","% Exces d'air","Type de chaudière"]
[null,null,null,null,null,null,null,null,null,null,null,null,null,null,"1kW = ",{"$f":"1000000/293.07","v":3412.1540928788345},"Btu/h",null,null,null,null,null,null,1,0,0.01,"Tubes de fumées"]
["OUTPUT:",null,null,null,null,null,null,null,null,null,null,null,null,null,"1 Btu/h =",2.9306999999999998E-4,"kW",null,null,null,null,null,null,{"$f":"X4+1","v":2},0.01,{"$f":"Z4+0.01","v":0.02},"Tubes d'eau"]
["Puissance maximale du brûleur ",{"$f":"'Entrée de données'!F27","v":0},"kW","Donnée d'entrée",null,null,null,null,null,null,null,null,null,null,"1 kJ/kg=",0.42992999999999998,"Btu/lb",null,null,null,null,null,null,{"$f":"X5+1","v":3},0.02,{"$f":"Z5+0.01","v":0.03},"À serpentin"]
["Puissance maximale de production de vapeur  de la chaudière",{"$f":"'Entrée de données'!F29","v":0},"kW","Donnée d'entrée",null,null,null,null,null,null,null,null,null,null,"1 Btu =",1.0549999999999999E-3,"MJ",null,null,null,null,null,null,{"$f":"X6+1","v":4},0.03,0.04,"Sans tube"]
["Puissance maximale de production de vapeur  de la chaudière ",{"$f":"ROUND(B7*P4/1000000,2)","v":0},"millions Btu/h","Simple calcul de conversion des kw en btu/h",null,null,null,null,null,null,null,null,null,null,"1 MJ = ",{"$f":"1/P7","v":947.8672985781991},"Btu",null,null,null,null,null,null,{"$f":"X7+1","v":5},0.04,0.05]
["Puissance moyenne de production de vapeur  de la chaudière en opération ",{"$f":"'Entrée de données'!F32","v":0},"kW","Donnée d'entrée","ATTENTION: Ce n'est pas juste pour la vapeur dispo. C'est aussi de l'énergie qui sera perdu par les purges",null,null,null,null,null,null,null,null,null,"1 lb =",0.45359237000000002,"kg",null,null,null,null,null,null,6,0.05,6.0000000000000005E-2]
["Puissance moyenne de production de vapeur  de la chaudière en opération ",{"$f":"ROUND(B9*P4/1000000,2)","v":0},"millions Btu/h","Données entrée converti en btu/h",null,null,null,null,null,null,null,null,null,null,"1 kg =",{"$f":"1/P9","v":2.2046226218487757},"lb",null,null,null,null,null,null,7,0.06,7.0000000000000007E-2]
[null,null,null,null,null,null,null,null,null,null,null,null,null,null,null,null,null,null,null,null,null,null,null,8,7.0000000000000007E-2,0.08]
["INFO POUR CALCUL DE L'EFFICACITÉ",null,null,null,null,null,null,null,null,null,null,null,null,null,null,null,null,null,null,null,null,null,null,9,0.08,0.09]
["Excès d'air",{"$f":"VLOOKUP(Z2,X4:Z105,3)","v":0.3000000000000001},null,"Donnée d'entrée",null,null,null,null,null,null,null,null,null,null,null,null,null,null,null,null,null,null,null,10,0.09,9.9999999999999992E-2]
["Température des fumées (°F)",{"$f":"ROUND(('Entrée de données'!F34)*1.8+32,1)","v":392},"°F","Donnée entrée convertie en °F au lieu de °C",null,null,null,null,null,null,null,null,null,null,null,null,null,null,"Pertes par radiation et convection",null,null,null,null,11,0.1,0.10999999999999999]
["Température de l'air de combustion (°F)",{"$f":"ROUND(('Entrée de données'!F35*1.8+32),1)","v":68},"°F","Donnée entrée convertie en °F au lieu de °C",null,null,null,null,null,null,null,null,null,null,null,null,null,null,"Puissance maximale  kW","Puissance maximale millions Btu/h","% de Pertes","à 100% de la charge",null,12,0.11,0.11999999999999998]
["Température de l'eau d'appoint (°C)",{"$f":"'Entrée de données'!C48","v":0},"°C","Donnée d'entrée (idem pour toutes les chaudières de la centrale)",null,null,null,null,null,null,null,null,null,null,null,null,null,null,null,null,null,null,null,13,0.12,0.12999999999999998]
[null,null,null,null,null,null,null,null,null,null,null,null,null,null,null,null,null,"Inférieure à 5 millions Btu/h","Inférieure à 1465",{"$f":"IF(B8<5,B8, \"\")","v":0},{"$f":"IF($B$8<5,$V$88/($B$10/#REF!),\"\")","v":{"$error":"#REF!"}},{"$f":"IF($B$8<5,$V$89,\"\")","v":0},null,14,0.13,0.13999999999999999]
["CALCUL DE L'EFFICACITÉ DE CHAUFFE : 100%-perte fumée - perte radiation",null,null,null,null,null,null,null,null,null,null,null,null,null,null,null,null,null,{"$f":"T18*$P$5*1000000","v":1465.35},5,{"$f":"V18/($B$10/T18)","v":{"$error":"#DIV/0!"}},2.5999999999999999E-2,null,15,0.14000000000000001,0.15]
["1. Perte par les fumée",{"$f":"1-Comb_4!G2","v":0.17243290039051917},null,null,null,null,null,null,null,null,null,null,null,null,null,null,null,null,{"$f":"T19*$P$5*1000000","v":2930.7},10,{"$error":"#DIV/0!"},1.6E-2,null,16,0.15,0.16]
["2. Perte par radiation:",null,null,null,null,null,null,null,null,null,null,null,null,null,null,null,null,null,5861.4,20,{"$error":"#DIV/0!"},1.0500000000000001E-2,null,17,0.16,0.17]
["Pertes par radiation et convection",null,null,"Interpolation des pertes par radiation et convection",null,null,null,"Puissance (millions Btuh)","Pertes à 100%",null,null,null,null,null,null,null,null,null,8792.0999999999985,30,{"$error":"#DIV/0!"},8.3999999999999995E-3,null,18,0.17,0.18000000000000002]
["Pertes calculées pour une chaudière de ",{"$f":"IF(B8<T18,T17,B8)","v":0},"millions Btu/h","Puissance en dessous",null,null,null,{"$f":"IF(B8<5,B8,LOOKUP(B8,T18:T42))","v":0},{"$f":"ROUND(IF(H22<5,V17, VLOOKUP(H24,T18:V42,3,TRUE)),4)","v":0},null,null,null,null,null,null,null,null,null,11722.8,40,{"$error":"#DIV/0!"},7.3000000000000001E-3,null,19,0.18,0.19000000000000003]
[null,{"$f":"I24/(B9/B7)","v":{"$error":"#DIV/0!"}},null,"Puissance au dessus",null,null,null,{"$f":"IF(B8<T18,B8,INDEX(T18:T42,RANK(LOOKUP(B8,T18:T42),T18:T42,1)+1))","v":0},{"$f":"ROUND(IF(H23<5,V17, VLOOKUP(H23,T18:V42,3,TRUE)),4)","v":0},null,null,null,null,null,null,null,null,null,14653.5,50,{"$error":"#DIV/0!"},6.6E-3,null,20,0.19,0.20000000000000004]
[null,null,null,"Valeur pour interpolation",null,null,null,{"$f":"B8","v":0},{"$f":"ROUND(IF(H22=H23,AVERAGE(I22,I23),FORECAST(H24,I22:I23,H22:H23)),4)","v":0},null,null,null,null,null,null,null,null,null,17584.199999999997,60,{"$error":"#DIV/0!"},6.1999999999999998E-3,null,21,0.2,0.21000000000000005]
[null,null,null,null,null,null,null,null,null,null,null,null,null,null,null,null,null,null,20514.899999999998,70,{"$error":"#DIV/0!"},5.8999999999999999E-3,null,22,0.21,0.22000000000000006]
["Efficacité de chauffe",{"$f":"1-B19-B23","v":{"$error":"#DIV/0!"}},{"$f":"(B19+B23)-1","v":{"$error":"#DIV/0!"}},null,null,null,null,null,null,null,null,null,null,null,null,null,null,null,23445.599999999999,80,{"$error":"#DIV/0!"},5.5999999999999999E-3,null,23,0.22,0.23000000000000007]
[null,null,null,null,null,null,null,null,null,null,null,null,null,null,null,null,null,null,26376.3,90,{"$error":"#DIV/0!"},5.4000000000000003E-3,null,24,0.23,0.24000000000000007]
["INPUT",null,null,null,null,null,null,null,null,null,null,null,null,null,null,null,null,null,29307,100,{"$error":"#DIV/0!"},5.1999999999999998E-3,null,25,0.24,0.25000000000000006]
["Puissance du brûleur en opération ",{"$f":"B30*1000000*P5","v":{"$error":"#DIV/0!"}},"kW","Convertion de B30 en kw",null,null,null,null,null,null,null,null,null,null,null,null,null,null,35168.399999999994,120,{"$error":"#DIV/0!"},4.7999999999999996E-3,null,26,0.25,0.26000000000000006]
["Puissance du brûleur en opération ",{"$f":"B10/B26","v":{"$error":"#DIV/0!"}},"millions Btu/h","Puissance moyenne production vapeur / efficacité",null,null,null,null,null,null,null,null,null,null,null,null,null,null,41029.799999999996,140,{"$error":"#DIV/0!"},4.4999999999999997E-3,null,27,0.26,0.27000000000000007]
["Volume de gaz naturel alimenté ",{"$f":"ROUND(B30*10^6/J37,2)","v":{"$error":"#DIV/0!"}},"m3/h","Convertion de la puissance en opération du bruleur de kw en m3 de gaz",null,null,null,null,null,null,null,null,null,null,null,null,null,null,46891.199999999997,160,{"$error":"#DIV/0!"},4.3E-3,null,28,0.27,0.28000000000000008]
["Nombre de moles totales pour le volume de gaz",{"$f":"ROUND(B31/(8.31451*(273.15+'Entrée de données'!F37)/101325),1)","v":{"$error":"#DIV/0!"}},"mol/h","PV=nRT => n=PV/RT",null,null,null,null,null,null,null,null,null,null,null,null,null,null,52752.6,180,{"$error":"#DIV/0!"},4.0000000000000001E-3,null,29,0.28000000000000003,0.29000000000000009]
[null,null,null,null,null,null,null,null,null,null,null,null,null,null,null,null,null,null,58614,200,{"$error":"#DIV/0!"},3.8E-3,null,30,0.28999999999999998,0.3000000000000001]
["Quantité de fumées produites",null,null,null,null,null,null,null,null,null,null,null,null,null,null,null,null,null,87921,300,{"$error":"#DIV/0!"},3.3999999999999998E-3,null,31,0.3,0.31000000000000011]
[null,"masse molaire (g/mol)","mol","masse(lb/h)","masse (kg/h)",null,"Masse d'hydrogène dans une livre de combustible (lb/lb)",null,null,{"$f":"Comb_4!Q50","v":0.23688428965217811},null,null,null,null,null,null,null,null,117228,400,{"$error":"#DIV/0!"},3.0000000000000001E-3,null,32,0.31,0.32000000000000012]
["CO2",{"$f":"Comb_4!C12","v":44.011000000000003},{"$f":"Comb_4!L82*B32","v":{"$error":"#DIV/0!"}},{"$f":"ROUND(C36*B36/($P$9*1000),1)","v":{"$error":"#DIV/0!"}},{"$f":"ROUND(C36*B36/1000,1)","v":{"$error":"#DIV/0!"}},null,"1m3 gaz naturel (MJ)",null,null,37.89,null,null,null,null,null,null,null,null,146535,500,{"$error":"#DIV/0!"},2.8E-3,null,33,0.32,0.33000000000000013]
["H2O",{"$f":"Comb_4!C14","v":18.015000000000001},{"$f":"Comb_4!L86*B32","v":{"$error":"#DIV/0!"}},{"$f":"ROUND(C37*B37/($P$9*1000),1)","v":{"$error":"#DIV/0!"}},{"$f":"ROUND(C37*B37/1000,1)","v":{"$error":"#DIV/0!"}},null,"1m3 gaz naturel (btu)",null,null,{"$f":"J36*P8","v":35914.691943127968},null,null,null,null,null,null,null,null,293070,1000,{"$error":"#DIV/0!"},2.3E-3,null,34,0.33,0.34000000000000014]
["O2",{"$f":"Comb_4!C10","v":32},{"$f":"Comb_4!L84*Bilan_4!B32","v":{"$error":"#DIV/0!"}},{"$error":"#DIV/0!"},{"$error":"#DIV/0!"},null,null,null,null,null,null,null,null,null,null,null,null,null,586140,2000,{"$error":"#DIV/0!"},1.9499999999999999E-3,null,35,0.34,0.35000000000000014]
["N2",{"$f":"Comb_4!C26","v":28.013000000000002},{"$f":"Comb_4!L81*B32","v":{"$error":"#DIV/0!"}},{"$error":"#DIV/0!"},{"$error":"#DIV/0!"},null,null,null,null,null,null,null,null,null,null,null,null,null,1172280,4000,{"$error":"#DIV/0!"},1.75E-3,null,36,0.35,0.36000000000000015]
["Total (humide)",null,{"$f":"SUM(C36:C39)","v":{"$error":"#DIV/0!"}},{"$f":"SUM(D36:D39)","v":{"$error":"#DIV/0!"}},{"$f":"SUM(E36:E39)","v":{"$error":"#DIV/0!"}},null,null,null,null,null,null,null,null,null,null,null,null,null,1758419.9999999998,6000,{"$error":"#DIV/0!"},1.6000000000000001E-3,null,37,0.36,0.37000000000000016]
["Total (sec)",null,{"$f":"SUM(C36,C38:C39)","v":{"$error":"#DIV/0!"}},{"$f":"D40-D37","v":{"$error":"#DIV/0!"}},{"$f":"SUM(E36,E38:E39)","v":{"$error":"#DIV/0!"}},null,null,null,null,null,null,null,null,null,null,null,null,null,2930700,10000,{"$error":"#DIV/0!"},1.5E-3,null,38,0.37,0.38000000000000017]
[null,null,null,null,null,null,null,null,null,null,null,null,null,null,null,null,null,null,5861400,20000,{"$error":"#DIV/0!"},1.5E-3,null,39,0.38,0.39000000000000018]
["CONDENSAT",null,null,null,null,null,null,null,null,null,null,null,null,null,null,null,null,null,null,null,null,null,null,40,0.39,0.40000000000000019]
["Enthalpie de l'eau d'appoint (kJ/kg)",{"$f":"ROUND(4.18*(B16),3)","v":0},"kJ/kg","Cp*DT",null,null,null,null,null,null,null,null,null,null,null,null,null,null,null,null,null,null,null,41,0.4,0.4100000000000002]
["Température du condensat (°C)",{"$f":"IF(('Entrée de données'!F49=2),\"0\",('Entrée de données'!F51))","v":100},"°C  ","Donnée d'entrée",null,null,null,null,null,null,null,null,null,null,null,null,null,null,null,null,null,null,null,42,0.41,0.42000000000000021]
["Enthalpie du condensat (kJ/kg)",{"$f":"IF('Entrée de données'!F49=2,\"0\",4.18*(B45))","v":418},"kJ/kg ","Cp*DT",null,null,null,null,null,null,null,null,null,null,null,null,null,null,null,null,null,null,null,43,0.42,0.43000000000000022]
["% de condensat",{"$f":"IF('Entrée de données'!F49=1,'Entrée de données'!F50,0)","v":0},null,"Donnée d'entrée",null,null,null,null,null,null,null,null,null,null,null,null,null,null,null,null,null,null,null,44,0.43,0.44000000000000022]
["T°de l'eau alimentée à la chaudière (°C)",{"$f":"IF('Entrée de données'!F49=1,(B47*B45+(1-B47)*B16),B16)","v":0},"°C ","si retour de condensat: [% condensat * T° du condensat] + [(1-% condensat) * T°de l'eau d'appoint]. Sinon, c'est égale à la T° d'eau d'appoint",null,null,null,null,null,null,null,null,null,null,null,null,null,null,null,null,null,null,null,45,0.44,0.45000000000000023]
[null,null,null,null,null,null,null,null,null,null,null,null,null,null,null,null,null,null,null,null,null,null,null,46,0.45,0.46000000000000024]
[null,null,null,"Interpolation des enthalpies",null,null,null,null,"Pression (kPa)","Liquide saturé (kJ/kg)","Enthalpie de vaporisation  (kJ/kg)","Vapeur saturée (kJ/kg)",null,null,null,null,null,null,null,null,null,null,null,47,0.46,0.47000000000000025]
[null,null,null,"Pression en dessous de la valeur entrée par l'utilisateur",null,null,null,null,{"$f":"LOOKUP(B56,'Données vapeur'!A5:A60)","v":-1.325},{"$f":"VLOOKUP(I51,'Données vapeur'!A5:E60,3,FALSE)","v":417.46},{"$f":"VLOOKUP(I51,'Données vapeur'!A5:E60,4,FALSE)","v":2258},{"$f":"VLOOKUP(I51,'Données vapeur'!A5:E60,5,FALSE)","v":2675.46},null,null,null,null,null,null,null,null,null,null,null,48,0.47,0.48000000000000026]
[null,null,null,"Pression au dessus de la valeur entrée par l'utilisateur",null,null,null,null,{"$f":"IF((I51-B56)=0,B56,INDEX('Données vapeur'!A5:A60,RANK(LOOKUP(Bilan_4!B56,'Données vapeur'!A5:A60),'Données vapeur'!A5:A60,1)+1))","v":23.675000000000001},{"$f":"VLOOKUP(I52,'Données vapeur'!A5:E60,3,FALSE)","v":444.32},{"$f":"VLOOKUP(I52,'Données vapeur'!A5:E60,4,FALSE)","v":2241},{"$f":"VLOOKUP(I52,'Données vapeur'!A5:E60,5,FALSE)","v":2685.32},null,null,null,null,null,null,null,null,null,null,null,49,0.48,0.49000000000000027]
[null,null,null,"Valeur pour interpolation",null,null,null,null,{"$f":"B56","v":0},{"$f":"IF(I51=I52,J51,FORECAST(I53,J51:J52,I51:I52))","v":418.88357999999999},{"$f":"IF(I51=I52,K51,FORECAST(I53,K51:K52,I51:I52))","v":2257.0990000000002},{"$f":"IF(I51=I52,L51,FORECAST(I53,L51:L52,I51:I52))","v":2675.9825800000003},null,null,null,null,null,null,null,null,null,null,null,50,0.49,0.50000000000000022]
["ENTHALPIE",null,null,null,null,null,null,null,null,null,null,null,null,null,null,null,null,null,null,null,null,null,null,51,0.5,0.51000000000000023]
["Enthalpie de l'eau alimentée à la chaudière (kJ/kg)",{"$f":"ROUND(IF('Entrée de données'!F49=1,(B47*B46+(1-B47)*B44),B44),3)","v":0},"kJ/kg"," si retour de condensat:  [% condensat * DH du condensat] + [(1-% condensat) * DH de l'eau d'appoint]. \nSinon, c'est égale à la DH d'eau d'appoint",null,null,null,null,null,null,null,null,null,null,null,null,null,null,null,null,null,null,null,52,0.51,0.52000000000000024]
["Pression de la vapeur produite (kPa)",{"$f":"'Entrée de données'!C43","v":0},"kPa","Donnée d'entrée",null,null,null,null,"Interpolation de l'enthalpie surchauffée",null,null,null,"Pression (kPa) Données saturées","Vapeur surchauffée (kJ/kg)",null,null,null,null,null,null,null,null,null,53,0.52,0.53000000000000025]
["Degré de surchauffe",{"$f":"IF('Entrée de données'!F44=\"Non nécessaire\",0,'Entrée de données'!F45)","v":0},"°C","Donnée d'entrée",null,null,null,null,"Pression en dessous de la valeur entrée par l'utilisateur",null,null,null,{"$f":"LOOKUP(B56,'Données vapeur'!$H$6:$H$31)","v":-1.325},{"$f":"VLOOKUP(M57,'Données vapeur'!$H$6:$M$33,3,FALSE)","v":2679.1811850700001}]
["Enthalpie de la vapeur saturée/surchauffée (kJ/kg)",{"$f":"IF(B57=0,L53,N59)","v":2675.9825800000003},"kJ/kg","Recherche de h en fonction de la pression",null,null,null,null,"Pression au dessus de la valeur entrée par l'utilisateur",null,null,null,{"$f":"IF((M57-B56)=0,B56,INDEX('Données vapeur'!$H$6:$H$31,RANK(LOOKUP(B56,'Données vapeur'!$H$6:$H$31),'Données vapeur'!$H$6:$H$31,1)+1))","v":98.674999999999997},{"$f":"VLOOKUP(M58,'Données vapeur'!$H$6:$M$33,3,FALSE)","v":2713.0964198699999},null,null,null,null,null,null,null,null,null,{"$f":"X56+1","v":54},0.53,{"$f":"Z56+0.01","v":0.54000000000000026}]
["Enthalpie de l'eau saturée (purge) (kJ/kg)",{"$f":"J53","v":418.88357999999999},"kJ/kg",null,null,null,null,null,"Valeur pour interpolation",null,null,null,{"$f":"B56","v":0},{"$f":"IF(M57=M58,N57,FORECAST(M59,N57:N58,M57:M58))","v":2679.6305619311001},null,null,null,null,null,null,null,null,null,55,0.54,0.55000000000000027]
["Enthalpie de vaporisation (kJ/kg)",{"$f":"K53","v":2257.0990000000002},"kJ/kg",null,null,null,null,null,null,null,null,null,null,null,null,null,null,null,null,null,null,null,null,56,0.55000000000000004,0.56000000000000028]
["Purge - % de l'eau alimentée à la chaudière",{"$f":"VLOOKUP(Y2,X4:Y105,2)","v":0},null,"Donnée d'entrée",null,null,null,null,null,null,null,null,null,null,null,null,null,null,null,null,null,null,null,{"$f":"X60+1","v":57},0.56000000000000005,{"$f":"Z60+0.01","v":0.57000000000000028}]
[null,null,null,null,null,null,null,null,null,null,null,null,null,null,null,null,null,null,null,null,null,null,null,58,0.56999999999999995,0.58000000000000029]
[null,null,null,"Q vapeur produite = mvap*Dhvap + mpurge * DH purge",null,null,null,null,null,null,null,null,null,null,null,null,null,null,null,null,null,null,null,59,0.57999999999999996,0.5900000000000003]
[null,null,null,"Q vapeur produite = m_eau_alimenté *(1 - %Purge) * (hV,sat - hL)  + m_eau_alimenté * %Purge * (hL,sat - hL)",null,null,null,null,null,null,null,null,null,null,null,null,null,null,null,null,null,null,null,60,0.59,0.60000000000000031]
["Production de vapeur",null,null,"<=> m_eau_alimenté = Q vapeur produite / [(1-%Purge)*(hV,sat - hL) + %Purge *(hL,sat - hL)]",null,null,null,null,null,null,null,null,null,null,null,null,null,null,null,null,null,null,null,61,0.6,0.61000000000000032]
["Eau alimentée à la chaudière",null,null,null,null,null,null,null,null,null,null,null,null,null,null,null,null,null,null,null,null,null,null,62,0.61,0.62000000000000033]
["Quantité d'eau alimentée (lb/h)",{"$f":"ROUND(B68/P9,2)","v":0},"Convertion de la ligne du dessous de kg en lb",null,null,null,null,null,null,null,null,null,null,null,null,null,null,null,null,null,null,null,null,63,0.62,0.63000000000000034]
["Quantité d'eau alimentée (kg/h)",{"$f":"ROUND(B9*3600/((1-B61)*(B58-B55)+B61*(B59-B55)),2)","v":0},null,null,null,null,null,null,null,null,null,null,null,null,null,null,null,null,null,null,null,null,null,64,0.63,0.64000000000000035]
["Eau d'appoint (lb/h)",{"$f":"B67*(1-B47)","v":0}," = eau_alimenté*(1-%condensat)",null,null,null,null,null,null,null,null,null,null,null,null,null,null,null,null,null,null,null,null,65,0.64,0.65000000000000036]
["Eau d'appoint (kg/h)",{"$f":"B68*(1-B47)","v":0},"Convertion",null,null,null,null,null,null,null,null,null,null,null,null,null,null,null,null,null,null,null,null,66,0.65,{"$f":"Z69+0.01","v":0.66000000000000036}]
["Retour de condensat (lb/h)",{"$f":"B67*B47","v":0}," = eau_alimenté * % condensat",null,null,null,null,null,null,null,null,null,null,null,null,null,null,null,null,null,null,null,null,67,0.66,0.67000000000000037]
["Retour de condensat (kg/h)",{"$f":"B68*B47","v":0},"Convertion",null,null,null,null,null,null,null,null,null,null,null,null,null,null,null,null,null,null,null,null,{"$f":"X71+1","v":68},0.67,0.68000000000000038]
["Énergie dans l'eau alimentée (Btu/h)",{"$f":"ROUND(B74*P4,0)","v":0},"Convertion de la ligne du dessous de kW en Btu/h",null,null,null,null,null,null,null,null,null,null,null,null,null,null,null,null,null,null,null,null,{"$f":"X72+1","v":69},0.68,0.69000000000000039]
["Énergie dans l'eau alimentée (kW)",{"$f":"ROUND(B68*B55/3600,0)","v":0},"masse d'eau alimenté *  entalpie de l'eau alimenté (à 20°C en générale)",null,null,null,null,null,null,null,null,null,null,null,null,null,null,null,null,null,null,null,null,70,0.69,0.7000000000000004]
["PURGE",null,null,null,null,null,null,null,null,null,null,null,null,null,null,null,null,null,null,null,null,null,null,71,0.7,0.71000000000000041]
["Quantité d'eau prélevée (lb/h)",{"$f":"ROUND(B67*B61,2)","v":0},"eau alimenté *%purge",null,null,null,null,null,null,null,null,null,null,null,null,null,null,null,null,null,null,null,null,72,0.71,0.72000000000000042]
["Quantité d'eau (kg/h)",{"$f":"ROUND(B76*P9,2)","v":0},"Convertion",null,null,null,null,null,null,null,null,null,null,null,null,null,null,null,null,null,null,null,null,73,0.72,0.73000000000000043]
["Énergie perdue dans la purge (Btu/h)",{"$f":"ROUND(B79*P4,2)","v":0},"Convertion de la ligne du dessous de kW en Btu/h",null,null,null,null,null,null,null,null,null,null,null,null,null,null,null,null,null,null,null,null,74,0.73,0.74000000000000044]
["Énergie perdue dans la purge (kW)",{"$f":"ROUND(B77*(B59)/3600,2)","v":0},"m_eau_purge * entalpie de l'eau de la purge (soit l'enthalpie de l'eau saturée)",null,null,null,null,null,null,null,null,null,null,null,null,null,null,null,null,null,null,null,null,75,0.74,0.75000000000000044]
["Potentiel de récupération (Btu/h)",{"$f":"B78*0.9","v":0},"énergie perdue dans la purge * 90% de récupé",null,null,null,null,"90% de récupération",null,null,null,null,null,null,null,null,null,null,null,null,null,null,null,76,0.75,0.76000000000000045]
["Potentiel de récupération (KW)",{"$f":"B79*0.9","v":0},"Convertion",null,null,null,null,null,null,null,null,null,null,null,null,null,null,null,null,null,null,null,null,77,0.76,0.77000000000000046]
["% de l'énergie alimentée à la chaudière",{"$f":"ROUND(B78/(B30*1000000),4)","v":{"$error":"#DIV/0!"}},"Énergie perdue par la purge / puissance d'opération bruleur",null,null,null,null,"Équation 3.21.1 - Spirax Sarco",null,null,null,null,null,null,null,null,null,null,null,null,null,null,null,78,0.77,0.78000000000000047]
["Vapeur utile",null,null,null,null,null,null,null,null,null,null,null,null,null,null,null,null,null,null,null,null,null,null,79,0.78,0.79000000000000048]
["Quantité produite - incluant évent dégazeur(lb/h)",{"$f":"ROUND(B67-B76,2)","v":0},"quantité d'eau alimenté - quantité d'eau prélevé (soit le % de purge)",null,null,null,null,null,null,null,null,null,null,null,null,null,null,null,null,null,null,null,null,80,0.79,0.80000000000000049]
["Quantité produite - incluant évent dégazeur(kg/h)",{"$f":"ROUND(B68-B77,2)","v":0},"Convertion",null,null,null,null,null,null,null,null,null,null,null,null,null,null,null,null,null,null,null,null,81,0.8,0.8100000000000005]
["Quantité disponible pour les utilisateurs (lb/h)",{"$f":"B84-B107","v":0},"Les quantités perdues à l'évent du désaérateur sont soustraites",null,null,"Valeur qui restera fixe pour tout le calculateur",null,null,null,null,null,null,null,null,null,null,null,null,null,null,null,null,null,82,0.81,0.82000000000000051]
["Quantité disponible pour les utilisateurs (kg/h)",{"$f":"B85-B108","v":0},"Convertion",null,null,"Valeur qui restera fixe pour tout le calculateur",null,null,null,null,null,null,null,null,null,null,null,null,null,null,null,null,null,83,0.82,0.83000000000000052]
["Énergie dans la vapeur utile (Btu/h)",{"$f":"ROUND(B89*P4,2)","v":0},"Convertion de la ligne du dessous de kW en Btu/h",null,null,"Valeur qui restera fixe pour tout le calculateur",null,null,null,null,null,null,null,null,null,null,null,null,null,null,null,null,null,84,0.83,0.84000000000000052]
["Énergie dans la vapeur utile (kW)",{"$f":"ROUND(B87*B58/3600,0)","v":0},"quantité dispo de vap *entalpie de la vapeur",null,null,"Valeur qui restera fixe pour tout le calculateur",null,null,null,null,null,null,null,null,null,null,null,null,null,null,null,null,null,85,0.84,0.85000000000000053]
[]
["DEGAZEUR de la centrale"," Un dégazeur est un dispositif destiné à éliminer l'oxygène ou d'autres gaz dissous dans l'eau remplissant les circuits des chaudières",null,null,null,null,null,null,null,null,null,null,null,null,null,null,null,null,null,null,null,null,null,{"$f":"X89+1","v":86},0.85,{"$f":"Z89+0.01","v":0.86000000000000054}]
["Pression d'opération du dégazeur (kPa)",{"$f":"Bilan_1!B92","v":101.46921271094176},null,null,null,null,null,null,null,null,null,null,null,null,null,null,null,null,null,null,null,null,null,87,0.86,0.87000000000000055]
["Enthalpie de l'eau à la pression du dégazeur (kJ/kg)",{"$f":"Bilan_1!B93","v":506.49053150517148},null,null,null,null,null,null,"Interpolation des enthalpies",null,"Pression (kPa)","Liquide saturé (kJ/kg)","Enthalpie de vaporisation  (kJ/kg)","Vapeur saturée (kJ/kg)",null,null,null,null,null,null,null,null,null,88,0.87,0.88000000000000056]
["Besoins en vapeur pour le dégazeur  (lb/h)",{"$f":"Bilan_1!B94","v":0},"Convertion de la ligne du dessous de kg en lb",null,null,null,"Inclus les pertes par l'évent",null,"Pression en dessous de la valeur entrée par l'utilisateur",null,{"$f":"LOOKUP(B92,'Données vapeur'!A5:A60)","v":98.674999999999997},{"$f":"VLOOKUP(K94,'Données vapeur'!$A$5:$E$60,3,FALSE)","v":504.7},{"$f":"VLOOKUP(K94,'Données vapeur'!$A$5:$E$60,4,FALSE)","v":2201.9},{"$f":"VLOOKUP(K94,'Données vapeur'!$A$5:$E$60,5,FALSE)","v":2706.6},null,null,null,null,null,null,null,null,null,89,0.88,0.89000000000000057]
["Besoins en vapeur pour le dégazeur  (kg/h)",{"$f":"Bilan_1!B95","v":0},"m_eau alim *  [( h_dégazeur - heau_alim ) / (hv,sat - h_dégazeur)  ]   /!\\ Si c'est de la vapeur surchauffé, il faut utiliser hv_surchauffe au lieu de hv,sat",null,null,null,"Inclus les pertes par l'évent",null,"Pression au dessus de la valeur entrée par l'utilisateur",null,{"$f":"IF((K94-B92)=0,B92,INDEX('Données vapeur'!A5:A60,RANK(LOOKUP(Bilan_4!B92,'Données vapeur'!A5:A60),'Données vapeur'!A5:A60,1)+1))","v":123.675},{"$f":"VLOOKUP(K95,'Données vapeur'!$A$5:$E$60,3,FALSE)","v":520.72},{"$f":"VLOOKUP(K95,'Données vapeur'!$A$5:$E$60,4,FALSE)","v":2191.3000000000002},{"$f":"VLOOKUP(K95,'Données vapeur'!$A$5:$E$60,5,FALSE)","v":2712.0200000000004},null,null,null,null,null,null,null,null,null,90,0.89,0.90000000000000058]
["% Pertes par l'évent (% de la vapeur alimentée)",9.5000000000000001E-2,"Moyenne des données de l'USDOE",null,null,null,null,null,"Valeur pour interpolation",null,{"$f":"B92","v":101.46921271094176},{"$f":"IF(K94=K95,L94,FORECAST(K96,L94:L95,K94:K95))","v":506.49053150517148},{"$f":"IF(K94=K95,M94,FORECAST(K96,M94:M95,K94:K95))","v":2200.7152538105606},{"$f":"IF(K94=K95,N94,FORECAST(K96,N94:N95,K94:K95))","v":2707.2057853157321},null,null,null,null,null,null,null,null,null,91,0.9,0.91000000000000059]
[null,null,null,null,null,null,null,null,null,null,null,null,null,null,null,null,null,null,null,null,null,null,null,92,0.91,0.9200000000000006]
["Vapeur totale au dégazeur (lb/h)",{"$f":"ROUND(B99*P10,2)","v":0},"Convertion",null,null,null,null,null,null,null,null,null,null,null,null,null,null,null,null,null,null,null,null,93,0.92,0.9300000000000006]
["Vapeur totale au dégazeur (kg/h)",{"$f":"B95/(1-B96)","v":0},"besoin de vap au degazeur / (1-% perte par event)",null,null,null,"quantité de vapeur qui reste",null,null,null,null,null,null,null,null,null,null,null,null,null,null,null,null,94,0.93,0.94000000000000061]
["Pertes de vapeur par l'évent (lb/h)",{"$f":"B101*P10","v":0},"Convertion",null,null,null,null,null,null,null,null,null,null,null,null,null,null,null,null,null,null,null,null,95,0.94,0.95000000000000062]
["Pertes de vapeur par l'évent (kg/h)",{"$f":"ROUND(B99-B95,2)","v":0},"vapeur total au dégazeur - besoin en vap pour le dégazeur",null,null,null,"quantité de vapeur qui s'échappe de dégazeur",null,null,null,null,null,null,null,null,null,null,null,null,null,null,null,null,96,0.95,0.96000000000000063]
["Pertes de vapeur par l'évent (%)",{"$f":"(B101*B58/3600)/B29","v":{"$error":"#DIV/0!"}},"Énergie perdue par event / puissance du bruleur en op  = masse de vapeur perdue par l'évent * hv,sat / puissance du bruleur en op",null,null,null,null,null,null,null,null,null,null,null,null,null,null,null,null,null,null,null,null,97,0.96,0.97000000000000064]
["Besoins en vapeur du dégazeur en % de la vapeur produite",{"$f":"B95/B85","v":{"$error":"#DIV/0!"}},"Besoin en vap / quantité de vapeur utile produite",null,null,null,null,null,null,null,null,null,null,null,null,null,null,null,null,null,null,null,null,98,0.97,0.98000000000000065]
[null,null,null,null,null,null,null,null,null,null,null,null,null,null,null,null,null,null,null,null,null,null,null,99,0.98,0.99000000000000066]
["Apport total en  vapeur de la chaudière 4 (lb/h)",{"$f":"ROUND(B106*P10,2)","v":0},null,null,null,null,null,null,null,null,null,null,null,null,null,null,null,null,null,null,null,null,null,100,0.99,1.0000000000000007]
["Apport total  en vapeur de la chaudière 4 (kg/h)",{"$f":"IF('Entrée de données'!C55=2,0,IF('Entrée de données'!F21=4,Bilan_1!M116,0))","v":0}]
["Perte de vapeur par l'évent pour la chaudière 4 (lb/h)",{"$f":"B105*B96","v":0}]
["Perte de vapeur par l'évent pour la chaudière 4 (kg/h)",{"$f":"B106*B96","v":0}]
["Pertes de vapeur par l'évent pour la chaudière 4 (%)",{"$f":"(B108*B58/3600)/B29","v":{"$error":"#DIV/0!"}},"Énergie perdue par event / puissance du bruleur en op  = masse de vapeur perdue par l'évent * hv,sat / puissance du bruleur en op"]
["Besoins en vapeur du dégazeur en % de la vapeur produite pour la chaudière 4",{"$f":"B106/B85","v":{"$error":"#DIV/0!"}},"Besoin en vap / quantité de vapeur utile produite"]
[]
["Vapeur disponible pour les utilisateurs"]
["Quantité de vapeur disponible (lb/h)",{"$f":"B86","v":0}]
["Quantité de vapeur disponible (kg/h)",{"$f":"B87","v":0},null,"exclus les pertes par l'évent"]
[]
[]
[]
["Efficacité de génération de vapeur utile",{"$f":"ROUND((B114/3600)*(B58-B55)/B29,5)","v":{"$error":"#DIV/0!"}}]
["Consommation de gaz naturel par kg/h de vapeur, en m3/(kg/h)",{"$f":"ROUND(B31/B114,5)","v":{"$error":"#DIV/0!"}},"m3 de gaz alimenté / masse de vapeur utile produite"]
[]
[]
[]
[null,null,null,"Efficacité = énergie dispo dans vapeur / puissance du bruleur en oper"]
[null,null,null,"Efficacité = masse vapeur dispo * DH / puissance du bruleur en oper"]
[null,null,null,"Efficacité = masse vapeur dispo * (hV,sat - hL) / puissance du bruleur en oper"]

{"sheet":"Comb_4 (micro)","index":31,"n_rows":215,"n_cols":23,"rows_kept":215,"cut":false,"hidden":true,"merged":[[4,9,4,11],[4,12,4,20],[5,9,5,11],[5,12,5,14],[5,15,5,17],[5,18,5,20],[6,3,6,4],[6,5,6,8],[7,5,7,8],[29,9,29,11],[47,0,47,9],[47,11,47,18],[192,7,192,9],[198,7,198,9],[204,7,204,9],[210,7,210,9],[49,3,49,8],[73,0,73,6],[73,8,73,13],[74,3,74,6],[74,11,74,13],[75,12,75,13]]}
[]
[null,null,null,null,"EFFICACITE","%",{"$f":"1-(G4/(G5+ABS(L28)))","v":3.0097091189507097E-5},null,"Valeur cible d'eff:"]
[null,null,null,null,null,null,null,null,{"$f":"'Entrée de données'!F87","v":0}]
[null,null,null,null,"Hout","J / mol gaz",{"$f":"U28","v":884267.45460321428}]
["BILAN THERMIQUE",null,null,null,"Hin","J / mol gaz",{"$f":"O28+R28","v":-1321.2289175442938},null,null,"PROPRIÉTÉ DU GAZ",null,null,"CALCUL ÉNERGIE"]
[null,null,null,null,null,null,null,null,null,"GAZ ****",null,null,"GAZ",null,null,"AIR",null,null,"FUMEE"]
[null,null,"Masse","* Enthalpie (J / mol)",null,"* Chaleur Spécifique (J / mol oC)",null,null,null,"M","Densité","PCS ou","T (oC) =",{"$f":"'Entrée de données'!F37","v":20},null,"T (oC) =",{"$f":"'Entrée de données'!F35","v":20},null,"T (oC) =",1973.0647260996298,{"$f":"ROUND(T7*1.8+32,1)","v":3583.5}]
[null,null,"Molaire","Formation","Combustion","Cp = a + bTx102 + cT2105 + dT3*109",null,null,null,"Mélange","Mélange","HHV","Débit","Cpmoy","H","Débit","Cpmoy","H","Débit","Cpmoy","H"]
["État gazeux sauf si indication",null,"g / mol",null,null,"a","b","c","d","g / mol","kg / m3","J / mol gaz","mol / mol gaz","J / mol oC","J / mol gaz","mol / mol gaz","J / mol oC","J / mol gaz","mol / mol gaz","J / mol oC","J / mol gaz"]
["Oxygène","O2",32,0,0,29.1,1.1579999999999999,-0.60760000000000003,1.3109999999999999,{"$f":"M10*C10","v":0},{"$f":"(101325*(C10/1000))/(8.3144*288.7056)*M10","v":0},{"$f":"M10*E10","v":0},{"$f":"'Comb_4 (micro)'!C55/100","v":0},{"$f":"AVERAGE($F10+$G10/100*N$7+$H10/100000*N$7^2+$I10/1000000000*N$7^3,$F10+$G10/100*$B$29+$H10/100000*$B$29^2+$I10/1000000000*$B$29^3)","v":29.357451536187501},{"$f":"M10*N10*(N$7-$B$29)","v":0},{"$f":"'Comb_4 (micro)'!D92","v":2.2869268216373007},{"$f":"AVERAGE($F10+$G10/100*Q$7+$H10/100000*Q$7^2+$I10/1000000000*Q$7^3,$F10+$G10/100*$B$29+$H10/100000*$B$29^2+$I10/1000000000*$B$29^3)","v":29.357451536187501},{"$f":"P10*Q10*(Q$7-$B$29)","v":-335.69171666512182},{"$f":"'Comb_4 (micro)'!L84","v":0.29764682163730094},{"$f":"AVERAGE($F10+$G10/100*T$7+$H10/100000*T$7^2+$I10/1000000000*T$7^3,$F10+$G10/100*$B$29+$H10/100000*$B$29^2+$I10/1000000000*$B$29^3)","v":33.874987361139702},{"$f":"S10*T10*(T$7-$B$29)","v":19641.91258057256}]
["Monoxide de carbone","CO",28.010999999999999,-110520,-282990,28.95,0.41099999999999998,0.3548,-2.2200000000000002,0,0,0,{"$f":"'Comb_4 (micro)'!C56/100","v":0},{"$f":"AVERAGE($F11+$G11/100*N$7+$H11/100000*N$7^2+$I11/1000000000*N$7^3,$F11+$G11/100*$B$29+$H11/100000*$B$29^2+$I11/1000000000*$B$29^3)","v":29.044267126249999},{"$f":"M11*N11*(N$7-$B$29)","v":0},null,{"$f":"AVERAGE($F11+$G11/100*Q$7+$H11/100000*Q$7^2+$I11/1000000000*Q$7^3,$F11+$G11/100*$B$29+$H11/100000*$B$29^2+$I11/1000000000*$B$29^3)","v":29.044267126249999},{"$f":"P11*Q11*(Q$7-$B$29)","v":0},null,31.43723641764317,{"$f":"S11*T11*(T$7-$B$29)","v":0}]
["Dioxide de carbone","CO2",44.011000000000003,-393500,0,36.11,4.2329999999999997,-2.887,7.4640000000000004,0.14963740000000003,6.3164148191036497E-3,0,{"$f":"'Comb_4 (micro)'!C57/100","v":3.4000000000000002E-3},37.0477172935,{"$f":"M12*N12*(N$7-$B$29)","v":-0.62981119398950003},null,37.0477172935,{"$f":"P12*Q12*(Q$7-$B$29)","v":0},{"$f":"'Comb_4 (micro)'!L82","v":1.00386},50.860749719071904,{"$f":"S12*T12*(T$7-$B$29)","v":99462.481396042553}]
["Hydrogène","H2",2.016,0,-285840,28.84,7.6499999999999997E-3,0.32879999999999998,-0.86980000000000002,0,0,0,{"$f":"'Comb_4 (micro)'!C58/100","v":0},28.843396075487497,{"$f":"M13*N13*(N$7-$B$29)","v":0},null,28.843396075487497,{"$f":"P13*Q13*(Q$7-$B$29)","v":0},null,31.97699821907532,{"$f":"S13*T13*(T$7-$B$29)","v":0}]
["Eau (v)","H20 (v)",18.015000000000001,-241830,0,33.46,0.68799999999999994,0.76039999999999996,-3.593,0,0,0,{"$f":"'Comb_4 (micro)'!C59/100","v":0},33.618654607687503,{"$f":"M14*(V14+N14*(N$7-$B$29))","v":0},{"$f":"'Comb_4 (micro)'!D93","v":1.0939348676877604E-2},33.618654607687503,{"$f":"P14*(V14+Q14*(Q$7-$B$29))","v":442.91132888313081},{"$f":"'Comb_4 (micro)'!L86-S15","v":1.9885793486768779},41.337703057396837,{"$f":"((S14-G93)*$V$14)+(S14*T14*(T$7-$B$29))","v":240540.28604618099},40656,"Enthalpie vaporisation (J/mol)"]
["Eau (l)","H2O (l)",18.015000000000001,-285840,0,75.400000000000006,0,0,0,0,0,0,0,75.400000000000006,{"$f":"M15*N15*(N$7-$B$29)","v":0},null,75.400000000000006,{"$f":"P15*Q15*(Q$7-$B$29)","v":0},{"$f":"'Comb_4 (micro)'!L96","v":0},75.400000000000006,{"$f":"S15*T15*(T$7-$B$29)","v":0}]
["Sulfure d'hydrogène","H2S",34.076000000000001,-19960,-562590,33.51,1.5469999999999999,0.30120000000000002,-3.2919999999999998,0,0,0,{"$f":"'Comb_4 (micro)'!C60/100","v":0},33.859579763249997,0,null,33.859579763249997,0,null,42.18567328334656,0]
["Méthane","CH4",16.042999999999999,-74850,-890360,34.31,5.4690000000000003,0.36609999999999998,-11,15.32539661,0.64690753953252877,-850534.19720000005,{"$f":"'Comb_4 (micro)'!C61/100","v":0.95527000000000006},35.542271325000002,-169.76232764316379,null,35.542271325000002,0,null,53.828139789772479,0]
["Éthane","C2H6",30.07,-84670,-1559900,49.37,13.92,-5.8159999999999998,7.28,0.62064480000000011,2.6198330177613489E-2,-32196.336000000003,{"$f":"'Comb_4 (micro)'!C62/100","v":2.0640000000000002E-2},52.472278994999996,-5.4151391922840002,null,52.472278994999996,0,null,103.1684412905508,0]
["Propane","C3H8",44.097000000000001,-103800,-2220000,68.031999999999996,22.59,-13.11,31.71,5.1593490000000006E-2,2.1778371236420568E-3,-2597.4,{"$f":"'Comb_4 (micro)'!C63/100","v":1.17E-3},73.047935824375003,-0.42733042457259374,null,73.047935824375003,0,null,160.27156412238088,0]
["Butane","C4H10",58.124000000000002,-134500,-2868800,89.46,30.13,-18.91,49.87,0,0,0,{"$f":"'Comb_4 (micro)'!C64/100","v":0},96.142925339374983,0,null,96.142925339374983,0,null,213.85655402901762,0]
["** i-Butane","C4H10",58.124000000000002,{"$f":"D20","v":-134500},{"$f":"E20","v":-2868800},89.46,30.13,-18.91,49.87,2.9062000000000003E-3,1.2267497796192013E-4,-143.44,{"$f":"'Comb_4 (micro)'!C65/100","v":5.0000000000000002E-5},96.142925339374983,-2.4035731334843748E-2,null,96.142925339374983,0,null,213.85655402901762,0]
["n-Butane","C4H10",58.124000000000002,-124700,-2878500,92.3,27.88,-15.47,34.979999999999997,2.9062000000000003E-3,1.2267497796192013E-4,-143.92500000000001,{"$f":"'Comb_4 (micro)'!C66/100","v":5.0000000000000002E-5},98.494129451249989,-2.4623532362812499E-2,null,98.494129451249989,0,null,204.00242581507746,0]
["Pentane","C5H12",72.150000000000006,-152000,-35292000,114.8,34.090000000000003,-18.989999999999998,42.26,0,0,0,{"$f":"'Comb_4 (micro)'!C67/100","v":0},122.37342544625,0,null,122.37342544625,0,null,247.97410798007408,0]
["Octane","C8H18",114.23,-208400,-5512200,-5.8307000000000002,4.4541000000000004,-0.42080000000000001,1.2629999999999999,0,0,0,{"$f":"'Comb_4 (micro)'!C68/100","v":0},-4.8306691808125004,0,null,-4.8306691808125004,0,null,35.325677251313245,0]
["*** iso-Octane","Ch8H18i",114.23,{"$f":"D24","v":-208400},{"$f":"E24","v":-5512200},-5.8307000000000002,4.4541000000000004,-0.42080000000000001,1.2629999999999999,0,0,0,{"$f":"'Comb_4 (micro)'!C69/100","v":0},-4.8306691808125004,0,null,-4.8306691808125004,0,null,35.325677251313245,0]
["Azote","N2",28.013000000000002,0,0,29,0.21990000000000001,0.57230000000000003,-2.871,0.54401246000000003,2.2963566355209533E-2,0,{"$f":"'Comb_4 (micro)'!C70/100","v":1.942E-2},29.052376623812499,{"$f":"M26*N26*(N$7-$B$29)","v":-2.8209857701721934},{"$f":"'Comb_4 (micro)'!D91","v":8.6006338996060645},29.052376623812499,-1249.344276274423,{"$f":"'Comb_4 (micro)'!L81","v":8.6006338996060645},31.31217934463384,{"$f":"S26*T26*(T$7-$B$29)","v":524622.77458041813}]
["Hélium","He",4.0020600000000002,0,0,20.8,0,0,0,0,0,0,{"$f":"'Comb_4 (micro)'!C71/100","v":0},20.8,0,null,20.8,0,null,20.8,0]
[null,null,null,null,null,null,null,null,"SOMME",{"$f":"SUM(J10:J27)","v":16.697097160000002},{"$f":"SUM(K10:K27)","v":0.70480903796402139},{"$f":"SUM(L10:L27)","v":-885615.29820000008},{"$f":"SUM(M10:M27)","v":1},null,{"$f":"SUM(O10:O27)","v":-179.10425348787973},{"$f":"SUM(P10:P27)","v":10.898500069920242},null,{"$f":"SUM(R10:R27)","v":-1142.1246640564141},{"$f":"SUM(S10:S27)","v":11.890720069920244},null,{"$f":"SUM(U10:U27)","v":884267.45460321428}]
["* Référence. Patm, T =",25,"oC"]
["** Hyp. Même propriétés que Butane",null,null,null,null,null,null,null,null,"Pouvoir Calorifique Supérieur"]
["*** Hyp. Même que Octane",null,null,null,null,null,null,null,null,null,{"$f":"ABS(L28/1000)","v":885.6152982000001},"kJ / mol"]
["**** À Patm et T = 15.6 oC (14.7 psi et 60 F)",null,null,null,null,null,null,null,null,null,{"$f":"K31/(J28/1000)","v":53040.075751706296},"kJ / kg"]
[null,null,null,null,null,null,null,null,null,null,{"$f":"(K32/1000)*K28","v":37.38312476409893},"MJ / m3"]
["Référence"]
["Elementary Principles of Chemical Processes",null,null,null,null,null,null,null,null,null,{"$f":"(K33*1000)/1.055*0.02832","v":1003.4977187860492},"BTU / ft3"]
["Wiley Series in Chemical Engineering, Second Edition",null,null,null,null,null,null,null,null,null,{"$f":"(K32/1.055)*0.4536","v":22804.71882556775},"BTU / lbm"]
["R M Felder et R W Rousseau",null,null,null,null,null,null,null,null,null,{"$f":"K35/7.4814","v":134.13234405138732},"BTU / gal"]
[]
[]
[]
[]
[null,null,null,null,null,"Constitution de l'air sec"]
[null,null,null,null,"Azote",0.78995048751598307]
[null,null,null,null,"Oxygène",{"$f":"1-F43","v":0.21004951248401693}]
["BILAN MASSIQUE",null,null,null,"Autres",0]
[]
[]
["CALCUL DE LA COMBUSTION STOÉCHIOMÉTRIQUE",null,null,null,null,null,null,null,null,null,null,"Masse H2 par livre de combustible"]
[]
[null,null,"COMPOSITION","GAZ DE COMBUSTION STOÉCHIOMÉTRIQUE",null,null,null,null,null,null,null,null,"Masse d'hydrogène dans une livre de combustible (lb/lb)",null,null,null,{"$f":"(4*N53+6*N55+8*N56+10*N57+10*N58)/(N53*O53+N54*O54+N55*O55+N56*O56+N57*O57+N58*O58+N59*O59)","v":0.23688428965217811}]
[null,null,"(mol / 100 mol gaz)","CO2","H2O","SO2","He","N2","TOTAL","O2 requis"]
["GAZ (ÉTAT GAZEUX)",null,null,null,null,null,null,null,null,null,null,null,"Compo","% mol","masse molaire"]
[null,"TOTAL",{"$f":"SUM(C55:C71)","v":100},1.00386,1.9776400000000003,0,0,1.942E-2,3.0009200000000003,1.9892799999999999,null,null,"CH4",{"$f":"C61","v":95.527000000000001},{"$f":"C17","v":16.042999999999999}]
[null,null,null,null,null,null,null,null,null,null,null,null,"CO2",{"$f":"C57","v":0.34},{"$f":"C12","v":44.011000000000003}]
["Oxygène","O2",0,null,null,null,null,null,{"$f":"SUM(D55:H55)","v":0},{"$f":"-C55/100","v":0},null,null,"C2H6",{"$f":"C62","v":2.0640000000000001},{"$f":"C18","v":30.07}]
["Monoxide de carbone","CO",0,{"$f":"C56/100","v":0},null,null,null,null,0,{"$f":"D56+E56/2+F56","v":0},null,null,"C3H8",{"$f":"C63","v":0.11700000000000001},{"$f":"C19","v":44.097000000000001}]
["Dioxide de carbone","CO2",0.34,{"$f":"C57/100","v":3.4000000000000002E-3},null,null,null,null,3.4000000000000002E-3,0,null,null,"C4H10",{"$f":"C65","v":5.0000000000000001E-3},{"$f":"C21","v":58.124000000000002}]
["Hydrogène","H2",0,null,{"$f":"C58/100","v":0},null,null,null,0,{"$f":"D58+E58/2+F58","v":0},null,null,"C4H10",{"$f":"C66","v":5.0000000000000001E-3},{"$f":"C22","v":58.124000000000002}]
["Eau (l)","H2O (l)",0,null,{"$f":"C59/100","v":0},null,null,null,0,0,null,null,"N2",{"$f":"C70","v":1.9419999999999999},{"$f":"C26","v":28.013000000000002}]
["Sulfure d'hydrogène","H2S",0,null,{"$f":"C60/100","v":0},{"$f":"C60/100","v":0},null,null,0,0]
["Méthane","CH4",95.527000000000001,{"$f":"C61/100","v":0.95527000000000006},{"$f":"C61/100*2","v":1.9105400000000001},null,null,null,2.8658100000000002,1.9105400000000001]
["Éthane","C2H6",2.0640000000000001,{"$f":"C62*2/100","v":4.1280000000000004E-2},{"$f":"C62/100*3","v":6.1920000000000003E-2},null,null,null,0.10320000000000001,7.2239999999999999E-2]
["Propane","C3H8",0.11700000000000001,{"$f":"C63*3/100","v":3.5100000000000005E-3},{"$f":"C63/100*4","v":4.6800000000000001E-3},null,null,null,8.1900000000000011E-3,5.850000000000001E-3]
["Butane","C4H10",0,{"$f":"C64*4/100","v":0},{"$f":"C64/100*5","v":0},null,null,null,0,0]
["** i-Butane","C4H10",5.0000000000000001E-3,{"$f":"C65*4/100","v":2.0000000000000001E-4},{"$f":"C65/100*5","v":2.5000000000000001E-4},null,null,null,4.4999999999999999E-4,3.2499999999999999E-4]
["n-Butane","C4H10",5.0000000000000001E-3,{"$f":"C66*4/100","v":2.0000000000000001E-4},{"$f":"C66/100*5","v":2.5000000000000001E-4},null,null,null,4.4999999999999999E-4,3.2499999999999999E-4]
["Pentane","C5H12",0,{"$f":"C67*5/100","v":0},{"$f":"C67/100*6","v":0},null,null,null,0,0]
["Octane","C8H18",0,{"$f":"C68*8/100","v":0},{"$f":"C68/100*9","v":0},null,null,null,0,0]
["*** iso-Octane","Ch8H18i",0,{"$f":"C69*8/100","v":0},{"$f":"C69/100*9","v":0},null,null,null,0,0]
["Azote","N2",1.9419999999999999,null,null,null,null,{"$f":"C70/100","v":1.942E-2},1.942E-2,0]
["Hélium","He",0,null,null,null,{"$f":"C71/100","v":0},null,0,0]
[]
[]
["AIR DE COMBUSTION",null,null,null,null,null,null,null,"FUMÉES"]
[null,null,null,"MASSIQUE",null,null,null,null,null,null,null,"MASSIQUE"]
[null,null,null,"% O2","% EA","% CO2","RÉSULTATS",null,null,null,null,null,"Proportion (%)"]
[null,null,null,{"$f":"TRUE()","v":true},{"$f":"FALSE","v":false},false,null,null,null,null,null,"(mol / mol gaz)","Base Hum","Base Sec"]
[null,null,null,{"$f":"IF(D77,1,\"-\")","v":1},{"$f":"IF(E77,2,\"-\")","v":"-"},{"$f":"IF(F77,3,\"-\")","v":"-"},{"$f":"AVERAGE(D78:F78)","v":1}]
["Calcul de l'excès d'air (base sèche)",null,null,{"$f":"D87/D84","v":0.14962540297861585},{"$f":"'Entrée de données'!F89","v":0.03},{"$f":"F86/F83","v":{"$error":"#DIV/0!"}},{"$f":"INDEX(D79:F79,G$78)","v":0.14962540297861585},null,"TOTAL",null,"mol / mol gas",{"$f":"SUM(L81:L86)","v":11.890720069920242},{"$f":"SUM(M81:M86)","v":1.0000000000000002},{"$f":"SUM(N81:N86)","v":1}]
["Oxygène dans les fumées (base sèche)",null,null,{"$f":"'Entrée de données'!F89","v":0.03},{"$f":"E86/(E83*($F$43/$F$44)+I53-E53+E86/$F$44)","v":6.7903983905707394E-3},{"$f":"F86/(F83*($F$43/$F$44)+I53-E53+F86/$F$44)","v":{"$error":"#DIV/0!"}},{"$f":"INDEX(D80:F80,G$78)","v":0.03}]
["Dioxide de carbone dans les fumées",null,null,{"$f":"$N$82","v":0.10137807856501053},{"$f":"N82","v":0.10137807856501053},null,{"$f":"INDEX(D81:F81,G$78)","v":0.10137807856501053},null,"Azote",null,"mol / mol gas",{"$f":"G91","v":8.6006338996060645},{"$f":"L81/$L$79","v":0.72330639768090632},{"$f":"L81/($L$79-$L$86)","v":0.86856308567246088}]
[null,null,null,null,null,null,null,null,"Dioxide de carbone",null,"mol / mol gas",{"$f":"D53","v":1.00386},8.4423819087243335E-2,{"$f":"L82/($L$79-$L$86)","v":0.10137807856501053}]
["Oxygène stoéchiométrique",null,"mol / mol gas",{"$f":"$J$53","v":1.9892799999999999},{"$f":"$J$53","v":1.9892799999999999},{"$f":"$J$53","v":1.9892799999999999},{"$f":"INDEX(D83:F83,G$78)","v":1.9892799999999999},null,"Dioxide de soufre",null,"mol / mol gas",{"$f":"F53","v":0},0,{"$f":"L83/($L$79-$L$86)","v":0}]
["Air stoéchiométrique",null,"mol / mol gas",{"$f":"D83/$F$44","v":9.4705290027815128},{"$f":"E83/$F$44","v":9.4705290027815128},{"$f":"F83/$F$44","v":9.4705290027815128},{"$f":"INDEX(D84:F84,G$78)","v":9.4705290027815128},null,"Oxygène",null,"mol / mol gas",{"$f":"G86","v":0.29764682163730094},2.5031858448190464E-2,{"$f":"L84/($L$79-$L$86)","v":3.0058835762528616E-2}]
[null,null,null,null,null,null,null,null,"Hélium",null,"mol / mol gas",{"$f":"G53","v":0},0,{"$f":"L85/($L$79-$L$86)","v":0}]
["Excès oxygène",null,"mol / mol gas",{"$f":"D80/(1-D80/$F$44)*(($I$53-$E$53)+D83*$F$43/$F$44)","v":0.29764682163730094},{"$f":"E83*$E$79","v":5.9678399999999993E-2},{"$f":"(D53/F81-(I53-E53)-F83*(F43/F44))/(1+F43/F44)","v":{"$error":"#DIV/0!"}},{"$f":"INDEX(D86:F86,G$78)","v":0.29764682163730094},null,"Eau (liquide et vapeur)",null,"mol / mol gas",{"$f":"G93+E53","v":1.9885793486768779},0.16723792478366001,0]
["Excès air",null,"mol / mol gas",{"$f":"D86/F44","v":1.4170317184618528},{"$f":"E84*$E$79","v":0.28411587008344535},{"$f":"F86/F44","v":{"$error":"#DIV/0!"}},{"$f":"INDEX(D87:F87,G$78)","v":1.4170317184618528},null,"Condensation (liquide)",null,"mol / mol gas",{"$f":"L96","v":0},0,1]
[null,null,null,null,null,null,null,null,"Molecular weight",null,"g/mol",null,{"$f":"M81*28+M82*44+M83*64+M84*32+M86*18","v":27.778529291352058}]
["Air de combustion",null,"mol / mol gas",{"$f":"SUM(D91:D93)","v":10.898500069920242},{"$f":"SUM(E91:E93)","v":9.7655842215418378},{"$f":"SUM(F91:F93)","v":{"$error":"#DIV/0!"}},{"$f":"INDEX(D89:F89,G$78)","v":10.898500069920242},null,"Condensation des fumées",null,null,{"$f":"IF(L91<L92,\"VRAI\",\"FAUX\")","v":"FAUX"}]
[null,null,null,null,null,null,null,null,"Humidité (sans condensation)",null,"mol / mol fumées",{"$f":"E53+G93","v":1.9885793486768779}]
["Azote",null,"mol / mol gas",{"$f":"D92*($F$43/$F$44)","v":8.6006338996060645},{"$f":"E92*($F$43/$F$44)","v":7.7056864728649597},{"$f":"F92*($F$43/$F$44)","v":{"$error":"#DIV/0!"}},{"$f":"INDEX(D91:F91,G$78)","v":8.6006338996060645},null,"Température des fumées",null,"oC",{"$f":"T7","v":1973.0647260996298}]
["Oxygène",null,"mol / mol gas",{"$f":"D83+D86","v":2.2869268216373007},{"$f":"E83+E86","v":2.0489584000000001},{"$f":"F83+F86","v":{"$error":"#DIV/0!"}},{"$f":"INDEX(D92:F92,G$78)","v":2.2869268216373007},null,"Point de rosée",null,"oC",{"$f":"E135","v":56.443062043569093}]
["Vapeur d'eau",null,"mol / mol gas",{"$f":"E114*'Comb_4 (micro)'!D84","v":1.0939348676877604E-2},{"$f":"E114*'Comb_4 (micro)'!E84","v":1.0939348676877604E-2},{"$f":"E114*'Comb_4 (micro)'!F84","v":1.0939348676877604E-2},{"$f":"INDEX(D93:F93,G$78)","v":1.0939348676877604E-2},null,"Flue gas density",null,"lb/cu ft"]
[null,null,null,null,null,null,null,null,"Saturation (Tfumées)",null,"mol / mol fumées",{"$f":"E128","v":0.20082317598362523},"Fumées sèches"]
["Humidité",null,null,null,null,null,null,null,"Condensation",null,"mol / mol fumées",{"$f":"E139","v":0}]
["Humidité relative",null,null,0.05,null,null,null,null,null,null,"mol / mol gas",{"$f":"E140","v":0}]
["Point de rosée",null,"oC",{"$f":"IF(D96<>0,E118,\"-\")","v":{"$error":"#N/A"}}]
[]
[]
[]
[]
[null,null,"PRESSION ATMOSPHÉRIQUE",null,null,null,null,"TABLE VAPEUR SATURÉE"]
[null,null,"Altitude","FASL",200,"Mtl = 200",null,"Tsat (oC)","Psat (Pa)","Tsat (oC)"]
[null,null,"Pression barométrique","po Hg",{"$f":"29.9269-0.001020817*E103+0.000000011*E103^2-0.0000000000005118678*E103^3","v":29.723172505057601},null,null,0,610.48326959999986,{"$f":"H104","v":0}]
[null,null,"Pression barométrique","Pa",101312.5,{"$f":"E104*3370","v":100167.09134204412},null,2,705.80878559999985,2]
[null,null,null,null,null,null,null,4,813.39996239999994,4]
[null,null,"AIR DE COMBUSTION",null,null,null,null,6,934.98999119999985,6]
[null,null,"Température","oC",{"$f":"N7","v":20},null,null,8,1072.5787079999998,8]
[null,null,"Humidité relative",null,0.05,null,null,10,1227.7659815999998,10]
[null,null,null,null,null,null,null,12,1402.2850031999999,12]
[null,null,"Pression saturation","Pa",{"$f":"IF(E108<0,0.09*6895,I196)","v":2337.8082839999997},null,null,14,1598.1356087999998,14]
[null,null,"Pression vapeur eau","Pa",{"$f":"E109*E111","v":116.8904142},null,null,16,1817.7176015999999,16]
[null,null,null,null,null,null,null,18,2063.4307847999999,18]
[null,null,"H2O / Air sec","mol / mol",{"$f":"E112/(E105-E112)","v":1.1550937306315937E-3},null,null,20,2337.8082839999997,20]
[null,null,"H2O / Air sec","lb / lb",{"$f":"E114*18.02/28.95","v":7.1899098535341342E-4},null,null,22,2643.3832247999999,22]
[null,null,null,null,null,null,null,24,2983.3553447999998,24]
[null,null,"H2O / Air humide","mol / mol",{"$f":"E112/E105","v":1.1537610285009253E-3},null,null,26,3360.9243815999998,26]
[null,null,"Température de rosée","oC",{"$f":"H202","v":{"$error":"#N/A"}},null,null,28,3779.5567175999995,28]
[null,null,null,null,null,null,null,30,4242.8520576000001,30]
[null,null,"FUMÉES",null,null,null,null,32,4754.6767511999988,32]
[null,null,"Température","oC",{"$f":"T7","v":1973.0647260996298},null,null,34,5319.2971152,34]
[null,null,null,null,null,null,null,36,5941.2461112000001,36]
[null,null,"Fumées totales","mol / mol gaz",{"$f":"L79","v":11.890720069920242},null,null,38,6625.0567007999998,38]
[null,null,"Humidité (H2O)","mol / mol gaz",{"$f":"L90","v":1.9885793486768779},"sans condensation",null,40,7375.9284575999991,40]
[null,null,null,null,null,null,null,42,8199.3275999999987,42]
[null,null,"Pression vapeur","Pa",{"$f":"E131*E105","v":16943.292254644555},null,null,44,9100.5870240000004,44]
[null,null,null,null,null,null,null,46,10085.83956,46]
[null,null,"H2O / Air sec","mol / mol",{"$f":"E124/(E123-E124)","v":0.20082317598362523},"Mair",null,48,11160.418103999998,48]
[null,null,"H2O / Air sec","lb / lb",{"$f":"E128*18.02/F129","v":0.12870979965717447},{"$f":"(M81*28+M82*48+M83*64+M84*32+M85*4+M86*18)","v":28.116224567701032},null,50,12333.655224,50]
[null,null,null,null,null,null,null,55,15737.376096,55]
[null,null,"H2O / Air humide","mol / mol",{"$f":"E124/E123","v":0.16723792478366001},null,null,60,19915.700111999999,60]
[null,null,"H2O / mol gas","mol / mol",{"$f":"E131*E123","v":1.9885793486768779},null,null,65,25003.282895999997,65]
[null,null,null,null,null,null,null,70,31157.444879999995,70]
[null,null,"Condensation",null,{"$f":"IF(E135>E121,\"VRAI\",\"FAUX\")","v":"FAUX"},null,null,75,38543.505839999998,75]
[null,null,"Point de rosée","oC",{"$f":"H208","v":56.443062043569093},null,null,80,47342.784240000001,80]
[null,null,null,null,null,null,null,85,57808.592639999995,85]
[null,null,"Pression saturation","Pa",{"$f":"I214","v":{"$error":"#REF!"}},null,null,90,70095.585023999985,90]
[null,null,"Contenu H2O à saturation","mol / mol fumées",{"$f":"IF(E134=\"VRAI\",E137/E105,\"-\")","v":"-"},null,null,91,72800.696519999983,91]
[null,null,"Condensation","mol / mol fumées",{"$f":"IF(E134=\"VRAI\",E131-E138,0)","v":0},null,null,92,75592.467575999995,92]
[null,null,"Condensation","mol / mol gaz",{"$f":"IF(E134=\"VRAI\",E139*E123,0)","v":0},null,null,93,78473.564639999997,93]
[null,null,"Condensation","g / mol gaz",{"$f":"IF(E134=\"VRAI\",E140*18,0)","v":0},null,null,94,81446.654159999991,94]
[null,null,null,null,null,null,null,95,84513.069359999994,95]
[null,null,"Humidité Relative des Fumées",null,{"$f":"IF(E134=\"VRAI\",1,IF(E121<100,E126/E137,\"N / A\"))","v":"N / A"},null,null,96,87675.476687999995,96]
[null,null,null,null,null,null,null,97,90935.209367999996,97]
[null,null,null,null,null,null,null,98,94294.933847999986,98]
[null,null,null,null,null,null,null,99,97757.316575999997,99]
[null,null,null,null,null,null,null,100,101325.02399999999,100]
[null,null,null,null,null,null,null,105,120820,105]
[null,null,null,null,null,null,null,110,143270,110]
[null,null,null,null,null,null,null,115,169060,115]
[null,null,null,null,null,null,null,120,198530,120]
[null,null,null,null,null,null,null,125,232100,125]
[null,null,null,null,null,null,null,130,270100,130]
[null,null,null,null,null,null,null,135,313000,135]
[null,null,null,null,null,null,null,140,361300,140]
[null,null,null,null,null,null,null,145,415400,145]
[null,null,null,null,null,null,null,150,475800,150]
[null,null,null,null,null,null,null,155,543100,155]
[null,null,null,null,null,null,null,160,617800,160]
[null,null,null,null,null,null,null,165,700500,165]
[null,null,null,null,null,null,null,170,791700,170]
[null,null,null,null,null,null,null,175,892000,175]
[null,null,null,null,null,null,null,180,1002100,180]
[null,null,null,null,null,null,null,185,1122700,185]
[null,null,null,null,null,null,null,190,1254400,190]
[null,null,null,null,null,null,null,195,1397800,195]
[null,null,null,null,null,null,null,200,1553800,200]
[null,null,null,null,null,null,null,205,1723000,{"$f":"H168","v":205}]
[null,null,null,null,null,null,null,210,1906200,210]
[null,null,null,null,null,null,null,215,2104000,215]
[null,null,null,null,null,null,null,220,2318000,220]
[null,null,null,null,null,null,null,225,2548000,225]
[null,null,null,null,null,null,null,230,2795000,230]
[null,null,null,null,null,null,null,235,3060000,235]
[null,null,null,null,null,null,null,240,3344000,240]
[null,null,null,null,null,null,null,245,3648000,245]
[null,null,null,null,null,null,null,250,3973000,250]
[null,null,null,null,null,null,null,255,4319000,255]
[null,null,null,null,null,null,null,260,4688000,260]
[null,null,null,null,null,null,null,265,5081000,265]
[null,null,null,null,null,null,null,270,5499000,270]
[null,null,null,null,null,null,null,275,5942000,275]
[null,null,null,null,null,null,null,280,6412000,280]
[null,null,null,null,null,null,null,285,6909000,285]
[null,null,null,null,null,null,null,290,7436000,290]
[null,null,null,null,null,null,null,295,7993000,295]
[null,null,null,null,null,null,null,300,8581000,300]
[null,null,null,null,null,null,null,320,11274000,320]
[null,null,null,null,null,null,null,340,14586000,340]
[null,null,null,null,null,null,null,360,18651000,360]
[null,null,null,null,null,null,null,374.14,22090000,374.14]
[]
[null,null,null,null,null,null,null,"Psat AIR COMBUSTION"]
[null,null,null,null,null,null,null,"T","Psat"]
[null,null,null,null,null,null,null,{"$f":"VLOOKUP(E108,H104:I191,1)","v":20},{"$f":"VLOOKUP(H195,$H$104:$I$191,2)","v":2337.8082839999997},{"$f":"MATCH(H195,H104:H191,1)","v":11}]
[null,null,null,null,null,null,null,{"$f":"E108","v":20},{"$f":"I195+((H196-H195)/(H197-H195))*(I197-I195)","v":2337.8082839999997}]
[null,null,null,null,null,null,null,{"$f":"INDEX(H104:H191,J197)","v":22},{"$f":"VLOOKUP(H197,$H$104:$I$191,2)","v":2643.3832247999999},{"$f":"J195+1","v":12}]
[]
[null,null,null,null,null,null,null,"CALCUL ROSÉE AIR COMB"]
[null,null,null,null,null,null,null,"T","Psat"]
[null,null,null,null,null,null,null,{"$f":"VLOOKUP(I201,$I$104:$J$191,2)","v":{"$error":"#N/A"}},{"$f":"VLOOKUP(I202,I104:J191,1)","v":{"$error":"#N/A"}},{"$f":"MATCH(H201,H104:H191,1)","v":{"$error":"#N/A"}}]
[null,null,null,null,null,null,null,{"$f":"H201+(I202-I201)/(I203-I201)*(H203-H201)","v":{"$error":"#N/A"}},{"$f":"E117*E105","v":116.8904142}]
[null,null,null,null,null,null,null,{"$f":"INDEX(H104:H191,J203)","v":{"$error":"#N/A"}},{"$f":"VLOOKUP(H203,H104:I191,2)","v":{"$error":"#N/A"}},{"$f":"J201+1","v":{"$error":"#N/A"}}]
[]
[null,null,null,null,null,null,null,"TEMP. CONDENSATION FUMÉE"]
[null,null,null,null,null,null,null,"T","Psat"]
[null,null,null,null,null,null,null,{"$f":"VLOOKUP(I207,$I$104:$J$191,2)","v":55},{"$f":"VLOOKUP(E126,I104:J191,1)","v":15737.376096},{"$f":"MATCH(H207,H104:H191,1)","v":27}]
[null,null,null,null,null,null,null,{"$f":"H207+(I208-I207)/(I209-I207)*(H209-H207)","v":56.443062043569093},{"$f":"E126","v":16943.292254644555}]
[null,null,null,null,null,null,null,{"$f":"INDEX(H104:H191,J209)","v":60},{"$f":"VLOOKUP(H209,H104:I191,2)","v":19915.700111999999},{"$f":"J207+1","v":28}]
[]
[null,null,null,null,null,null,null,"CALCUL FUMÉES"]
[null,null,null,null,null,null,null,"T","Psat"]
[null,null,null,null,null,null,null,{"$f":"VLOOKUP(H214,H104:I191,1)","v":374.14},{"$f":"VLOOKUP(H213,$H$104:$I$191,2)","v":22090000},{"$f":"MATCH(H213,H104:H191,1)","v":88}]
[null,null,null,null,null,null,null,{"$f":"E121","v":1973.0647260996298},{"$f":"I213+((H214-H213)/(H215-H213))*(I215-I213)","v":{"$error":"#REF!"}}]
[null,null,null,null,null,null,null,{"$f":"INDEX(H104:H191,J215)","v":{"$error":"#REF!"}},{"$f":"VLOOKUP(H215,$H$104:$I$191,2)","v":{"$error":"#REF!"}},{"$f":"J213+1","v":89}]

{"sheet":"Bilan_4 EE","index":32,"n_rows":125,"n_cols":27,"rows_kept":125,"cut":false,"hidden":true,"merged":[[35,6,35,8],[20,3,20,6],[21,3,21,6],[22,3,22,6],[23,3,23,6],[34,6,34,8],[95,13,95,17],[36,6,36,8],[49,3,49,7],[50,3,50,7],[51,3,51,7],[52,3,52,7],[54,3,54,12],[55,8,55,11],[57,3,59,6],[92,13,92,17],[93,13,93,17],[94,13,94,17]]}
["Formulaire de calcul",null,null,null,null,null,null,null,null,null,null,null,null,"Unités et paramètres de calculs",null,null,null,null,null,null,null,null,null,null,"Quantité de purge","Excès d'air"]
[null,null,null,null,null,null,null,null,null,null,null,null,null,null,null,null,null,null,null,null,"Numéro correspondant à sélection dans entrée de données",null,null,null,{"$f":"'Entrée de données'!F52","v":1},{"$f":"'Entrée de données'!F36","v":30},{"$f":"'Entrée de données'!F25","v":1}]
[null,"Type de chaudière:",{"$f":"VLOOKUP(AA2,X4:AA7,4)","v":"Tubes de fumées"},null,null,null,null,null,null,null,null,null,null,null,"Conversion",null,null,null,null,null,null,null,null,"Numéro","% Purge","% Exces d'air","Type de chaudière"]
[null,null,null,null,null,null,null,null,null,null,null,null,null,null,"1kW = ",{"$f":"1000000/293.07","v":3412.1540928788345},"Btu/h",null,null,null,null,null,null,1,0,0.01,"Tubes de fumées"]
["OUTPUT:",null,null,null,null,null,null,null,null,null,null,null,null,null,"1 Btu/h =",2.9306999999999998E-4,"kW",null,null,null,null,null,null,{"$f":"X4+1","v":2},0.01,{"$f":"Z4+0.01","v":0.02},"Tubes d'eau"]
["Puissance maximale du brûleur ",{"$f":"'Entrée de données'!F27","v":0},"kW","Donnée d'entrée",null,null,null,null,null,null,null,null,null,null,"1 kJ/kg=",0.42992999999999998,"Btu/lb",null,null,null,null,null,null,{"$f":"X5+1","v":3},0.02,{"$f":"Z5+0.01","v":0.03},"À serpentin"]
["Puissance maximale de production de vapeur  de la chaudière",{"$f":"'Entrée de données'!F29","v":0},"kW","Donnée d'entrée",null,null,null,null,null,null,null,null,null,null,"1 Btu =",1.0549999999999999E-3,"MJ",null,null,null,null,null,null,{"$f":"X6+1","v":4},0.03,0.04,"Sans tube"]
["Puissance maximale de production de vapeur  de la chaudière ",{"$f":"ROUND(B7*P4/1000000,2)","v":0},"millions Btu/h","Simple calcul de conversion des kw en btu/h",null,null,null,null,null,null,null,null,null,null,"1 MJ = ",{"$f":"1/P7","v":947.8672985781991},"Btu",null,null,null,null,null,null,{"$f":"X7+1","v":5},0.04,0.05]
["Puissance moyenne de production de vapeur  de la chaudière en opération ",{"$f":"B89+B79+B111+-B74","v":0},"kW","Q = Qvap dispo + Q purge +Qevent - Qeau alimenté",null,"ATTENTION: Ce n'est pas juste pour la vapeur dispo. C'est aussi de l'énergie qui sera perdu par les purges",null,null,null,null,null,null,null,null,"1 lb =",0.45359237000000002,"kg",null,null,null,null,null,null,6,0.05,6.0000000000000005E-2]
["Puissance moyenne de production de vapeur  de la chaudière en opération ",{"$f":"ROUND(B9*P4/1000000,2)","v":0},"millions Btu/h","Données entrée converti en btu/h",null,null,null,null,null,null,null,null,null,null,"1 kg =",{"$f":"1/P9","v":2.2046226218487757},"lb",null,null,null,null,null,null,7,0.06,7.0000000000000007E-2]
[null,null,null,null,null,null,null,null,null,null,null,null,null,null,null,null,null,null,null,null,null,null,null,8,7.0000000000000007E-2,0.08]
["INFO POUR CALCUL DE L'EFFICACITÉ",null,null,null,null,null,null,null,null,null,null,null,null,null,null,null,null,null,null,null,null,null,null,9,0.08,0.09]
["Excès d'air",{"$f":"IF('Mise en forme- input'!C13=FALSE,Bilan_4!B13,'Entrée de données'!F89)","v":0.3000000000000001},null,"Donnée d'entrée",null,null,null,null,null,null,null,null,null,null,null,null,null,null,null,null,null,null,null,10,0.09,9.9999999999999992E-2]
["Température des fumées (°F)",{"$f":"IF('Mise en forme- input'!C13=FALSE,Bilan_4!B14,'Comb_4 (micro)'!U7)","v":392},"°F","Donnée entrée convertie en °F au lieu de °C",null,null,null,null,null,null,null,null,null,null,null,null,null,null,"Pertes par radiation et convection",null,null,null,null,11,0.1,0.10999999999999999]
["Température de l'air de combustion (°F)",{"$f":"ROUND(('Entrée de données'!F35*1.8+32),1)","v":68},"°F","Donnée entrée convertie en °F au lieu de °C",null,null,null,null,null,null,null,null,null,null,null,null,null,null,"Puissance maximale  kW","Puissance maximale millions Btu/h","% de Pertes","à 100% de la charge",null,12,0.11,0.11999999999999998]
["Température de l'eau d'appoint (°C)",{"$f":"IF(OR(AND('Mise en forme- input'!C19=TRUE,'Économiseurs 1 à 4 '!E7=2),'Mise en forme- input'!C6=TRUE,'Mise en forme- input'!C7=TRUE),'Économiseurs 1 à 4 '!B44,'Entrée de données'!C48)","v":0},"°C","Donnée d'entrée",null,"=SI(OU(ET('Mise en forme- input'!C5=VRAI;'Économiseurs 1 à 4 '!B6=2);'Mise en forme- input'!C6=VRAI;'Mise en forme- input'!C7=VRAI);'Économiseurs 1 à 4 '!B35;'Entrée de données'!C48)",null,null,null,null,null,null,null,null,null,null,null,null,null,null,null,null,null,13,0.12,0.12999999999999998]
[null,null,null,null,null,null,null,null,null,null,null,null,null,null,null,null,null,"Inférieure à 5 millions Btu/h","Inférieure à 1465",{"$f":"IF(B8<5,B8, \"\")","v":0},{"$f":"IF($B$8<5,$V$88/($B$10/#REF!),\"\")","v":{"$error":"#REF!"}},{"$f":"IF($B$8<5,$V$89,\"\")","v":0},null,14,0.13,0.13999999999999999]
["CALCUL DE L'EFFICACITÉ DE CHAUFFE : 100%-perte fumée - perte radiation",null,null,null,null,null,null,null,null,null,null,null,null,null,null,null,null,null,{"$f":"T18*$P$5*1000000","v":1465.35},5,{"$f":"V18/($B$10/T18)","v":{"$error":"#DIV/0!"}},2.5999999999999999E-2,null,15,0.14000000000000001,0.15]
["1. Perte par les fumée",{"$f":"IF('Mise en forme- input'!C13=FALSE,Bilan_4!B19,1-'Entrée de données'!F87)","v":0.17243290039051917},null,null,null,null,null,null,null,null,null,null,null,null,null,null,null,null,{"$f":"T19*$P$5*1000000","v":2930.7},10,{"$error":"#DIV/0!"},1.6E-2,null,16,0.15,0.16]
["2. Perte par radiation:",null,null,null,null,null,null,null,null,null,null,null,null,null,null,null,null,null,5861.4,20,{"$error":"#DIV/0!"},1.0500000000000001E-2,null,17,0.16,0.17]
["Pertes par radiation et convection",null,null,"Interpolation des pertes par radiation et convection",null,null,null,"Puissance (millions Btuh)","Pertes à 100%",null,null,null,null,null,null,null,null,null,8792.0999999999985,30,{"$error":"#DIV/0!"},8.3999999999999995E-3,null,18,0.17,0.18000000000000002]
["Pertes calculées pour une chaudière de ",{"$f":"IF(B8<T18,T17,B8)","v":0},"millions Btu/h","Puissance en dessous",null,null,null,{"$f":"IF(B8<5,B8,LOOKUP(B8,T18:T42))","v":0},{"$f":"ROUND(IF(H22<5,V17, VLOOKUP(H24,T18:V42,3,TRUE)),4)","v":0},null,null,null,null,null,null,null,null,null,11722.8,40,{"$error":"#DIV/0!"},7.3000000000000001E-3,null,19,0.18,0.19000000000000003]
[null,{"$f":"I24/(B9/B7)","v":{"$error":"#DIV/0!"}},null,"Puissance au dessus",null,null,null,{"$f":"IF(B8<T18,B8,INDEX(T18:T42,RANK(LOOKUP(B8,T18:T42),T18:T42,1)+1))","v":0},{"$f":"ROUND(IF(H23<5,V17, VLOOKUP(H23,T18:V42,3,TRUE)),4)","v":0},null,null,null,null,null,null,null,null,null,14653.5,50,{"$error":"#DIV/0!"},6.6E-3,null,20,0.19,0.20000000000000004]
[null,null,null,"Valeur pour interpolation",null,null,null,{"$f":"B8","v":0},{"$f":"ROUND(IF(H22=H23,AVERAGE(I22,I23),FORECAST(H24,I22:I23,H22:H23)),4)","v":0},null,null,null,null,null,null,null,null,null,17584.199999999997,60,{"$error":"#DIV/0!"},6.1999999999999998E-3,null,21,0.2,0.21000000000000005]
[null,null,null,null,null,null,null,null,null,null,null,null,null,null,null,null,null,null,20514.899999999998,70,{"$error":"#DIV/0!"},5.8999999999999999E-3,null,22,0.21,0.22000000000000006]
["Efficacité de chauffe",{"$f":"IF('Mise en forme- input'!C13=FALSE,Bilan_4!B26,'Entrée de données'!F87-B23)","v":{"$error":"#DIV/0!"}},"Nouvelle valeur: efficacité données par le particpant - % perte par radiation",null,null,null,null,null,null,null,null,null,null,null,null,null,null,null,23445.599999999999,80,{"$error":"#DIV/0!"},5.5999999999999999E-3,null,23,0.22,0.23000000000000007]
[null,null,null,null,null,null,null,null,null,null,null,null,null,null,null,null,null,null,26376.3,90,{"$error":"#DIV/0!"},5.4000000000000003E-3,null,24,0.23,0.24000000000000007]
["INPUT",null,null,null,null,null,null,null,null,null,null,null,null,null,null,null,null,null,29307,100,{"$error":"#DIV/0!"},5.1999999999999998E-3,null,25,0.24,0.25000000000000006]
["Puissance du brûleur en opération ",{"$f":"B30*1000000*P5","v":{"$error":"#DIV/0!"}},"kW","Convertion de B30 en kw",null,null,null,null,null,null,null,null,null,null,null,null,null,null,35168.399999999994,120,{"$error":"#DIV/0!"},4.7999999999999996E-3,null,26,0.25,0.26000000000000006]
["Puissance du brûleur en opération ",{"$f":"B10/B26","v":{"$error":"#DIV/0!"}},"millions Btu/h","Puissance moyenne production vapeur / efficacité",null,null,null,null,null,null,null,null,null,null,null,null,null,null,41029.799999999996,140,{"$error":"#DIV/0!"},4.4999999999999997E-3,null,27,0.26,0.27000000000000007]
["Volume de gaz naturel alimenté ",{"$f":"ROUND(B29/(J36*1000)*3600,2)","v":{"$error":"#DIV/0!"}},"m3/h","Convertion de la puissance en opération du bruleur de kw en m3 de gaz",null,null,null,null,null,null,null,null,null,null,null,null,null,null,46891.199999999997,160,{"$error":"#DIV/0!"},4.3E-3,null,28,0.27,0.28000000000000008]
["Nombre de moles totales pour le volume de gaz",{"$f":"ROUND(B31/(8.31451*(273.15+'Entrée de données'!F37)/101325),1)","v":{"$error":"#DIV/0!"}},"mol/h","PV=nRT => n=PV/RT",null,null,null,null,null,null,null,null,null,null,null,null,null,null,52752.6,180,{"$error":"#DIV/0!"},4.0000000000000001E-3,null,29,0.28000000000000003,0.29000000000000009]
[null,null,null,null,null,null,null,null,null,null,null,null,null,null,null,null,null,null,58614,200,{"$error":"#DIV/0!"},3.8E-3,null,30,0.28999999999999998,0.3000000000000001]
["Quantité de fumées produites",null,null,null,null,null,null,null,null,null,null,null,null,null,null,null,null,null,87921,300,{"$error":"#DIV/0!"},3.3999999999999998E-3,null,31,0.3,0.31000000000000011]
[null,"masse molaire (g/mol)","mol","masse(lb/h)","masse (kg/h)",null,"Masse d'hydrogène dans une livre de combustible (lb/lb)",null,null,{"$f":"Comb_4!Q50","v":0.23688428965217811},null,null,null,null,null,null,null,null,117228,400,{"$error":"#DIV/0!"},3.0000000000000001E-3,null,32,0.31,0.32000000000000012]
["CO2",{"$f":"Comb_4!C12","v":44.011000000000003},{"$f":"IF('Mise en forme- input'!C13=FALSE,Comb_4!L82*B32,'Comb_4 (micro)'!L82*B32)","v":{"$error":"#DIV/0!"}},{"$f":"ROUND(C36*B36/($P$9*1000),1)","v":{"$error":"#DIV/0!"}},{"$f":"ROUND(C36*B36/1000,1)","v":{"$error":"#DIV/0!"}},null,"1m3 gaz naturel (MJ)",null,null,37.89,null,null,null,null,null,null,null,null,146535,500,{"$error":"#DIV/0!"},2.8E-3,null,33,0.32,0.33000000000000013]
["H2O",{"$f":"Comb_4!C14","v":18.015000000000001},{"$f":"IF('Mise en forme- input'!C13=FALSE,Comb_4!L86*B32,'Comb_4 (micro)'!L86*B32)","v":{"$error":"#DIV/0!"}},{"$f":"ROUND(C37*B37/($P$9*1000),1)","v":{"$error":"#DIV/0!"}},{"$f":"ROUND(C37*B37/1000,1)","v":{"$error":"#DIV/0!"}},null,"1m3 gaz naturel (btu)",null,null,{"$f":"J36*P8","v":35914.691943127968},null,null,null,null,null,null,null,null,293070,1000,{"$error":"#DIV/0!"},2.3E-3,null,34,0.33,0.34000000000000014]
["O2",{"$f":"Comb_4!C10","v":32},{"$f":"IF('Mise en forme- input'!C13=FALSE,Comb_4!L84*B32,'Comb_4 (micro)'!L84*B32)","v":{"$error":"#DIV/0!"}},{"$error":"#DIV/0!"},{"$f":"ROUND(C38*B38/1000,1)","v":{"$error":"#DIV/0!"}},null,null,null,null,null,null,null,null,null,null,null,null,null,586140,2000,{"$error":"#DIV/0!"},1.9499999999999999E-3,null,35,0.34,0.35000000000000014]
["N2",{"$f":"Comb_4!C26","v":28.013000000000002},{"$f":"IF('Mise en forme- input'!C13=FALSE,Comb_4!L81*B32,'Comb_4 (micro)'!L81*B32)","v":{"$error":"#DIV/0!"}},{"$error":"#DIV/0!"},{"$f":"ROUND(C39*B39/1000,1)","v":{"$error":"#DIV/0!"}},null,null,null,null,null,null,null,null,null,null,null,null,null,1172280,4000,{"$error":"#DIV/0!"},1.75E-3,null,36,0.35,0.36000000000000015]
["Total (humide)",null,{"$f":"SUM(C36:C39)","v":{"$error":"#DIV/0!"}},{"$f":"SUM(D36:D39)","v":{"$error":"#DIV/0!"}},{"$f":"SUM(E36:E39)","v":{"$error":"#DIV/0!"}},null,null,null,null,null,null,null,null,null,null,null,null,null,1758419.9999999998,6000,{"$error":"#DIV/0!"},1.6000000000000001E-3,null,37,0.36,0.37000000000000016]
["Total (sec)",null,{"$f":"SUM(C36,C38:C39)","v":{"$error":"#DIV/0!"}},{"$f":"D40-D37","v":{"$error":"#DIV/0!"}},{"$f":"SUM(E36,E38:E39)","v":{"$error":"#DIV/0!"}},null,null,null,null,null,null,null,null,null,null,null,null,null,2930700,10000,{"$error":"#DIV/0!"},1.5E-3,null,38,0.37,0.38000000000000017]
[null,null,null,null,null,null,null,null,null,null,null,null,null,null,null,null,null,null,5861400,20000,{"$error":"#DIV/0!"},1.5E-3,null,39,0.38,0.39000000000000018]
["CONDENSAT",null,null,null,null,null,null,null,null,null,null,null,null,null,null,null,null,null,null,null,null,null,null,40,0.39,0.40000000000000019]
["Enthalpie de l'eau d'appoint (kJ/kg)",{"$f":"ROUND(4.18*(B16),3)","v":0},"kJ/kg","Cp*DT",null,null,null,null,null,null,null,null,null,null,null,null,null,null,null,null,null,null,null,41,0.4,0.4100000000000002]
["Température du condensat (°C)",{"$f":"IF(('Entrée de données'!F49=2),\"0\",('Entrée de données'!F51))","v":100},"°C  ","Donnée d'entrée",null,null,null,null,null,null,null,null,null,null,null,null,null,null,null,null,null,null,null,42,0.41,0.42000000000000021]
["Enthalpie du condensat (kJ/kg)",{"$f":"IF('Entrée de données'!F49=2,\"0\",4.18*(B45))","v":418},"kJ/kg ","Cp*DT",null,null,null,null,null,null,null,null,null,null,null,null,null,null,null,null,null,null,null,43,0.42,0.43000000000000022]
["% de condensat",{"$f":"IF('Entrée de données'!F49=1,'Entrée de données'!F50,0)","v":0},null,"Donnée d'entrée",null,null,null,null,null,null,null,null,null,null,null,null,null,null,null,null,null,null,null,44,0.43,0.44000000000000022]
["T°de l'eau alimentée à la chaudière (°C)",{"$f":"IF(AND('Mise en forme- input'!C19=TRUE,'Économiseurs 1 à 4 '!E7=1),'Économiseurs 1 à 4 '!E52,IF('Entrée de données'!F49=1,(B47*B45+(1-B47)*B16),B16))","v":0},"°C ","si retour de condensat: [% condensat * T° du condensat] + [(1-% condensat) * T°de l'eau d'appoint]. Sinon, c'est égale à la T° d'eau d'appoint",null,null,null,null,null,null,null,null,null,null,null,null,null,null,null,null,null,null,null,45,0.44,0.45000000000000023]
[null,null,null,null,null,null,null,null,null,null,null,null,null,null,null,null,null,null,null,null,null,null,null,46,0.45,0.46000000000000024]
[null,null,null,"Interpolation des enthalpies",null,null,null,null,"Pression (kPa)","Liquide saturé (kJ/kg)","Enthalpie de vaporisation  (kJ/kg)","Vapeur saturée (kJ/kg)",null,null,null,null,null,null,null,null,null,null,null,47,0.46,0.47000000000000025]
[null,null,null,"Pression en dessous de la valeur entrée par l'utilisateur",null,null,null,null,{"$f":"LOOKUP(B56,'Données vapeur'!A5:A60)","v":-1.325},{"$f":"VLOOKUP(I51,'Données vapeur'!A5:E60,3,FALSE)","v":417.46},{"$f":"VLOOKUP(I51,'Données vapeur'!A5:E60,4,FALSE)","v":2258},{"$f":"VLOOKUP(I51,'Données vapeur'!A5:E60,5,FALSE)","v":2675.46},null,null,null,null,null,null,null,null,null,null,null,48,0.47,0.48000000000000026]
[null,null,null,"Pression au dessus de la valeur entrée par l'utilisateur",null,null,null,null,{"$f":"IF((I51-B56)=0,B56,INDEX('Données vapeur'!A5:A60,RANK(LOOKUP('Bilan_4 EE'!B56,'Données vapeur'!A5:A60),'Données vapeur'!A5:A60,1)+1))","v":23.675000000000001},{"$f":"VLOOKUP(I52,'Données vapeur'!A5:E60,3,FALSE)","v":444.32},{"$f":"VLOOKUP(I52,'Données vapeur'!A5:E60,4,FALSE)","v":2241},{"$f":"VLOOKUP(I52,'Données vapeur'!A5:E60,5,FALSE)","v":2685.32},null,null,null,null,null,null,null,null,null,null,null,49,0.48,0.49000000000000027]
[null,null,null,"Valeur pour interpolation",null,null,null,null,{"$f":"B56","v":0},{"$f":"IF(I51=I52,J51,FORECAST(I53,J51:J52,I51:I52))","v":418.88357999999999},{"$f":"IF(I51=I52,K51,FORECAST(I53,K51:K52,I51:I52))","v":2257.0990000000002},{"$f":"IF(I51=I52,L51,FORECAST(I53,L51:L52,I51:I52))","v":2675.9825800000003},null,null,null,null,null,null,null,null,null,null,null,50,0.49,0.50000000000000022]
["ENTHALPIE",null,null,null,null,null,null,null,null,null,null,null,null,null,null,null,null,null,null,null,null,null,null,51,0.5,0.51000000000000023]
["Enthalpie de l'eau alimentée à la chaudière (kJ/kg)",{"$f":"ROUND(IF('Entrée de données'!F49=1,(B47*B46+(1-B47)*B44),B44),3)","v":0},"kJ/kg"," si retour de condensat:  [% condensat * DH du condensat] + [(1-% condensat) * DH de l'eau d'appoint]. \nSinon, c'est égale à la DH d'eau d'appoint",null,null,null,null,null,null,null,null,null,null,null,null,null,null,null,null,null,null,null,52,0.51,0.52000000000000024]
["Pression de la vapeur produite (kPa)",{"$f":"'Entrée de données'!C43","v":0},"kPa","Donnée d'entrée",null,null,null,null,"Interpolation de l'enthalpie surchauffée",null,null,null,"Pression (kPa) Données saturées","Vapeur surchauffée (kJ/kg)",null,null,null,null,null,null,null,null,null,53,0.52,0.53000000000000025]
["Degré de surchauffe",{"$f":"IF('Entrée de données'!F44=\"Non nécessaire\",0,'Entrée de données'!F45)","v":0},"°C",null,null,null,null,null,"Pression en dessous de la valeur entrée par l'utilisateur",null,null,null,{"$f":"LOOKUP(B56,'Données vapeur'!$H$6:$H$31)","v":-1.325},{"$f":"VLOOKUP(M57,'Données vapeur'!$H$6:$M$33,3,FALSE)","v":2679.1811850700001}]
["Enthalpie de la vapeur saturée/surchauffée (kJ/kg)",{"$f":"IF(B57=0,L53,N59)","v":2675.9825800000003},"kJ/kg","Recherche de h en fonction de la pression",null,null,null,null,"Pression au dessus de la valeur entrée par l'utilisateur",null,null,null,{"$f":"IF((M57-B56)=0,B56,INDEX('Données vapeur'!$H$6:$H$31,RANK(LOOKUP(B56,'Données vapeur'!$H$6:$H$31),'Données vapeur'!$H$6:$H$31,1)+1))","v":98.674999999999997},{"$f":"VLOOKUP(M58,'Données vapeur'!$H$6:$M$33,3,FALSE)","v":2713.0964198699999},null,null,null,null,null,null,null,null,null,{"$f":"X56+1","v":54},0.53,{"$f":"Z56+0.01","v":0.54000000000000026}]
["Enthalpie de l'eau saturée (purge) (kJ/kg)",{"$f":"J53","v":418.88357999999999},"kJ/kg",null,null,null,null,null,"Valeur pour interpolation",null,null,null,{"$f":"B56","v":0},{"$f":"IF(M57=M58,N57,FORECAST(M59,N57:N58,M57:M58))","v":2679.6305619311001},null,null,null,null,null,null,null,null,null,55,0.54,0.55000000000000027]
["Enthalpie de vaporisation (kJ/kg)",{"$f":"K53","v":2257.0990000000002},"kJ/kg",null,null,null,null,null,null,null,null,null,null,null,null,null,null,null,null,null,null,null,null,56,0.55000000000000004,0.56000000000000028]
["Purge - % de l'eau alimentée à la chaudière",{"$f":"IF('Mise en forme- input'!C26=TRUE,'Entrée de données'!F100,('Entrée de données'!F52-1)/100)","v":0},null,"Donnée d'entrée",null,null,null,null,null,null,null,null,null,null,null,null,null,null,null,null,null,null,null,57,0.56000000000000005,0.57000000000000028]
[null,null,null,null,null,null,null,null,null,null,null,null,null,null,null,null,null,null,null,null,null,null,null,58,0.56999999999999995,0.58000000000000029]
[null,null,null,null,null,null,null,null,null,null,null,null,null,null,null,null,null,null,null,null,null,null,null,59,0.57999999999999996,0.5900000000000003]
[null,null,null,null,null,null,null,null,null,null,null,null,null,null,null,null,null,null,null,null,null,null,null,60,0.59,0.60000000000000031]
["Production de vapeur",null,null,null,null,null,null,null,null,null,null,null,null,null,null,null,null,null,null,null,null,null,null,61,0.6,0.61000000000000032]
["Eau alimentée à la chaudière",null,null,null,null,null,null,null,null,null,null,null,null,null,null,null,null,null,null,null,null,null,null,62,0.61,0.62000000000000033]
["Quantité d'eau alimentée (lb/h)",{"$f":"ROUND(B68/P9,2)","v":0},"Convertion de la ligne du dessous de kg en lb",null,null,null,null,null,null,null,null,null,null,null,null,null,null,null,null,null,null,null,null,63,0.62,0.63000000000000034]
["Quantité d'eau alimentée (kg/h)",{"$f":"B87/(1-B61)","v":0},null,null,null,null,null,null,null,null,null,null,null,null,null,null,null,null,null,null,null,null,null,64,0.63,0.64000000000000035]
["Eau d'appoint (lb/h)",{"$f":"B67*(1-B47)","v":0}," = eau_alimenté*(1-%condensat)",null,null,null,null,null,null,null,null,null,null,null,null,null,null,null,null,null,null,null,null,65,0.64,0.65000000000000036]
["Eau d'appoint (kg/h)",{"$f":"B68*(1-B47)","v":0},"Convertion",null,null,null,null,null,null,null,null,null,null,null,null,null,null,null,null,null,null,null,null,66,0.65,{"$f":"Z69+0.01","v":0.66000000000000036}]
["Retour de condensat (lb/h)",{"$f":"B67*B47","v":0}," = eau_alimenté * % condensat",null,null,null,null,null,null,null,null,null,null,null,null,null,null,null,null,null,null,null,null,67,0.66,0.67000000000000037]
["Retour de condensat (kg/h)",{"$f":"B68*B47","v":0},"Convertion",null,null,null,null,null,null,null,null,null,null,null,null,null,null,null,null,null,null,null,null,{"$f":"X71+1","v":68},0.67,0.68000000000000038]
["Énergie dans l'eau alimentée (Btu/h)",{"$f":"ROUND(B74*P4,0)","v":0},"Convertion de la ligne du dessous de kW en Btu/h",null,null,null,null,null,null,null,null,null,null,null,null,null,null,null,null,null,null,null,null,{"$f":"X72+1","v":69},0.68,0.69000000000000039]
["Énergie dans l'eau alimentée (kW)",{"$f":"ROUND(B68*B55/3600,0)","v":0},"masse d'eau alimenté *  entalpie de l'eau alimenté ",null,null,null,null,null,null,null,null,null,null,null,null,null,null,null,null,null,null,null,null,70,0.69,0.7000000000000004]
["PURGE",null,null,null,null,null,null,null,null,null,null,null,null,null,null,null,null,null,null,null,null,null,null,71,0.7,0.71000000000000041]
["Quantité d'eau prélevée (lb/h)",{"$f":"ROUND(B67*B61,2)","v":0},"eau alimenté *%purge",null,null,null,null,null,null,null,null,null,null,null,null,null,null,null,null,null,null,null,null,72,0.71,0.72000000000000042]
["Quantité d'eau (kg/h)",{"$f":"ROUND(B76*P9,2)","v":0},"Convertion",null,null,null,null,null,null,null,null,null,null,null,null,null,null,null,null,null,null,null,null,73,0.72,0.73000000000000043]
["Énergie perdue dans la purge (Btu/h)",{"$f":"ROUND(B79*P4,2)","v":0},"Convertion de la ligne du dessous de kW en Btu/h",null,null,null,null,null,null,null,null,null,null,null,null,null,null,null,null,null,null,null,null,74,0.73,0.74000000000000044]
["Énergie perdue dans la purge (kW)",{"$f":"ROUND(B77*(B59)/3600,2)","v":0},"m_eau_purge * entalpie de l'eau de la purge (soit l'enthalpie de l'eau saturée)",null,null,null,null,null,null,null,null,null,null,null,null,null,null,null,null,null,null,null,null,75,0.74,0.75000000000000044]
["Potentiel de récupération (Btu/h)",{"$f":"B78*0.9","v":0},"énergie perdue dans la purge * 90% de récupé",null,null,null,null,"90% de récupération",null,null,null,null,null,null,null,null,null,null,null,null,null,null,null,76,0.75,0.76000000000000045]
["Potentiel de récupération (KW)",{"$f":"B79*0.9","v":0},"Convertion",null,null,null,null,null,null,null,null,null,null,null,null,null,null,null,null,null,null,null,null,77,0.76,0.77000000000000046]
["% de l'énergie alimentée à la chaudière",{"$f":"ROUND(B78/(B30*1000000),4)","v":{"$error":"#DIV/0!"}},"Énergie perdue par la purge / puissance d'opération bruleur",null,null,null,null,"Équation 3.21.1 - Spirax Sarco",null,null,null,null,null,null,null,null,null,null,null,null,null,null,null,78,0.77,0.78000000000000047]
["Vapeur utile",null,null,null,null,null,null,null,null,null,null,null,null,null,null,null,null,null,null,null,null,null,null,79,0.78,0.79000000000000048]
["Quantité produite - incluant évent dégazeur(lb/h)",{"$f":"ROUND(B67-B76,2)","v":0},"quantité d'eau alimenté - quantité d'eau prélevé (soit le % de purge)",null,null,null,null,null,null,null,null,null,null,null,null,null,null,null,null,null,null,null,null,80,0.79,0.80000000000000049]
["Quantité produite - incluant évent dégazeur(kg/h)",{"$f":"ROUND(B68-B77,2)","v":0},"Convertion",null,null,null,null,null,null,null,null,null,null,null,null,null,null,null,null,null,null,null,null,81,0.8,0.8100000000000005]
["Quantité disponible pour les utilisateurs (lb/h)",{"$f":"Bilan_4!B86","v":0},"Les quantités perdues à l'évent du désaérateur sont soustraites",null,null,null,"Valeur qui restera fixe pour tout le calculateur",null,null,null,null,null,null,null,null,null,null,null,null,null,null,null,null,82,0.81,0.82000000000000051]
["Quantité disponible pour les utilisateurs (kg/h)",{"$f":"Bilan_4!B87","v":0},"Convertion",null,null,null,"Valeur qui restera fixe pour tout le calculateur",null,null,null,null,null,null,null,null,null,null,null,null,null,null,null,null,83,0.82,0.83000000000000052]
["Énergie dans la vapeur utile (Btu/h)",{"$f":"Bilan_4!B88","v":0},"Convertion de la ligne du dessous de kW en Btu/h",null,null,null,"Valeur qui restera fixe pour tout le calculateur",null,null,null,null,null,null,null,null,null,null,null,null,null,null,null,null,84,0.83,0.84000000000000052]
["Énergie dans la vapeur utile (kW)",{"$f":"Bilan_4!B89","v":0},"valeur fixe qui doit tjs resté idem peut importe la mesure",null,null,null,"Valeur qui restera fixe pour tout le calculateur",null,null,null,null,null,null,null,null,null,null,null,null,null,null,null,null,85,0.84,0.85000000000000053]
[]
["DÉGAZEUR",null,null,null,null,null,null,null,null,null,null,null,null,null,null,null,null,null,null,null,null,null,null,{"$f":"X89+1","v":86},0.85,{"$f":"Z89+0.01","v":0.86000000000000054}]
["Pression d'opération du dégazeur (kPa)",{"$f":"('Entrée de données'!C56+14.73)*101.235/14.696","v":101.46921271094176},null,null,null,null,null,null,null,null,null,null,null,null,null,null,null,null,null,null,null,null,null,87,0.86,0.87000000000000055]
["Enthalpie de l'eau a la pression du dégazeur (kJ/kg)",{"$f":"T96","v":506.49053150517148},null,null,null,null,null,null,null,null,null,null,null,"Interpolation des enthalpies",null,null,null,null,"Pression (kPa)","Liquide saturé (kJ/kg)","Enthalpie de vaporisation  (kJ/kg)","Vapeur saturée (kJ/kg)",null,88,0.87,0.88000000000000056]
["Besoins en vapeur pour le dégazeur  (lb/h)",{"$f":"ROUND(B95*P10,2)","v":0},"Convertion de la ligne du dessous de kg en lb",null,null,null,"Inclus les pertes par l'évent",null,null,null,null,null,null,"Pression en dessous de la valeur entrée par l'utilisateur",null,null,null,null,{"$f":"LOOKUP(B92,'Données vapeur'!A5:A60)","v":98.674999999999997},{"$f":"VLOOKUP(S94,'Données vapeur'!$A$5:$E$60,3,FALSE)","v":504.7},{"$f":"VLOOKUP(S94,'Données vapeur'!$A$5:$E$60,4,FALSE)","v":2201.9},{"$f":"VLOOKUP(S94,'Données vapeur'!$A$5:$E$60,5,FALSE)","v":2706.6},null,89,0.88,0.89000000000000057]
["Besoins en vapeur pour le dégazeur  (kg/h)",{"$f":"ROUND(IF('Entrée de données'!C55=2,0,B68*((B93-B55)/(B58-B93))),2)","v":0},null,null,null,null,"Inclus les pertes par l'évent",null,null,null,null,null,null,"Pression au dessus de la valeur entrée par l'utilisateur",null,null,null,null,{"$f":"IF((S94-B92)=0,B92,INDEX('Données vapeur'!A5:A60,RANK(LOOKUP('Bilan_4 EE'!B92,'Données vapeur'!A5:A60),'Données vapeur'!A5:A60,1)+1))","v":123.675},{"$f":"VLOOKUP(S95,'Données vapeur'!$A$5:$E$60,3,FALSE)","v":520.72},{"$f":"VLOOKUP(S95,'Données vapeur'!$A$5:$E$60,4,FALSE)","v":2191.3000000000002},{"$f":"VLOOKUP(S95,'Données vapeur'!$A$5:$E$60,5,FALSE)","v":2712.0200000000004},null,90,0.89,0.90000000000000058]
["% Pertes par l'évent (% de la vapeur alimentée)",9.5000000000000001E-2,"Moyenne des données de l'USDOE",null,null,null,null,null,null,null,null,null,null,"Valeur pour interpolation",null,null,null,null,{"$f":"B92","v":101.46921271094176},{"$f":"IF(S94=S95,T94,FORECAST(S96,T94:T95,S94:S95))","v":506.49053150517148},{"$f":"IF(S94=S95,U94,FORECAST(S96,U94:U95,S94:S95))","v":2200.7152538105606},{"$f":"IF(S94=S95,V94,FORECAST(S96,V94:V95,S94:S95))","v":2707.2057853157321},null,91,0.9,0.91000000000000059]
[null,null,null,null,null,null,null,null,null,null,null,null,null,null,null,null,null,null,null,null,null,null,null,92,0.91,0.9200000000000006]
["Vapeur totale au dégazeur (lb/h)",{"$f":"ROUND(B99*P10,2)","v":0},"Convertion",null,null,null,null,null,null,null,null,null,null,null,null,null,null,null,null,null,null,null,null,93,0.92,0.9300000000000006]
["Vapeur totale au dégazeur (kg/h)",{"$f":"B95/(1-B96)","v":0},"besoin de vap au degazeur / (1-% perte par event)",null,null,null,"quantité de vapeur qui reste",null,null,null,null,null,null,null,null,null,null,null,null,null,null,null,null,94,0.93,0.94000000000000061]
["Pertes de vapeur par l'évent (lb/h)",{"$f":"B101*P10","v":0},"Convertion",null,null,null,null,null,null,null,null,null,null,null,null,null,null,null,null,null,null,null,null,95,0.94,0.95000000000000062]
["Pertes de vapeur par l'évent (kg/h)",{"$f":"ROUND(B99-B95,2)","v":0},"vapeur total au dégazeur - besoin en vap pour le dégazeur",null,null,null,"quantité de vapeur qui s'échappe de dégazeur",null,null,null,null,null,null,null,null,null,null,null,null,null,null,null,null,96,0.95,0.96000000000000063]
["Pertes de vapeur par l'évent (%)",{"$f":"(B101*B58/3600)/B29","v":{"$error":"#DIV/0!"}},"Énergie perdue par event / puissance du bruleur en op  = masse de vapeur perdue par l'évent * hv,sat / puissance du bruleur en op",null,null,null,null,null,null,null,null,null,null,null,null,null,null,null,null,null,null,null,null,97,0.96,0.97000000000000064]
["Besoins en vapeur du dégazeur en % de la vapeur produite",{"$f":"B95/B85","v":{"$error":"#DIV/0!"}},"Besoin en vap / quantité de vapeur utile produite",null,null,null,null,null,null,null,null,null,null,null,null,null,null,null,null,null,null,null,null,98,0.97,0.98000000000000065]
[null,null,null,null,null,null,null,null,null,null,null,null,null,null,null,null,null,null,null,null,null,null,null,99,0.98,0.99000000000000066]
["Apport total en vapeur de la chaudière 2 (lb/h)",{"$f":"ROUND(B106*P10,2)","v":0},null,null,null,null,null,null,null,null,null,null,null,null,null,null,null,null,null,null,null,null,null,100,0.99,1.0000000000000007]
["Apport total en vapeur de la chaudière 2 (kg/h)",{"$f":"IF('Entrée de données'!C55=2,0,IF('Entrée de données'!F21=4,'Bilan_1 EE'!Q115,0))","v":0}]
["Perte de vapeur par l'évent pour la chaudière 2 (lb/h)",{"$f":"B105*B96","v":0},null,"9,5% de pertes"]
["Perte de vapeur par l'évent pour la chaudière 2 (kg/h)",{"$f":"B106*B96","v":0},null,"9,5% de pertes"]
["Pertes de vapeur par l'évent pour la chaudière 2 (%)",{"$f":"(B108*B58/3600)/B29","v":{"$error":"#DIV/0!"}},"Énergie perdue par event / puissance du bruleur en op  = masse de vapeur perdue par l'évent * hv,sat / puissance du bruleur en op"]
["Besoins en vapeur du dégazeur en % de la vapeur produite pour la chaudière 2",{"$f":"B106/B85","v":{"$error":"#DIV/0!"}},"Besoin en vap / quantité de vapeur utile produite"]
["Énergie contenue dans l'évent du dégazeur(kW)",{"$f":"2326*B108/3600","v":0}]
["Vapeur disponible pour les utilisateurs"]
["Quantité de vapeur disponible (lb/h)",{"$f":"B86","v":0}]
["Quantité de vapeur disponible (kg/h)",{"$f":"B87","v":0},null,"exclus les pertes par l'évent"]
[]
[]
[]
["Efficacité de génération de vapeur utile",{"$f":"ROUND((B114/3600)*(B58-B55)/B29,5)","v":{"$error":"#DIV/0!"}}]
["Consommation de gaz naturel par kg/h de vapeur, en m3/(kg/h)",{"$f":"ROUND(B31/B114,5)","v":{"$error":"#DIV/0!"}},"m3 de gaz alimenté / masse de vapeur utile produite"]
[]
[]
[]
[null,null,null,"Efficacité = énergie dispo dans vapeur / puissance du bruleur en oper"]
[null,null,null,"Efficacité = masse vapeur dispo * DH / puissance du bruleur en oper"]
[null,null,null,"Efficacité = masse vapeur dispo * (hV,sat - hL) / puissance du bruleur en oper"]

{"sheet":"Données vapeur","index":33,"n_rows":60,"n_cols":13,"rows_kept":60,"cut":false,"hidden":true,"merged":[[2,2,2,4],[1,2,1,4],[1,7,1,8]]}
["Données vapeur",null,null,null,null,null,null,"Conversion: 1 kJ/kg = 0,42993 Btu/lb"]
["Source: Van Wylen et al.",null,"Vapeur saturée",null,null,null,null,"Vapeur surchauffée",null,"Chaudière 1","Chaudière 2","Chaudière 3","Chaudière 4"]
[null,null,"Enthalpie (kJ/kg)",null,null,null,null,"Degré de surchauffe (°C)",null,{"$f":"'Entrée de données'!C45","v":0},{"$f":"'Entrée de données'!D45","v":0},{"$f":"'Entrée de données'!E45","v":0},{"$f":"'Entrée de données'!F45","v":0}]
["Pression relative - kPa","T° saturation","Liquide sat (hf)","Évaporation (hgf)","Vapeur sat (hg)"]
[-1.325,99.63,417.46,2258,2675.46,null,null,"Pression relative (kPa)","Tsat (°C)","H at T°surch","H at T°surch","H at T°surch","H at T°surch"]
[23.675000000000001,105.99,444.32,2241,2685.32,null,null,-1.325,99.63,{"$f":"0.0003*($I$6+J3)^2+1.8288*($I$6+J3)+2494","v":2679.1811850700001},{"$f":"0.0003*($I$6+K3)^2+1.8288*($I$6+K3)+2494","v":2679.1811850700001},2679.1811850700001,2679.1811850700001]
[48.674999999999997,111.37,467.11,2226.5,2693.61,null,null,98.674999999999997,120.23,{"$f":"0.0003*($I$7+J3)^2 + 1.8428*($I$7+J3) + 2487.2","v":2713.0964198699999},{"$f":"0.0003*($I$7+K3)^2 + 1.8428*($I$7+K3) + 2487.2","v":2713.0964198699999},2713.0964198699999,2713.0964198699999]
[73.674999999999997,116.06,486.99,2213.6,2700.59,null,null,198.67500000000001,133.55000000000001,{"$f":"2.2725*($I$8+J3) + 2383.6","v":2687.0923750000002},{"$f":"2.2725*($I$8+K3) + 2383.6","v":2687.0923750000002},2687.0923750000002,2687.0923750000002]
[98.674999999999997,120.23,504.7,2201.9,2706.6,null,null,298.67500000000001,143.63,{"$f":"2.2785*($I$9+J3) + 2377.5","v":2704.7609550000002},{"$f":"2.2785*($I$9+K3) + 2377.5","v":2704.7609550000002},2704.7609550000002,2704.7609550000002]
[123.675,124,520.72,2191.3000000000002,2712.0200000000004,null,null,398.67500000000001,151.86000000000001,{"$f":"2.2922*($I$10+J3) + 2364.21","v":2712.303492},{"$f":"2.2922*($I$10+K3) + 2364.21","v":2712.303492},2712.303492,2712.303492]
[148.67500000000001,127.44,535.37,2181.5,2716.87,null,null,498.67500000000001,158.85,{"$f":"2.2968*($I$11+J3) + 2359.4","v":2724.2466800000002},{"$f":"2.2968*($I$11+K3) + 2359.4","v":2724.2466800000002},2724.2466800000002,2724.2466800000002]
[173.67500000000001,130.6,548.89,2172.4,2721.29,null,null,698.67499999999995,170.43,{"$f":" 2.3056*($I$12+J3) +2350.1","v":2743.043408},{"$f":" 2.3056*($I$12+K3) +2350.1","v":2743.043408},2743.043408,2743.043408]
[198.67500000000001,133.55000000000001,561.47,2163.8000000000002,2725.2700000000004,null,null,898.67499999999995,179.91,{"$f":"2.3142*($I$13+J3) + 2341","v":2757.347722},{"$f":"2.3142*($I$13+K3) + 2341","v":2757.347722},2757.347722,2757.347722]
[223.67500000000001,136.30000000000001,573.25,2155.8000000000002,2729.05,null,null,1098.675,187.99,{"$f":"2.3273*($I$14+J3)+2327.6","v":2765.1091269999997},{"$f":"2.3273*($I$14+K3)+2327.6","v":2765.1091269999997},2765.1091269999997,2765.1091269999997]
[248.67500000000001,138.88,584.33000000000004,2148.1,2732.43,null,null,1298.675,195.07,{"$f":"2.3228*($I$15+J3)+ 2331.9","v":2785.0085960000001},{"$f":"2.3228*($I$15+K3)+ 2331.9","v":2785.0085960000001},2785.0085960000001,2785.0085960000001]
[273.67500000000001,141.32,594.80999999999995,2140.8000000000002,2735.61,null,null,1498.675,201.41,{"$f":"2.3381*($I$16+J3) + 2315.3","v":2786.2167210000002},{"$f":"2.3381*($I$16+K3) + 2315.3","v":2786.2167210000002},2786.2167210000002,2786.2167210000002]
[298.67500000000001,143.63,604.74,2133.8000000000002,2738.54,null,null,1698.675,207.15,{"$f":"2.3454*($I$17+J3) + 2307.3","v":2793.1496100000004},{"$f":"2.3454*($I$17+K3) + 2307.3","v":2793.1496100000004},2793.1496100000004,2793.1496100000004]
[348.67500000000001,147.93,623.25,2120.6999999999998,2743.95,null,null,1898.675,212.42,{"$f":"2.3541*($I$18+J3)+ 2298","v":2798.057922},{"$f":"2.3541*($I$18+K3)+ 2298","v":2798.057922},2798.057922,2798.057922]
[398.67500000000001,151.86000000000001,640.23,2108.5,2748.73,null,null,2398.6750000000002,223.99,{"$f":"2.3758*($I$19+J3)+2275.9","v":2808.0554419999999},{"$f":"2.3758*($I$19+K3)+2275.9","v":2808.0554419999999},2808.0554419999999,2808.0554419999999]
[448.67500000000001,155.47999999999999,655.93,2097,2752.93,null,null,2898.6750000000002,233.9,{"$f":"2.3903*($I$20+J3)+2258.7","v":2817.79117},{"$f":"2.3903*($I$20+K3)+2258.7","v":2817.79117},2817.79117,{"$f":"2.3903*($I$20+M3)+2258.7","v":2817.79117}]
[498.67500000000001,158.85,670.56,2086.3000000000002,2756.86,null,null,3398.6750000000002,242.6,{"$f":"0.00008*($I$21+J3)^2 +2.2841*($I$21+J3) + 2274.9","v":2833.7310408000003},{"$f":"0.00008*($I$21+K3)^2 +2.2841*($I$21+K3) + 2274.9","v":2833.7310408000003},2833.7310408000003,2833.7310408000003]
[548.67499999999995,162.01,684.28,2076,2760.2799999999997,null,null,3898.6750000000002,250.4,{"$f":"0.00007*($I$22+J3)^2 +2.3123*($I$22+J3) + 2256.3","v":2839.6889312000003},{"$f":"0.00007*($I$22+K3)^2 +2.3123*($I$22+K3) + 2256.3","v":2839.6889312000003},2839.6889312000003,2839.6889312000003]
[598.67499999999995,164.97,697.22,2066.3000000000002,2763.5200000000004,null,null,4398.6750000000002,257.49,{"$f":"4*10^-5*($I$23+J3)^2+2.3769*($I$23+J3) + 2228.2","v":2842.8800250039999},{"$f":"4*10^-5*($I$23+K3)^2+2.3769*($I$23+K3) + 2228.2","v":2842.8800250039999},2842.8800250039999,2842.8800250039999]
[648.67499999999995,167.78,709.47,2057,2766.4700000000003,null,null,4898.6750000000002,263.99,{"$f":"3*10^-7*($I$24+J3)^2+2.4548*($I$24+J3) + 2186.6","v":2834.6635592160301},{"$f":"3*10^-7*($I$24+K3)^2+2.4548*($I$24+K3) + 2186.6","v":2834.6635592160301},2834.6635592160301,2834.6635592160301]
[698.67499999999995,170.43,721.11,2048,2769.11,null,null,5898.6750000000002,275.64,{"$f":"-5*10^-5*($I$25+J3)^2 + 2.5508*($I$25+J3) + 2137.8","v":2837.1036415200001},{"$f":"-5*10^-5*($I$25+K3)^2 + 2.5508*($I$25+K3) + 2137.8","v":2837.1036415200001},2837.1036415200001,2837.1036415200001]
[748.67499999999995,172.96,732.22,2039.4,2771.62,null,null,6898.6750000000002,285.88,{"$f":"-5*10^-5*($I$26+J3)^2 + 2.568*($I$26+J3) + 2118","v":2848.0534712799999},{"$f":"-5*10^-5*($I$26+K3)^2 + 2.568*($I$26+K3) + 2118","v":2848.0534712799999},2848.0534712799999,2848.0534712799999]
[798.67499999999995,175.38,742.83,2031.1,2773.93,null,null,7898.6750000000002,295.06,{"$f":"-0.0002*($I$27+J3)^2 + 2.8524*($I$27+J3) + 1991.1","v":2815.3170632800002},{"$f":"-0.0002*($I$27+K3)^2 + 2.8524*($I$27+K3) + 1991.1","v":2815.3170632800002},2815.3170632800002,2815.3170632800002]
[848.67499999999995,177.69,753.02,2023.1,2776.12,null,null,8898.6749999999993,303.39999999999998,{"$f":"-0.0002*($I$28+J3)^2+2.9162*($I$28+J3)+1952.8","v":2819.1647679999996},{"$f":"-0.0002*($I$28+K3)^2+2.9162*($I$28+K3)+1952.8","v":2819.1647679999996},2819.1647679999996,2819.1647679999996]
[898.67499999999995,179.91,762.81,2015.3,2778.1099999999997,null,null,9898.6749999999993,311.06,{"$f":"-0.0003*($I$29+J3)^2 + 3.074*($I$29+J3) + 1875.7","v":2802.8709429199998},{"$f":"-0.0003*($I$29+K3)^2 + 3.074*($I$29+K3) + 1875.7","v":2802.8709429199998},2802.8709429199998,2802.8709429199998]
[998.67499999999995,184.09,781.34,2000.4,2781.7400000000002,null,null,12398.674999999999,327.89,{"$f":"-0.0005*($I$30+J3)^2+3.3698*($I$30+J3)+1722.7","v":2773.8677959500001},{"$f":"-0.0005*($I$30+K3)^2+3.3698*($I$30+K3)+1722.7","v":2773.8677959500001},2773.8677959500001,2773.8677959500001]
[1098.675,187.99,798.65,1986.2,2784.85,null,null,14898.674999999999,342.24,{"$f":"-0.0007*($I$31+J3)^2+3.8402*($I$31+J3)+1495.3","v":2727.5802956799998},{"$f":"-0.0007*($I$31+K3)^2+3.8402*($I$31+K3)+1495.3","v":2727.5802956799998},2727.5802956799998,2727.5802956799998]
[1198.675,191.64,814.93,1972.7,2787.63,null,null,17398.674999999999,354.75,{"$f":"0.000003*($I$32+J3)^3 -0.0071*($I$32+J3)^2 + 8.8286*($I$32+J3) +278.47","v":2650.8314246406253},{"$f":"0.000003*($I$32+K3)^3 -0.0071*($I$32+K3)^2 + 8.8286*($I$32+K3) +278.47","v":2650.8314246406253},2650.8314246406253,2650.8314246406253]
[1298.675,195.07,830.3,1959.7,2790,null,null,19898.674999999999,365.81,{"$f":"0.000003*($I$33+J3)^3-0.0092*($I$33+J3)^2+10.813*($I$33+J3)-323.93","v":2547.3122760128235},{"$f":"0.000003*($I$33+K3)^3-0.0092*($I$33+K3)^2+10.813*($I$33+K3)-323.93","v":2547.3122760128235},2547.3122760128235,2547.3122760128235]
[1398.675,198.32,844.89,1947.3,2792.19]
[1648.675,205.76,878.5,1917.9,2796.4]
[1898.675,212.42,908.79,1890.7,2799.49]
[2148.6750000000002,218.45,936.49,1865.2,2801.69]
[2398.6750000000002,223.99,962.11,1841,2803.11]
[2898.6750000000002,233.9,1008.42,1795.7,2804.12]
[3398.6750000000002,242.6,1049.75,1753.7,2803.45]
[3898.6750000000002,250.4,1087.31,1714.1,2801.41]
[4898.6750000000002,263.99,1154.23,1640.1,2794.33]
[5898.6750000000002,275.64,1213.3499999999999,1571,2784.35]
[6898.6750000000002,285.88,1267,1505.1,2772.1]
[7898.6750000000002,295.06,1316.64,1441.3,2757.94]
[8898.6749999999993,303.39999999999998,1363.26,1378.9,2742.16]
[9898.6749999999993,311.06,1407.56,1317.1,2724.66]
[10898.674999999999,318.14999999999998,1450.1,1255.5,2705.6]
[11898.674999999999,324.75,1491.3,1193.5999999999999,2684.8999999999996]
[12898.674999999999,330.93,1531.5,1130.7,2662.2]
[13898.674999999999,336.75,1571.1,1066.5,2637.6]
[14898.674999999999,342.24,1610.5,1000,2610.5]
[15898.674999999999,347.44,1650.1,930.6,2580.6999999999998]
[16898.674999999999,352.37,1690.3,856.9,2547.1999999999998]
[17898.674999999999,357.06,1732,777.1,2509.1]
[18898.674999999999,361.54,1776.5,688,2464.5]
[19898.674999999999,365.81,1826.3,583.4,2409.6999999999998]
[20898.674999999999,369.89,1888.4,446.2,2334.6]
[21898.674999999999,373.8,2022.2,143.4,2165.6]
[21988.674999999999,374.14,2099.3000000000002,0,2099.3000000000002]